Workbook
Name D1T01: ΣΤΟΙΧΕΙΑ!$B$7:$P$12
Name D1T02: ΣΤΟΙΧΕΙΑ!$D$22:$Q$34
Name D1T03: ΣΤΟΙΧΕΙΑ!$B$42:$S$47
Name D1T04: ΣΤΟΙΧΕΙΑ!$B$53:$S$83
Name D1T05: ΣΤΟΙΧΕΙΑ!$B$89:$S$127
Name D1T06: ΣΤΟΙΧΕΙΑ!$B$134:$S$150
Name D1T07: ΣΤΟΙΧΕΙΑ!$B$156:$P$163
Name D1T08: ΣΤΟΙΧΕΙΑ!$B$170:$P$174
Name D1T09: ΣΤΟΙΧΕΙΑ!$B$180:$P$192
Name D1T10: ΣΤΟΙΧΕΙΑ!$B$198:$P$202
Name D1T11: ΣΤΟΙΧΕΙΑ!$B$214:$L$228
Name D1T12: ΣΤΟΙΧΕΙΑ!$B$236:$S$243
Name D1T13: ΣΤΟΙΧΕΙΑ!$B$251:$S$256
Name D1T14: ΣΤΟΙΧΕΙΑ!$B$266:$S$273
Name D1T15: ΣΤΟΙΧΕΙΑ!$B$285:$S$292
Name D1T16: ΣΤΟΙΧΕΙΑ!$D$297:$S$305
Name D1T17: ΣΤΟΙΧΕΙΑ!$B$312:$R$327
Name D1T18: ΣΤΟΙΧΕΙΑ!$B$332:$J$377
Name D1T19: ΣΤΟΙΧΕΙΑ!$B$382:$S$428
Name D1T20: ΣΤΟΙΧΕΙΑ!$B$442:$M$485
Name D1T21: ΣΤΟΙΧΕΙΑ!$B$495:$S$499
Name D1T22: ΣΤΟΙΧΕΙΑ!$B$511:$S$528
Name D1T23: ΣΤΟΙΧΕΙΑ!$B$537:$R$548
Name D1T24: ΣΤΟΙΧΕΙΑ!$D$562:$K$587
Name D1T25: ΣΤΟΙΧΕΙΑ!$B$596:$L$600

Sheet ΠΡΟΛΟΓΟΣ
B1: ΚΥΠΡΙΑΚΗ ΔΗΜΟΚΡΑΤΙΑ
B2: ΥΠΟΥΡΓΕΙΟ ΠΑΙΔΕΙΑΣ | E2: ΔΙΕΥΘΥΝΣΗ
B3: ΑΘΛΗΤΙΣΜΟΥ ΚΑΙ ΝΕΟΛΑΙΑΣ | E3: ΜΕΣΗΣ ΓΕΝΙΚΗΣ ΕΚΠΑΙΔΕΥΣΗΣ
B5: ΣΤΑΤΙΣΤΙΚΑ ΣΤΟΙΧΕΙΑ ΕΣΠΕΡΙΝΩΝ ΣΧΟΛΕΙΩΝ
B6: ="Σχολικό Έτος "&Sheet2!$Q$4 -> Σχολικό Έτος 2026-2027
B8: Παρακαλώ Συμπληρώστε το Όνομα και τον Κωδικό του Σχολείου σας
B9: (Ο κωδικός του σχολείου σας βρίσκεται στη σελίδα (sheet), " Sch Codes" )
B10: ΟΝΟΜΑ ΣΧΟΛΕΙΟΥ:
B12: ΚΩΔΙΚΟΣ ΣΧΟΛΕΙΟΥ: | C12: =_xlfn.IFNA(VLOOKUP(C10,Sheet2!D3:E7,2,FALSE),"")
A15: ΣΗΜΕΙΩΣΕΙΣ ΔΙΕΚΠΕΡΑΙΩΣΗΣ
A16: 1. | B16: Συμπληρώστε όλους τους πίνακες της σελίδας (sheet) "ΣΤΟΙΧΕΙΑ".
A17: 2. | B17: Φυλάξτε (save) το excel file με το όνομα του κωδικού του σχολείου σας, <κωδικός σχολείου>.xlsx (Excel 2007, 2010, 2013, 2016 ή νεότερη έκδοση). ΜΗ ΧΡΗΣΙΜΟΠΟΙΗΣΕΤΕ ΠΑΛΑΙΟΤΕΡΗ ΕΚΔΟΣΗ EXCEL (όπως Excel 2003 ή 2000).
A19: 3. | B19: Ταχυδρομήστε ηλεκτρονικά (Email) το αρχείο Excel στο Υπουργείο Παιδείας, Αθλητισμού και Νεολαίας στη διεύθυνση, dme-programmatismos@schools.ac.cy
A20: 4. | B20: Για οποιεσδήποτε διευκρινίσεις, παρακαλώ, επικοινωνήστε με το Γραφείο Εκπαιδευτικού Προγραμματισμού, τηλ. 22 806352 ή 22806382
A21: ΓΕΝΙΚΕΣ ΟΔΗΓΙΕΣ
A23: 1. | B23: Η έρευνα διεξάγεται από το Υπουργείο Παιδείας, Αθλητισμού και Νεολαίας σε συνεργασία με τη Στατιστική Υπηρεσία.
A24: 2. | B24: Το ερωτηματολόγιο αυτό αποτελεί επίσημη πηγή πληροφοριών. Η ορθή και έγκαιρη συμπλήρωσή του είναι επιβεβλημένη.
A25: 3. | B25: Προτού να συμπληρώσετε το ερωτηματολόγιο, παρακαλώ, διαβάστε με προσοχή όλα τα ερωτήματα και τις σημειώσεις.
A26: 4. | B26: Παρακαλώ να συμπληρώσετε το ερωτηματολόγιο, σύμφωνα με τα αρχεία του σχολείου σας κατά τη 12η Οκτωβρίου 2026 και να το αποστείλετε στο Υπουργείο Παιδείας, Αθλητισμού και Νεολαίας όπως περιγράφεται στις σημειώσεις διεκπεραίωσης το συντομότερο δυνατό και όχι αργότερα από τις 16/11/2026.
A27: 5. | B27: Η συλλογή των στοιχείων διεξάγεται με βάση τον περί Επίσημων Στατιστικών Νόμο του 2021 (Ν. 25(Ι)/2021), καθώς και σύμφωνα με τους περί Λειτουργίας των Δημόσιων Σχολείων Μέσης Εκπαίδευσης Κανονισμούς του 2017 έως 2025. Η Στατιστική Υπηρεσία, καθώς και το Υπουργείο Παιδείας, Αθλητισμού και Νεολαίας, υποχρεούνται, σύμφωνα με τον περί Επίσημων Στατιστικών Νόμο, να τηρήσουν τα στοιχεία τα οποία θα δηλώσετε ως εμπιστευτικά. Οι απαντήσεις σας θα χρησιμοποιηθούν αποκλειστικά και μόνο για σκοπούς στατιστικής.

Sheet ΣΤΟΙΧΕΙΑ
C2: ΣΤΑΤΙΣΤΙΚΑ ΣΤΟΙΧΕΙΑ
C3: ="Σχολική Χρονιά "&Sheet2!$Q$4 -> Σχολική Χρονιά 2026-2027
A4: =ΠΡΟΛΟΓΟΣ!C12 | C4: (Δημόσια Εσπερινά Σχολεία Μέσης Γενικής Εκπαίδευσης)
A5: =IF(ΠΡΟΛΟΓΟΣ!C10="","",ΠΡΟΛΟΓΟΣ!C10)
A6: ΑΡΙΘΜΟΙ ΜΑΘΗΤΩΝ/ΡΙΩΝ ΑΝΑ ΤΑΞΗ
A7: 1 | E7: ΓΥΜΝΑΣΙΑΚΟΣ ΚΥΚΛΟΣ | K7: ΛΥΚΕΙΑΚΟΣ ΚΥΚΛΟΣ
E8: ΠΡΟΠΑΡΑΣΚΕΥΑΣΤΙΚΗ (1ο ΕΤΟΣ) | G8: 2ο ΕΤΟΣ | I8: 3ο ΕΤΟΣ | K8: Α' ΛΥΚΕΙΟΥ | M8: Β' ΛΥΚΕΙΟΥ | O8: Γ΄ΛΥΚΕΙΟΥ | Q8: Ζ' ΤΑΞΗ
E9: ΑΓΟΡΙΑ | F9: ΚΟΡΙΤΣΙΑ | G9: ΑΓΟΡΙΑ | H9: ΚΟΡΙΤΣΙΑ | I9: ΑΓΟΡΙΑ | J9: ΚΟΡΙΤΣΙΑ | K9: ΑΓΟΡΙΑ | L9: ΚΟΡΙΤΣΙΑ | M9: ΑΓΟΡΙΑ | N9: ΚΟΡΙΤΣΙΑ | O9: ΑΓΟΡΙΑ | P9: ΚΟΡΙΤΣΙΑ | Q9: ΑΓΟΡΙΑ | R9: ΚΟΡΙΤΣΙΑ | S9: ΣΥΝΟΛΑ
D10: ΑΡΙΘΜΟΙ | S10: =SUM(E10:R10) -> 0
D11: ΣΥΝΟΛΑ | E11: =SUM(E10:F10) -> 0 | G11: =SUM(G10:H10) -> 0 | I11: =SUM(I10:J10) -> 0 | K11: =SUM(K10:L10) -> 0 | M11: =SUM(M10:N10) -> 0 | O11: =SUM(O10:P10) -> 0 | Q11: =SUM(Q10:R10) -> 0 | S11: =SUM(E11:R11) -> 0
B12: ΑΡΙΘ. ΤΜΗΜΑΤΩΝ | S12: =SUM(E12:R12) -> 0
F13: =IF(COUNTIF(E11:R11,"0")<>(COUNTBLANK(E12:R12)-7), "ΕΛΕΓΞΕ ΤΟΝ ΑΡΙΘΜΟ ΤΩΝ ΤΜΗΜΑΤΩΝ","")
A15: ΙΘΑΓΕΝΕΙΑ ΜΑΘΗΤΩΝ/ΡΙΩΝ
A16: (ΚΥΠΡΙΟΙ/ΕΣ ΜΟΝΟ)
A17: 2 | C17: Σημειώσεις:
C18: 1. | D18: Μαθητές/ριες από γάμους Κυπρίων με αλλοδαπούς να ταξινομηθούν ως Κύπριοι/ες.
C19: 2. | D19: Ο πίνακας δεν ζητά το θρήσκευμα των μαθητών/ριών.
C20: 3. | D20: Η μειονότητα των Αθίγγανων να δηλωθεί ξεχωριστά από την κοινότητα των Τουρκοκυπρίων.
E22: ΓΥΜΝΑΣΙΑΚΟΣ ΚΥΚΛΟΣ
E23: ΕΛΛΗΝΟΚΥΠΡΙΟΙ | G23: ΤΟΥΡΚΟΚΥΠΡΙΟΙ | I23: ΑΘΙΓΓΑΝΟΙ | K23: ΑΡΜΕΝΙΟΙ | M23: ΜΑΡΩΝΙΤΕΣ | O23: ΛΑΤΙΝΟΙ
E24: ΑΓΟΡΙΑ | F24: ΚΟΡΙΤΣΙΑ | G24: ΑΓΟΡΙΑ | H24: ΚΟΡΙΤΣΙΑ | I24: ΑΓΟΡΙΑ | J24: ΚΟΡΙΤΣΙΑ | K24: ΑΓΟΡΙΑ | L24: ΚΟΡΙΤΣΙΑ | M24: ΑΓΟΡΙΑ | N24: ΚΟΡΙΤΣΙΑ | O24: ΑΓΟΡΙΑ | P24: ΚΟΡΙΤΣΙΑ | Q24: ΣΥΝΟΛΑ
D25: ΠΡΟΠΑΡΑΣΚΕΥΑΣΤΙΚΗ (1ο ΕΤΟΣ) | Q25: =SUM(E25:P25) -> 0
D26: 2ο ΕΤΟΣ | Q26: =SUM(E26:P26) -> 0
D27: 3ο ΕΤΟΣ | Q27: =SUM(E27:P27) -> 0
E29: ΛΥΚΕΙΑΚΟΣ ΚΥΚΛΟΣ
E30: ΕΛΛΗΝΟΚΥΠΡΙΟΙ | G30: ΤΟΥΡΚΟΚΥΠΡΙΟΙ | I30: ΑΘΙΓΓΑΝΟΙ | K30: ΑΡΜΕΝΙΟΙ | M30: ΜΑΡΩΝΙΤΕΣ | O30: ΛΑΤΙΝΟΙ
E31: ΑΓΟΡΙΑ | F31: ΚΟΡΙΤΣΙΑ | G31: ΑΓΟΡΙΑ | H31: ΚΟΡΙΤΣΙΑ | I31: ΑΓΟΡΙΑ | J31: ΚΟΡΙΤΣΙΑ | K31: ΑΓΟΡΙΑ | L31: ΚΟΡΙΤΣΙΑ | M31: ΑΓΟΡΙΑ | N31: ΚΟΡΙΤΣΙΑ | O31: ΑΓΟΡΙΑ | P31: ΚΟΡΙΤΣΙΑ | Q31: ΣΥΝΟΛΑ
D32: Α' ΛΥΚΕΙΟΥ | Q32: =SUM(E32:P32) -> 0
D33: Β' ΛΥΚΕΙΟΥ | Q33: =SUM(E33:P33) -> 0
D34: Γ΄ΛΥΚΕΙΟΥ | Q34: =SUM(E34:P34) -> 0
D35: Ζ' ΤΑΞΗ | Q35: =SUM(E35:P35) -> 0
A38: ΠΡΟΣΦΥΓΕΣ ΜΑΘΗΤΕΣ/ΡΙΕΣ
A39: (ΜΟΝΟ ΚΥΠΡΙΟΙ/ΕΣ)
A40: 3 | C40: Σημείωση:
D41: Μαθητές/ριες που έχουν και τους δυο γονείς πρόσφυγες να δηλωθούν ως εκ πατρογονίας.
E42: ΓΥΜΝΑΣΙΑΚΟΣ ΚΥΚΛΟΣ | K42: ΛΥΚΕΙΑΚΟΣ ΚΥΚΛΟΣ
E43: ΠΡΟΠΑΡΑΣΚΕΥΑΣΤΙΚΗ (1ο ΕΤΟΣ) | G43: 2ο ΕΤΟΣ | I43: 3ο ΕΤΟΣ | K43: Α' ΛΥΚΕΙΟΥ | M43: Β' ΛΥΚΕΙΟΥ | O43: Γ΄ΛΥΚΕΙΟΥ | Q43: Ζ' ΤΑΞΗ
E44: ΑΓΟΡΙΑ | F44: ΚΟΡΙΤΣΙΑ | G44: ΑΓΟΡΙΑ | H44: ΚΟΡΙΤΣΙΑ | I44: ΑΓΟΡΙΑ | J44: ΚΟΡΙΤΣΙΑ | K44: ΑΓΟΡΙΑ | L44: ΚΟΡΙΤΣΙΑ | M44: ΑΓΟΡΙΑ | N44: ΚΟΡΙΤΣΙΑ | O44: ΑΓΟΡΙΑ | P44: ΚΟΡΙΤΣΙΑ | Q44: ΑΓΟΡΙΑ | R44: ΚΟΡΙΤΣΙΑ | S44: ΣΥΝΟΛΑ
B45: ΕΚ ΠΑΤΡΟΓΟΝΙΑΣ | S45: =SUM(E45:R45) -> 0
B46: ΕΚ ΜΗΤΡΟΓΟΝΙΑΣ | S46: =SUM(E46:R46) -> 0
...

Sheet Sch_Codes
A1: code | B1: school | C1: dstr | D1: LEVEL
A2: 2001 | B2: Παγκύπριο Γυμνάσιο | C2: ΛΕΥΚΩΣΙΑ | D2: Λύκειο
A3: 2002 | B3: Λύκειο Παλουριώτισσας | C3: ΛΕΥΚΩΣΙΑ | D3: Λύκειο
A4: 2003 | B4: Λύκειο Ακρόπολης | C4: ΛΕΥΚΩΣΙΑ | D4: Λύκειο
A5: 2004 | B5: Λύκειο Κύκκου Α΄ | C5: ΛΕΥΚΩΣΙΑ | D5: Λύκειο
A6: 2005 | B6: Λύκειο Κύκκου Β΄ | C6: ΛΕΥΚΩΣΙΑ | D6: Λύκειο
A7: 2006 | B7: Λύκειο Λύκειο Απ. Μάρκου | C7: ΛΕΥΚΩΣΙΑ | D7: Λύκειο
A8: 2007 | B8: Λύκειο Αρχ. Μακαρίου Γ΄ (Δασούπολη) | C8: ΛΕΥΚΩΣΙΑ | D8: Λύκειο
A9: 2008 | B9: Λύκειο Εθν. Κυπριανού (Στροβόλου) | C9: ΛΕΥΚΩΣΙΑ | D9: Λύκειο
A10: 2009 | B10: Λύκειο Απ. Βαρνάβα | C10: ΛΕΥΚΩΣΙΑ | D10: Λύκειο
A11: 2010 | B11: Λύκειο Παλιομετόχου | C11: ΛΕΥΚΩΣΙΑ | D11: Λύκειο
A12: 2011 | B12: Λύκειο Αγ. Γεωργίου (Λακατάμιας) | C12: ΛΕΥΚΩΣΙΑ | D12: Λύκειο
A13: 2012 | B13: Λύκειο Λατσιών | C13: ΛΕΥΚΩΣΙΑ | D13: Λύκειο
... A136: 6401 | B136: Τεχνική Σχολή Πάφου | C136: ΠΑΦΟΣ | D136: Τεχνική
B140: ΥΠΟΜΝΗΜΑ
B141: ΛΕΥΚΩΣΙΑ | C141: 2000
B142: ΑΜΜΟΧΩΣΤΟΣ | C142: 3000
B143: ΛΑΡΝΑΚΑ | C143: 4000
B144: ΛΕΜΕΣΟΣ | C144: 5000
B145: ΠΑΦΟΣ | C145: 6000
B147: ΛΥΚΕΙΑ | C147: Χ001 -Χ049
B148: ΓΥΜΝΑΣΙΑ ΕΞΑΤΑΞΙΑ | C148: Χ051-Χ099
B149: ΓΥΜΝΑΣΙΑ | C149: Χ101-Χ199
B150: ΕΙΔΙΚΗ ΣΧΟΛΗ | C150: Χ201-Χ299
B151: ΕΣΠΕΡΙΝΟ ΓΥΜΝΑΣΙΟ | C151: Χ301-Χ399
B152: ΤΕΧΝΙΚΗ ΣΧΟΛΗ | C152: Χ401-Χ499
B153: ΕΣΠΕΡΙΝΗ ΤΕΧΝΙΚΗ ΣΧΟΛΗ | C153: Χ501-Χ599

Sheet DATA_1
C1: 10 | D1: =IF(D3=5,C1+1,C1) -> 10 | E1: =IF(E3=5,D1+1,D1) -> 10 | F1: =IF(F3=5,E1+1,E1) -> 10 | G1: =IF(G3=5,F1+1,F1) -> 10 | H1: =IF(H3=5,G1+1,G1) -> 10 | I1: =IF(I3=5,H1+1,H1) -> 10 | J1: =IF(J3=5,I1+1,I1) -> 10 | K1: =IF(K3=5,J1+1,J1) -> 10 | ... AG1: =IF(AG3=5,AF1+1,AF1) -> 12 | AH1: 25 | AI1: =IF(AI3=5,AH1+1,AH1) -> 25 | AJ1: =IF(AJ3=5,AI1+1,AI1) -> 25 | AK1: =IF(AK3=5,AJ1+1,AJ1) -> 25 | AL1: =IF(AL3=5,AK1+1,AK1) -> 25 | AM1: =IF(AM3=5,AL1+1,AL1) -> 25 | AN1: =IF(AN3=5,AM1+1,AM1) -> 25 | AO1: =IF(AO3=5,AN1+1,AN1) -> 25 | AP1: =IF(AP3=5,AO1+1,AO1) -> 25 | ... BT1: =IF(BT3=5,BS1+1,BS1) -> 27 | BU1: 32 | BV1: =IF(BV3=5,BU1+1,BU1) -> 32 | BW1: =IF(BW3=5,BV1+1,BV1) -> 32 | BX1: =IF(BX3=5,BW1+1,BW1) -> 32 | BY1: =IF(BY3=5,BX1+1,BX1) -> 32 | BZ1: =IF(BZ3=5,BY1+1,BY1) -> 32 | CA1: =IF(CA3=5,BZ1+1,BZ1) -> 32 | CB1: =IF(CB3=5,CA1+1,CA1) -> 32 | CC1: =IF(CC3=5,CB1+1,CB1) -> 32 | ... DT1: =IF(DT3=5,DS1+1,DS1) -> 35 | DU1: 45 | DV1: =IF(DV3=5,DU1+1,DU1) -> 45 | DW1: =IF(DW3=5,DV1+1,DV1) -> 45 | DX1: =IF(DX3=5,DW1+1,DW1) -> 45 | DY1: =IF(DY3=5,DX1+1,DX1) -> 45 | DZ1: =IF(DZ3=5,DY1+1,DY1) -> 45 | EA1: =IF(EA3=5,DZ1+1,DZ1) -> 45 | EB1: =IF(EB3=5,EA1+1,EA1) -> 45 | EC1: =IF(EC3=5,EB1+1,EB1) -> 45 | ... FM1: =IF(FM3=5,FL1+1,FL1) -> 47 | FN1: 56 | FO1: =IF(FO3=5,FN1+1,FN1) -> 56 | FP1: =IF(FP3=5,FO1+1,FO1) -> 56 | FQ1: =IF(FQ3=5,FP1+1,FP1) -> 56 | FR1: =IF(FR3=5,FQ1+1,FQ1) -> 56 | FS1: =IF(FS3=5,FR1+1,FR1) -> 56 | FT1: =IF(FT3=5,FS1+1,FS1) -> 56 | FU1: =IF(FU3=5,FT1+1,FT1) -> 56 | FV1: =IF(FV3=5,FU1+1,FU1) -> 56 | ... VQ1: =IF(VQ3=5,VP1+1,VP1) -> 83 | VR1: 92 | VS1: =IF(VS3=5,VR1+1,VR1) -> 92 | VT1: =IF(VT3=5,VS1+1,VS1) -> 92 | VU1: =IF(VU3=5,VT1+1,VT1) -> 92 | VV1: =IF(VV3=5,VU1+1,VU1) -> 92 | VW1: =IF(VW3=5,VV1+1,VV1) -> 92 | VX1: =IF(VX3=5,VW1+1,VW1) -> 92 | VY1: =IF(VY3=5,VX1+1,VX1) -> 92 | VZ1: =IF(VZ3=5,VY1+1,VY1) -> 92 | ... APG1: =IF(APG3=5,APF1+1,APF1) -> 125 | APH1: 127 | API1: 127 | APJ1: 127 | APK1: 127 | APL1: 137 | APM1: =IF(APM3=5,APL1+1,APL1) -> 137 | APN1: =IF(APN3=5,APM1+1,APM1) -> 137 | APO1: =IF(APO3=5,APN1+1,APN1) -> 137 | APP1: =IF(APP3=5,APO1+1,APO1) -> 137 | APQ1: =IF(APQ3=5,APP1+1,APP1) -> 137 | APR1: =IF(APR3=5,APQ1+1,APQ1) -> 137 | APS1: =IF(APS3=5,APR1+1,APR1) -> 137 | APT1: =IF(APT3=5,APS1+1,APS1) -> 137 | ... AXM1: =IF(AXM3=5,AXL1+1,AXL1) -> 150 | AXN1: 159 | AXO1: =IF(AXO3=5,AXN1+1,AXN1) -> 159 | AXP1: =IF(AXP3=5,AXO1+1,AXO1) -> 159 | AXQ1: =IF(AXQ3=5,AXP1+1,AXP1) -> 159 | AXR1: =IF(AXR3=5,AXQ1+1,AXQ1) -> 159 | AXS1: =IF(AXS3=5,AXR1+1,AXR1) -> 159 | AXT1: =IF(AXT3=5,AXS1+1,AXS1) -> 159 | AXU1: =IF(AXU3=5,AXT1+1,AXT1) -> 159 | AXV1: =IF(AXV3=5,AXU1+1,AXU1) -> 159 | ... BAE1: =IF(BAE3=5,BAD1+1,BAD1) -> 163 | BAF1: 173 | BAG1: =IF(BAG3=5,BAF1+1,BAF1) -> 173 | BAH1: =IF(BAH3=5,BAG1+1,BAG1) -> 173 | BAI1: =IF(BAI3=5,BAH1+1,BAH1) -> 173 | BAJ1: =IF(BAJ3=5,BAI1+1,BAI1) -> 173 | BAK1: =IF(BAK3=5,BAJ1+1,BAJ1) -> 173 | BAL1: =IF(BAL3=5,BAK1+1,BAK1) -> 173 | BAM1: =IF(BAM3=5,BAL1+1,BAL1) -> 173 | BAN1: =IF(BAN3=5,BAM1+1,BAM1) -> 173 | ... BAZ1: =IF(BAZ3=5,BAY1+1,BAY1) -> 174 | BBA1: 183 | BBB1: =IF(BBB3=5,BBA1+1,BBA1) -> 183 | BBC1: =IF(BBC3=5,BBB1+1,BBB1) -> 183 | BBD1: =IF(BBD3=5,BBC1+1,BBC1) -> 183 | BBE1: =IF(BBE3=5,BBD1+1,BBD1) -> 183 | BBF1: =IF(BBF3=5,BBE1+1,BBE1) -> 183 | BBG1: =IF(BBG3=5,BBF1+1,BBF1) -> 183 | BBH1: =IF(BBH3=5,BBG1+1,BBG1) -> 183 | BBI1: =IF(BBI3=5,BBH1+1,BBH1) -> 183 | ... BGJ1: =IF(BGJ3=5,BGI1+1,BGI1) -> 192 | BGK1: 201 | BGL1: =IF(BGL3=5,BGK1+1,BGK1) -> 201 | BGM1: =IF(BGM3=5,BGL1+1,BGL1) -> 201 | BGN1: =IF(BGN3=5,BGM1+1,BGM1) -> 201 | BGO1: =IF(BGO3=5,BGN1+1,BGN1) -> 201 | BGP1: =IF(BGP3=5,BGO1+1,BGO1) -> 201 | BGQ1: =IF(BGQ3=5,BGP1+1,BGP1) -> 201 | BGR1: =IF(BGR3=5,BGQ1+1,BGQ1) -> 201 | BGS1: =IF(BGS3=5,BGR1+1,BGR1) -> 201 | ... BHE1: =IF(BHE3=5,BHD1+1,BHD1) -> 202 | BHF1: 216 | BHG1: =IF(BHG3=5,BHF1+1,BHF1) -> 216 | BHH1: =IF(BHH3=5,BHG1+1,BHG1) -> 216 | BHI1: =IF(BHI3=5,BHH1+1,BHH1) -> 216 | BHJ1: =IF(BHJ3=5,BHI1+1,BHI1) -> 216 | BHK1: =IF(BHK3=5,BHJ1+1,BHJ1) -> 216 | BHL1: =IF(BHL3=5,BHK1+1,BHK1) -> 216 | BHM1: =IF(BHM3=5,BHL1+1,BHL1) -> 216 | BHN1: =IF(BHN3=5,BHM1+1,BHM1) -> 217 | ... BLE1: =IF(BLE3=5,BLD1+1,BLD1) -> 228 | BLF1: 239 | BLG1: =IF(BLG3=5,BLF1+1,BLF1) -> 239 | BLH1: =IF(BLH3=5,BLG1+1,BLG1) -> 239 | BLI1: =IF(BLI3=5,BLH1+1,BLH1) -> 239 | BLJ1: =IF(BLJ3=5,BLI1+1,BLI1) -> 239 | BLK1: =IF(BLK3=5,BLJ1+1,BLJ1) -> 239 | BLL1: =IF(BLL3=5,BLK1+1,BLK1) -> 239 | BLM1: =IF(BLM3=5,BLL1+1,BLL1) -> 239 | BLN1: =IF(BLN3=5,BLM1+1,BLM1) -> 239 | ... BOB1: =IF(BOB3=5,BOA1+1,BOA1) -> 243 | BOC1: 254 | BOD1: =IF(BOD3=5,BOC1+1,BOC1) -> 254 | BOE1: =IF(BOE3=5,BOD1+1,BOD1) -> 254 | BOF1: =IF(BOF3=5,BOE1+1,BOE1) -> 254 | BOG1: =IF(BOG3=5,BOF1+1,BOF1) -> 254 | BOH1: =IF(BOH3=5,BOG1+1,BOG1) -> 254 | BOI1: =IF(BOI3=5,BOH1+1,BOH1) -> 254 | BOJ1: =IF(BOJ3=5,BOI1+1,BOI1) -> 254 | BOK1: =IF(BOK3=5,BOJ1+1,BOJ1) -> 254 | ... BPU1: =IF(BPU3=5,BPT1+1,BPT1) -> 256 | BPV1: 269 | BPW1: =IF(BPW3=5,BPV1+1,BPV1) -> 269 | BPX1: =IF(BPX3=5,BPW1+1,BPW1) -> 269 | BPY1: =IF(BPY3=5,BPX1+1,BPX1) -> 269 | BPZ1: =IF(BPZ3=5,BPY1+1,BPY1) -> 269 | BQA1: =IF(BQA3=5,BPZ1+1,BPZ1) -> 269 | BQB1: =IF(BQB3=5,BQA1+1,BQA1) -> 269 | BQC1: =IF(BQC3=5,BQB1+1,BQB1) -> 269 | BQD1: =IF(BQD3=5,BQC1+1,BQC1) -> 269 | ... BSR1: =IF(BSR3=5,BSQ1+1,BSQ1) -> 273 | BSS1: 288 | BST1: =IF(BST3=5,BSS1+1,BSS1) -> 288 | BSU1: =IF(BSU3=5,BST1+1,BST1) -> 288 | BSV1: =IF(BSV3=5,BSU1+1,BSU1) -> 288 | BSW1: =IF(BSW3=5,BSV1+1,BSV1) -> 288 | BSX1: =IF(BSX3=5,BSW1+1,BSW1) -> 288 | BSY1: =IF(BSY3=5,BSX1+1,BSX1) -> 288 | BSZ1: =IF(BSZ3=5,BSY1+1,BSY1) -> 288 | BTA1: =IF(BTA3=5,BSZ1+1,BSZ1) -> 288 | ... BVO1: =IF(BVO3=5,BVN1+1,BVN1) -> 292 | BVP1: 300 | BVQ1: =IF(BVQ3=5,BVP1+1,BVP1) -> 300 | BVR1: =IF(BVR3=5,BVQ1+1,BVQ1) -> 300 | BVS1: =IF(BVS3=5,BVR1+1,BVR1) -> 300 | BVT1: =IF(BVT3=5,BVS1+1,BVS1) -> 300 | BVU1: =IF(BVU3=5,BVT1+1,BVT1) -> 300 | BVV1: =IF(BVV3=5,BVU1+1,BVU1) -> 300 | BVW1: =IF(BVW3=5,BVV1+1,BVV1) -> 300 | BVX1: =IF(BVX3=5,BVW1+1,BVW1) -> 300 | ... BZA1: =IF(BZA3=5,BYZ1+1,BYZ1) -> 305 | BZB1: 315 | BZC1: =IF(BZC3=5,BZB1+1,BZB1) -> 315 | BZD1: =IF(BZD3=5,BZC1+1,BZC1) -> 315 | BZE1: =IF(BZE3=5,BZD1+1,BZD1) -> 315 | BZF1: =IF(BZF3=5,BZE1+1,BZE1) -> 315 | BZG1: =IF(BZG3=5,BZF1+1,BZF1) -> 315 | BZH1: =IF(BZH3=5,BZG1+1,BZG1) -> 315 | BZI1: =IF(BZI3=5,BZH1+1,BZH1) -> 315 | BZJ1: =IF(BZJ3=5,BZI1+1,BZI1) -> 315 | ... CFN1: =IF(CFN3=5,CFM1+1,CFM1) -> 327 | CFO1: 334 | CFP1: =IF(CFP3=5,CFO1+1,CFO1) -> 334 | CFQ1: =IF(CFQ3=5,CFP1+1,CFP1) -> 334 | CFR1: =IF(CFR3=5,CFQ1+1,CFQ1) -> 334 | CFS1: =IF(CFS3=5,CFR1+1,CFR1) -> 334 | CFT1: =IF(CFT3=5,CFS1+1,CFS1) -> 334 | CFU1: =IF(CFU3=5,CFT1+1,CFT1) -> 335 | CFV1: =IF(CFV3=5,CFU1+1,CFU1) -> 335 | CFW1: =IF(CFW3=5,CFV1+1,CFV1) -> 335 | ... CPR1: =IF(CPR3=5,CPQ1+1,CPQ1) -> 377 | CPS1: 385 | CPT1: =IF(CPT3=5,CPS1+1,CPS1) -> 385 | CPU1: =IF(CPU3=5,CPT1+1,CPT1) -> 385 | CPV1: =IF(CPV3=5,CPU1+1,CPU1) -> 385 | CPW1: =IF(CPW3=5,CPV1+1,CPV1) -> 385 | CPX1: =IF(CPX3=5,CPW1+1,CPW1) -> 385 | CPY1: =IF(CPY3=5,CPX1+1,CPX1) -> 385 | CPZ1: =IF(CPZ3=5,CPY1+1,CPY1) -> 385 | CQA1: =IF(CQA3=5,CPZ1+1,CPZ1) -> 385 | ... DPB1: =IF(DPB3=5,DPA1+1,DPA1) -> 428 | DPC1: 445 | DPD1: =IF(DPD3=5,DPC1+1,DPC1) -> 445 | DPE1: =IF(DPE3=5,DPD1+1,DPD1) -> 445 | DPF1: =IF(DPF3=5,DPE1+1,DPE1) -> 445 | DPG1: =IF(DPG3=5,DPF1+1,DPF1) -> 445 | DPH1: =IF(DPH3=5,DPG1+1,DPG1) -> 445 | DPI1: =IF(DPI3=5,DPH1+1,DPH1) -> 445 | DPJ1: =IF(DPJ3=5,DPI1+1,DPI1) -> 445 | DPK1: =IF(DPK3=5,DPJ1+1,DPJ1) -> 445 | ... EDG1: =IF(EDG3=5,EDF1+1,EDF1) -> 485 | EDH1: 498 | EDI1: =IF(EDI3=5,EDH1+1,EDH1) -> 498 | EDJ1: =IF(EDJ3=5,EDI1+1,EDI1) -> 498 | EDK1: =IF(EDK3=5,EDJ1+1,EDJ1) -> 498 | EDL1: =IF(EDL3=5,EDK1+1,EDK1) -> 498 | EDM1: =IF(EDM3=5,EDL1+1,EDL1) -> 498 | EDN1: =IF(EDN3=5,EDM1+1,EDM1) -> 498 | EDO1: =IF(EDO3=5,EDN1+1,EDN1) -> 498 | EDP1: =IF(EDP3=5,EDO1+1,EDO1) -> 498 | ... EED1: =IF(EED3=5,EEC1+1,EEC1) -> 499 | EEE1: 514 | EEF1: =IF(EEF3=5,EEE1+1,EEE1) -> 514 | EEG1: =IF(EEG3=5,EEF1+1,EEF1) -> 514 | EEH1: =IF(EEH3=5,EEG1+1,EEG1) -> 514 | EEI1: =IF(EEI3=5,EEH1+1,EEH1) -> 514 | EEJ1: =IF(EEJ3=5,EEI1+1,EEI1) -> 514 | EEK1: =IF(EEK3=5,EEJ1+1,EEJ1) -> 514 | EEL1: =IF(EEL3=5,EEK1+1,EEK1) -> 514 | EEM1: =IF(EEM3=5,EEL1+1,EEL1) -> 514 | ... EMU1: =IF(EMU3=5,EMT1+1,EMT1) -> 528 | EMV1: 539 | EMW1: =IF(EMW3=5,EMV1+1,EMV1) -> 539 | EMX1: =IF(EMX3=5,EMW1+1,EMW1) -> 539 | EMY1: =IF(EMY3=5,EMX1+1,EMX1) -> 539 | EMZ1: =IF(EMZ3=5,EMY1+1,EMY1) -> 539 | ENA1: =IF(ENA3=5,EMZ1+1,EMZ1) -> 539 | ENB1: =IF(ENB3=5,ENA1+1,ENA1) -> 539 | ENC1: =IF(ENC3=5,ENB1+1,ENB1) -> 539 | END1: =IF(END3=5,ENC1+1,ENC1) -> 539 | ... ESE1: =IF(ESE3=5,ESD1+1,ESD1) -> 548 | ESF1: 563 | ESG1: =IF(ESG3=5,ESF1+1,ESF1) -> 563 | ESH1: =IF(ESH3=5,ESG1+1,ESG1) -> 563 | ESI1: =IF(ESI3=5,ESH1+1,ESH1) -> 563 | ESJ1: =IF(ESJ3=5,ESI1+1,ESI1) -> 563 | ESK1: =IF(ESK3=5,ESJ1+1,ESJ1) -> 564 | ESL1: =IF(ESL3=5,ESK1+1,ESK1) -> 564 | ESM1: =IF(ESM3=5,ESL1+1,ESL1) -> 564 | ESN1: =IF(ESN3=5,ESM1+1,ESM1) -> 564 | ... EWZ1: =IF(EWZ3=5,EWY1+1,EWY1) -> 587 | EXA1: 597 | EXB1: =IF(EXB3=12,EXA1+1,EXA1) -> 598 | EXC1: =IF(EXC3=12,EXB1+1,EXB1) -> 599 | EXD1: =IF(EXD3=12,EXC1+1,EXC1) -> 600 | EXE1: =IF(EXE3=12,EXD1+1,EXD1) -> 601 | EXF1: 6 | EXG1: 6 | EXH1: 6 | EXI1: 6 | EXJ1: 6 | EXK1: 6 | EXL1: 6 | EXM1: 6 | EXN1: 6 | EXO1: 6 | EXP1: 6 | EXQ1: 6
C2: 1 | D2: 1 | E2: 1 | F2: 1 | G2: 1 | H2: 1 | I2: 1 | J2: 1 | K2: 1 | L2: 1 | M2: 1 | N2: 1 | O2: 1 | P2: 1 | Q2: 1 | R2: 1 | S2: 1 | T2: 1 | U2: 1 | V2: 1 | W2: 1 | X2: 1 | Y2: 1 | Z2: 1 | AA2: 1 | AB2: 1 | AC2: 1 | AD2: 1 | AE2: 1 | AF2: 1 | AG2: 1 | AH2: 2.1 | AI2: 2.1 | AJ2: 2.1 | AK2: 2.1 | AL2: 2.1 | AM2: 2.1 | AN2: 2.1 | AO2: 2.1 | AP2: 2.1 | AQ2: 2.1 | AR2: 2.1 | AS2: 2.1 | AT2: 2.1 | AU2: 2.1 | AV2: 2.1 | AW2: 2.1 | AX2: 2.1 | AY2: 2.1 | AZ2: 2.1 | BA2: 2.1 | BB2: 2.1 | BC2: 2.1 | BD2: 2.1 | BE2: 2.1 | BF2: 2.1 | BG2: 2.1 | BH2: 2.1 | BI2: 2.1 | BJ2: 2.1 | BK2: 2.1 | BL2: 2.1 | BM2: 2.1 | BN2: 2.1 | BO2: 2.1 | BP2: 2.1 | BQ2: 2.1 | BR2: 2.1 | BS2: 2.1 | BT2: 2.1 | BU2: 2.2 | BV2: 2.2 | BW2: 2.2 | BX2: 2.2 | BY2: 2.2 | BZ2: 2.2 | CA2: 2.2 | CB2: 2.2 | CC2: 2.2 | CD2: 2.2 | CE2: 2.2 | CF2: 2.2 | CG2: 2.2 | CH2: 2.2 | CI2: 2.2 | CJ2: 2.2 | CK2: 2.2 | CL2: 2.2 | CM2: 2.2 | CN2: 2.2 | CO2: 2.2 | CP2: 2.2 | CQ2: 2.2 | CR2: 2.2 | CS2: 2.2 | CT2: 2.2 | CU2: 2.2 | CV2: 2.2 | CW2: 2.2 | CX2: 2.2 | CY2: 2.2 | CZ2: 2.2 | DA2: 2.2 | DB2: 2.2 | DC2: 2.2 | DD2: 2.2 | DE2: 2.2 | DF2: 2.2 | DG2: 2.2 | DH2: 2.2 | DI2: 2.2 | DJ2: 2.2 | DK2: 2.2 | DL2: 2.2 | DM2: 2.2 | DN2: 2.2 | DO2: 2.2 | DP2: 2.2 | DQ2: 2.2 | DR2: 2.2 | DS2: 2.2 | DT2: 2.2 | DU2: 3 | DV2: 3 | DW2: 3 | DX2: 3 | DY2: 3 | DZ2: 3 | EA2: 3 | EB2: 3 | EC2: 3 | ED2: 3 | EE2: 3 | EF2: 3 | EG2: 3 | EH2: 3 | EI2: 3 | EJ2: 3 | EK2: 3 | EL2: 3 | EM2: 3 | EN2: 3 | EO2: 3 | EP2: 3 | EQ2: 3 | ER2: 3 | ES2: 3 | ET2: 3 | EU2: 3 | EV2: 3 | EW2: 3 | EX2: 3 | EY2: 3 | EZ2: 3 | FA2: 3 | FB2: 3 | FC2: 3 | FD2: 3 | FE2: 3 | FF2: 3 | FG2: 3 | FH2: 3 | FI2: 3 | FJ2: 3 | FK2: 3 | FL2: 3 | FM2: 3 | FN2: 4 | FO2: 4 | FP2: 4 | FQ2: 4 | FR2: 4 | FS2: 4 | FT2: 4 | FU2: 4 | FV2: 4 | FW2: 4 | FX2: 4 | FY2: 4 | FZ2: 4 | GA2: 4 | GB2: 4 | GC2: 4 | GD2: 4 | GE2: 4 | GF2: 4 | GG2: 4 | GH2: 4 | GI2: 4 | GJ2: 4 | GK2: 4 | GL2: 4 | GM2: 4 | GN2: 4 | GO2: 4 | GP2: 4 | GQ2: 4 | GR2: 4 | GS2: 4 | GT2: 4 | GU2: 4 | GV2: 4 | GW2: 4 | GX2: 4 | GY2: 4 | GZ2: 4 | HA2: 4 | HB2: 4 | HC2: 4 | HD2: 4 | HE2: 4 | HF2: 4 | HG2: 4 | HH2: 4 | HI2: 4 | HJ2: 4 | HK2: 4 | HL2: 4 | HM2: 4 | HN2: 4 | HO2: 4 | HP2: 4 | HQ2: 4 | HR2: 4 | HS2: 4 | HT2: 4 | HU2: 4 | HV2: 4 | HW2: 4 | HX2: 4 | HY2: 4 | HZ2: 4 | IA2: 4 | IB2: 4 | IC2: 4 | ID2: 4 | IE2: 4 | IF2: 4 | IG2: 4 | IH2: 4 | II2: 4 | IJ2: 4 | IK2: 4 | IL2: 4 | IM2: 4 | IN2: 4 | IO2: 4 | IP2: 4 | IQ2: 4 | IR2: 4 | IS2: 4 | IT2: 4 | IU2: 4 | IV2: 4 | IW2: 4 | IX2: 4 | IY2: 4 | IZ2: 4 | JA2: 4 | JB2: 4 | JC2: 4 | JD2: 4 | JE2: 4 | JF2: 4 | JG2: 4 | JH2: 4 | JI2: 4 | JJ2: 4 | JK2: 4 | JL2: 4 | JM2: 4 | JN2: 4 | JO2: 4 | JP2: 4 | JQ2: 4 | JR2: 4 | JS2: 4 | JT2: 4 | JU2: 4 | JV2: 4 | JW2: 4 | JX2: 4 | JY2: 4 | JZ2: 4 | KA2: 4 | KB2: 4 | KC2: 4 | KD2: 4 | KE2: 4 | KF2: 4 | KG2: 4 | KH2: 4 | KI2: 4 | KJ2: 4 | KK2: 4 | KL2: 4 | KM2: 4 | KN2: 4 | KO2: 4 | KP2: 4 | KQ2: 4 | KR2: 4 | KS2: 4 | KT2: 4 | KU2: 4 | KV2: 4 | KW2: 4 | KX2: 4 | KY2: 4 | KZ2: 4 | LA2: 4 | LB2: 4 | LC2: 4 | LD2: 4 | LE2: 4 | LF2: 4 | LG2: 4 | LH2: 4 | LI2: 4 | LJ2: 4 | LK2: 4 | LL2: 4 | LM2: 4 | LN2: 4 | LO2: 4 | LP2: 4 | LQ2: 4 | LR2: 4 | LS2: 4 | LT2: 4 | LU2: 4 | LV2: 4 | LW2: 4 | LX2: 4 | LY2: 4 | LZ2: 4 | MA2: 4 | MB2: 4 | MC2: 4 | MD2: 4 | ME2: 4 | MF2: 4 | MG2: 4 | MH2: 4 | MI2: 4 | MJ2: 4 | MK2: 4 | ML2: 4 | MM2: 4 | MN2: 4 | MO2: 4 | MP2: 4 | MQ2: 4 | MR2: 4 | MS2: 4 | MT2: 4 | MU2: 4 | MV2: 4 | MW2: 4 | MX2: 4 | MY2: 4 | MZ2: 4 | NA2: 4 | NB2: 4 | NC2: 4 | ND2: 4 | NE2: 4 | NF2: 4 | NG2: 4 | NH2: 4 | NI2: 4 | NJ2: 4 | NK2: 4 | NL2: 4 | NM2: 4 | NN2: 4 | NO2: 4 | NP2: 4 | NQ2: 4 | NR2: 4 | NS2: 4 | NT2: 4 | NU2: 4 | NV2: 4 | NW2: 4 | NX2: 4 | NY2: 4 | NZ2: 4 | OA2: 4 | OB2: 4 | OC2: 4 | OD2: 4 | OE2: 4 | OF2: 4 | OG2: 4 | OH2: 4 | OI2: 4 | OJ2: 4 | OK2: 4 | OL2: 4 | OM2: 4 | ON2: 4 | OO2: 4 | OP2: 4 | OQ2: 4 | OR2: 4 | OS2: 4 | OT2: 4 | OU2: 4 | OV2: 4 | OW2: 4 | OX2: 4 | OY2: 4 | OZ2: 4 | PA2: 4 | PB2: 4 | PC2: 4 | PD2: 4 | PE2: 4 | PF2: 4 | PG2: 4 | PH2: 4 | PI2: 4 | PJ2: 4 | PK2: 4 | PL2: 4 | PM2: 4 | PN2: 4 | PO2: 4 | PP2: 4 | PQ2: 4 | PR2: 4 | PS2: 4 | PT2: 4 | PU2: 4 | PV2: 4 | PW2: 4 | PX2: 4 | PY2: 4 | PZ2: 4 | QA2: 4 | QB2: 4 | QC2: 4 | QD2: 4 | QE2: 4 | QF2: 4 | QG2: 4 | QH2: 4 | QI2: 4 | QJ2: 4 | QK2: 4 | QL2: 4 | QM2: 4 | QN2: 4 | QO2: 4 | QP2: 4 | QQ2: 4 | QR2: 4 | QS2: 4 | QT2: 4 | QU2: 4 | QV2: 4 | QW2: 4 | QX2: 4 | QY2: 4 | QZ2: 4 | RA2: 4 | RB2: 4 | RC2: 4 | RD2: 4 | RE2: 4 | RF2: 4 | RG2: 4 | RH2: 4 | RI2: 4 | RJ2: 4 | RK2: 4 | RL2: 4 | RM2: 4 | RN2: 4 | RO2: 4 | RP2: 4 | RQ2: 4 | RR2: 4 | RS2: 4 | RT2: 4 | RU2: 4 | RV2: 4 | RW2: 4 | RX2: 4 | RY2: 4 | RZ2: 4 | SA2: 4 | SB2: 4 | SC2: 4 | SD2: 4 | SE2: 4 | SF2: 4 | SG2: 4 | SH2: 4 | SI2: 4 | SJ2: 4 | SK2: 4 | SL2: 4 | SM2: 4 | SN2: 4 | SO2: 4 | SP2: 4 | SQ2: 4 | SR2: 4 | SS2: 4 | ST2: 4 | SU2: 4 | SV2: 4 | SW2: 4 | SX2: 4 | SY2: 4 | SZ2: 4 | TA2: 4 | TB2: 4 | TC2: 4 | TD2: 4 | TE2: 4 | TF2: 4 | TG2: 4 | TH2: 4 | TI2: 4 | TJ2: 4 | TK2: 4 | TL2: 4 | TM2: 4 | TN2: 4 | TO2: 4 | TP2: 4 | TQ2: 4 | TR2: 4 | TS2: 4 | TT2: 4 | TU2: 4 | TV2: 4 | TW2: 4 | TX2: 4 | TY2: 4 | TZ2: 4 | UA2: 4 | UB2: 4 | UC2: 4 | UD2: 4 | UE2: 4 | UF2: 4 | UG2: 4 | UH2: 4 | UI2: 4 | UJ2: 4 | UK2: 4 | UL2: 4 | UM2: 4 | UN2: 4 | UO2: 4 | UP2: 4 | UQ2: 4 | UR2: 4 | US2: 4 | UT2: 4 | UU2: 4 | UV2: 4 | UW2: 4 | UX2: 4 | UY2: 4 | UZ2: 4 | VA2: 4 | VB2: 4 | VC2: 4 | VD2: 4 | VE2: 4 | VF2: 4 | VG2: 4 | VH2: 4 | VI2: 4 | VJ2: 4 | VK2: 4 | VL2: 4 | VM2: 4 | VN2: 4 | VO2: 4 | VP2: 4 | VQ2: 4 | VR2: 5 | VS2: 5 | VT2: 5 | VU2: 5 | VV2: 5 | VW2: 5 | VX2: 5 | VY2: 5 | VZ2: 5 | WA2: 5 | WB2: 5 | WC2: 5 | WD2: 5 | WE2: 5 | WF2: 5 | WG2: 5 | WH2: 5 | WI2: 5 | WJ2: 5 | WK2: 5 | WL2: 5 | WM2: 5 | WN2: 5 | WO2: 5 | WP2: 5 | WQ2: 5 | WR2: 5 | WS2: 5 | WT2: 5 | WU2: 5 | WV2: 5 | WW2: 5 | WX2: 5 | WY2: 5 | WZ2: 5 | XA2: 5 | XB2: 5 | XC2: 5 | XD2: 5 | XE2: 5 | XF2: 5 | XG2: 5 | XH2: 5 | XI2: 5 | XJ2: 5 | XK2: 5 | XL2: 5 | XM2: 5 | XN2: 5 | XO2: 5 | XP2: 5 | XQ2: 5 | XR2: 5 | XS2: 5 | XT2: 5 | XU2: 5 | XV2: 5 | XW2: 5 | XX2: 5 | XY2: 5 | XZ2: 5 | YA2: 5 | YB2: 5 | YC2: 5 | YD2: 5 | YE2: 5 | YF2: 5 | YG2: 5 | YH2: 5 | YI2: 5 | YJ2: 5 | YK2: 5 | YL2: 5 | YM2: 5 | YN2: 5 | YO2: 5 | YP2: 5 | YQ2: 5 | YR2: 5 | YS2: 5 | YT2: 5 | YU2: 5 | YV2: 5 | YW2: 5 | YX2: 5 | YY2: 5 | YZ2: 5 | ZA2: 5 | ZB2: 5 | ZC2: 5 | ZD2: 5 | ZE2: 5 | ZF2: 5 | ZG2: 5 | ZH2: 5 | ZI2: 5 | ZJ2: 5 | ZK2: 5 | ZL2: 5 | ZM2: 5 | ZN2: 5 | ZO2: 5 | ZP2: 5 | ZQ2: 5 | ZR2: 5 | ZS2: 5 | ZT2: 5 | ZU2: 5 | ZV2: 5 | ZW2: 5 | ZX2: 5 | ZY2: 5 | ZZ2: 5 | AAA2: 5 | AAB2: 5 | AAC2: 5 | AAD2: 5 | AAE2: 5 | AAF2: 5 | AAG2: 5 | AAH2: 5 | AAI2: 5 | AAJ2: 5 | AAK2: 5 | AAL2: 5 | AAM2: 5 | AAN2: 5 | AAO2: 5 | AAP2: 5 | AAQ2: 5 | AAR2: 5 | AAS2: 5 | AAT2: 5 | AAU2: 5 | AAV2: 5 | AAW2: 5 | AAX2: 5 | AAY2: 5 | AAZ2: 5 | ABA2: 5 | ABB2: 5 | ABC2: 5 | ABD2: 5 | ABE2: 5 | ABF2: 5 | ABG2: 5 | ABH2: 5 | ABI2: 5 | ABJ2: 5 | ABK2: 5 | ABL2: 5 | ABM2: 5 | ABN2: 5 | ABO2: 5 | ABP2: 5 | ABQ2: 5 | ABR2: 5 | ABS2: 5 | ABT2: 5 | ABU2: 5 | ABV2: 5 | ABW2: 5 | ABX2: 5 | ABY2: 5 | ABZ2: 5 | ACA2: 5 | ACB2: 5 | ACC2: 5 | ACD2: 5 | ACE2: 5 | ACF2: 5 | ACG2: 5 | ACH2: 5 | ACI2: 5 | ACJ2: 5 | ACK2: 5 | ACL2: 5 | ACM2: 5 | ACN2: 5 | ACO2: 5 | ACP2: 5 | ACQ2: 5 | ACR2: 5 | ACS2: 5 | ACT2: 5 | ACU2: 5 | ACV2: 5 | ACW2: 5 | ACX2: 5 | ACY2: 5 | ACZ2: 5 | ADA2: 5 | ADB2: 5 | ADC2: 5 | ADD2: 5 | ADE2: 5 | ADF2: 5 | ADG2: 5 | ADH2: 5 | ADI2: 5 | ADJ2: 5 | ADK2: 5 | ADL2: 5 | ADM2: 5 | ADN2: 5 | ADO2: 5 | ADP2: 5 | ADQ2: 5 | ADR2: 5 | ADS2: 5 | ADT2: 5 | ADU2: 5 | ADV2: 5 | ADW2: 5 | ADX2: 5 | ADY2: 5 | ADZ2: 5 | AEA2: 5 | AEB2: 5 | AEC2: 5 | AED2: 5 | AEE2: 5 | AEF2: 5 | AEG2: 5 | AEH2: 5 | AEI2: 5 | AEJ2: 5 | AEK2: 5 | AEL2: 5 | AEM2: 5 | AEN2: 5 | AEO2: 5 | AEP2: 5 | AEQ2: 5 | AER2: 5 | AES2: 5 | AET2: 5 | AEU2: 5 | AEV2: 5 | AEW2: 5 | AEX2: 5 | AEY2: 5 | AEZ2: 5 | AFA2: 5 | AFB2: 5 | AFC2: 5 | AFD2: 5 | AFE2: 5 | AFF2: 5 | AFG2: 5 | AFH2: 5 | AFI2: 5 | AFJ2: 5 | AFK2: 5 | AFL2: 5 | AFM2: 5 | AFN2: 5 | AFO2: 5 | AFP2: 5 | AFQ2: 5 | AFR2: 5 | AFS2: 5 | AFT2: 5 | AFU2: 5 | AFV2: 5 | AFW2: 5 | AFX2: 5 | AFY2: 5 | AFZ2: 5 | AGA2: 5 | AGB2: 5 | AGC2: 5 | AGD2: 5 | AGE2: 5 | AGF2: 5 | AGG2: 5 | AGH2: 5 | AGI2: 5 | AGJ2: 5 | AGK2: 5 | AGL2: 5 | AGM2: 5 | AGN2: 5 | AGO2: 5 | AGP2: 5 | AGQ2: 5 | AGR2: 5 | AGS2: 5 | AGT2: 5 | AGU2: 5 | AGV2: 5 | AGW2: 5 | AGX2: 5 | AGY2: 5 | AGZ2: 5 | AHA2: 5 | AHB2: 5 | AHC2: 5 | AHD2: 5 | AHE2: 5 | AHF2: 5 | AHG2: 5 | AHH2: 5 | AHI2: 5 | AHJ2: 5 | AHK2: 5 | AHL2: 5 | AHM2: 5 | AHN2: 5 | AHO2: 5 | AHP2: 5 | AHQ2: 5 | AHR2: 5 | AHS2: 5 | AHT2: 5 | AHU2: 5 | AHV2: 5 | AHW2: 5 | AHX2: 5 | AHY2: 5 | AHZ2: 5 | AIA2: 5 | AIB2: 5 | AIC2: 5 | AID2: 5 | AIE2: 5 | AIF2: 5 | AIG2: 5 | AIH2: 5 | AII2: 5 | AIJ2: 5 | AIK2: 5 | AIL2: 5 | AIM2: 5 | AIN2: 5 | AIO2: 5 | AIP2: 5 | AIQ2: 5 | AIR2: 5 | AIS2: 5 | AIT2: 5 | AIU2: 5 | AIV2: 5 | AIW2: 5 | AIX2: 5 | AIY2: 5 | AIZ2: 5 | AJA2: 5 | AJB2: 5 | AJC2: 5 | AJD2: 5 | AJE2: 5 | AJF2: 5 | AJG2: 5 | AJH2: 5 | AJI2: 5 | AJJ2: 5 | AJK2: 5 | AJL2: 5 | AJM2: 5 | AJN2: 5 | AJO2: 5 | AJP2: 5 | AJQ2: 5 | AJR2: 5 | AJS2: 5 | AJT2: 5 | AJU2: 5 | AJV2: 5 | AJW2: 5 | AJX2: 5 | AJY2: 5 | AJZ2: 5 | AKA2: 5 | AKB2: 5 | AKC2: 5 | AKD2: 5 | AKE2: 5 | AKF2: 5 | AKG2: 5 | AKH2: 5 | AKI2: 5 | AKJ2: 5 | AKK2: 5 | AKL2: 5 | AKM2: 5 | AKN2: 5 | AKO2: 5 | AKP2: 5 | AKQ2: 5 | AKR2: 5 | AKS2: 5 | AKT2: 5 | AKU2: 5 | AKV2: 5 | AKW2: 5 | AKX2: 5 | AKY2: 5 | AKZ2: 5 | ALA2: 5 | ALB2: 5 | ALC2: 5 | ALD2: 5 | ALE2: 5 | ALF2: 5 | ALG2: 5 | ALH2: 5 | ALI2: 5 | ALJ2: 5 | ALK2: 5 | ALL2: 5 | ALM2: 5 | ALN2: 5 | ALO2: 5 | ALP2: 5 | ALQ2: 5 | ALR2: 5 | ALS2: 5 | ALT2: 5 | ALU2: 5 | ALV2: 5 | ALW2: 5 | ALX2: 5 | ALY2: 5 | ALZ2: 5 | AMA2: 5 | AMB2: 5 | AMC2: 5 | AMD2: 5 | AME2: 5 | AMF2: 5 | AMG2: 5 | AMH2: 5 | AMI2: 5 | AMJ2: 5 | AMK2: 5 | AML2: 5 | AMM2: 5 | AMN2: 5 | AMO2: 5 | AMP2: 5 | AMQ2: 5 | AMR2: 5 | AMS2: 5 | AMT2: 5 | AMU2: 5 | AMV2: 5 | AMW2: 5 | AMX2: 5 | AMY2: 5 | AMZ2: 5 | ANA2: 5 | ANB2: 5 | ANC2: 5 | AND2: 5 | ANE2: 5 | ANF2: 5 | ANG2: 5 | ANH2: 5 | ANI2: 5 | ANJ2: 5 | ANK2: 5 | ANL2: 5 | ANM2: 5 | ANN2: 5 | ANO2: 5 | ANP2: 5 | ANQ2: 5 | ANR2: 5 | ANS2: 5 | ANT2: 5 | ANU2: 5 | ANV2: 5 | ANW2: 5 | ANX2: 5 | ANY2: 5 | ANZ2: 5 | AOA2: 5 | AOB2: 5 | AOC2: 5 | AOD2: 5 | AOE2: 5 | AOF2: 5 | AOG2: 5 | AOH2: 5 | AOI2: 5 | AOJ2: 5 | AOK2: 5 | AOL2: 5 | AOM2: 5 | AON2: 5 | AOO2: 5 | AOP2: 5 | AOQ2: 5 | AOR2: 5 | AOS2: 5 | AOT2: 5 | AOU2: 5 | AOV2: 5 | AOW2: 5 | AOX2: 5 | AOY2: 5 | AOZ2: 5 | APA2: 5 | APB2: 5 | APC2: 5 | APD2: 5 | APE2: 5 | APF2: 5 | APG2: 5 | APH2: 5.1 | API2: 5.1 | APJ2: 5.1 | APK2: 5.1 | APL2: 6 | APM2: 6 | APN2: 6 | APO2: 6 | APP2: 6 | APQ2: 6 | APR2: 6 | APS2: 6 | APT2: 6 | APU2: 6 | APV2: 6 | APW2: 6 | APX2: 6 | APY2: 6 | APZ2: 6 | AQA2: 6 | AQB2: 6 | AQC2: 6 | AQD2: 6 | AQE2: 6 | AQF2: 6 | AQG2: 6 | AQH2: 6 | AQI2: 6 | AQJ2: 6 | AQK2: 6 | AQL2: 6 | AQM2: 6 | AQN2: 6 | AQO2: 6 | AQP2: 6 | AQQ2: 6 | AQR2: 6 | AQS2: 6 | AQT2: 6 | AQU2: 6 | AQV2: 6 | AQW2: 6 | AQX2: 6 | AQY2: 6 | AQZ2: 6 | ARA2: 6 | ARB2: 6 | ARC2: 6 | ARD2: 6 | ARE2: 6 | ARF2: 6 | ARG2: 6 | ARH2: 6 | ARI2: 6 | ARJ2: 6 | ARK2: 6 | ARL2: 6 | ARM2: 6 | ARN2: 6 | ARO2: 6 | ARP2: 6 | ARQ2: 6 | ARR2: 6 | ARS2: 6 | ART2: 6 | ARU2: 6 | ARV2: 6 | ARW2: 6 | ARX2: 6 | ARY2: 6 | ARZ2: 6 | ASA2: 6 | ASB2: 6 | ASC2: 6 | ASD2: 6 | ASE2: 6 | ASF2: 6 | ASG2: 6 | ASH2: 6 | ASI2: 6 | ASJ2: 6 | ASK2: 6 | ASL2: 6 | ASM2: 6 | ASN2: 6 | ASO2: 6 | ASP2: 6 | ASQ2: 6 | ASR2: 6 | ASS2: 6 | AST2: 6 | ASU2: 6 | ASV2: 6 | ASW2: 6 | ASX2: 6 | ASY2: 6 | ASZ2: 6 | ATA2: 6 | ATB2: 6 | ATC2: 6 | ATD2: 6 | ATE2: 6 | ATF2: 6 | ATG2: 6 | ATH2: 6 | ATI2: 6 | ATJ2: 6 | ATK2: 6 | ATL2: 6 | ATM2: 6 | ATN2: 6 | ATO2: 6 | ATP2: 6 | ATQ2: 6 | ATR2: 6 | ATS2: 6 | ATT2: 6 | ATU2: 6 | ATV2: 6 | ATW2: 6 | ATX2: 6 | ATY2: 6 | ATZ2: 6 | AUA2: 6 | AUB2: 6 | AUC2: 6 | AUD2: 6 | AUE2: 6 | AUF2: 6 | AUG2: 6 | AUH2: 6 | AUI2: 6 | AUJ2: 6 | AUK2: 6 | AUL2: 6 | AUM2: 6 | AUN2: 6 | AUO2: 6 | AUP2: 6 | AUQ2: 6 | AUR2: 6 | AUS2: 6 | AUT2: 6 | AUU2: 6 | AUV2: 6 | AUW2: 6 | AUX2: 6 | AUY2: 6 | AUZ2: 6 | AVA2: 6 | AVB2: 6 | AVC2: 6 | AVD2: 6 | AVE2: 6 | AVF2: 6 | AVG2: 6 | AVH2: 6 | AVI2: 6 | AVJ2: 6 | AVK2: 6 | AVL2: 6 | AVM2: 6 | AVN2: 6 | AVO2: 6 | AVP2: 6 | AVQ2: 6 | AVR2: 6 | AVS2: 6 | AVT2: 6 | AVU2: 6 | AVV2: 6 | AVW2: 6 | AVX2: 6 | AVY2: 6 | AVZ2: 6 | AWA2: 6 | AWB2: 6 | AWC2: 6 | AWD2: 6 | AWE2: 6 | AWF2: 6 | AWG2: 6 | AWH2: 6 | AWI2: 6 | AWJ2: 6 | AWK2: 6 | AWL2: 6 | AWM2: 6 | AWN2: 6 | AWO2: 6 | AWP2: 6 | AWQ2: 6 | AWR2: 6 | AWS2: 6 | AWT2: 6 | AWU2: 6 | AWV2: 6 | AWW2: 6 | AWX2: 6 | AWY2: 6 | AWZ2: 6 | AXA2: 6 | AXB2: 6 | AXC2: 6 | AXD2: 6 | AXE2: 6 | AXF2: 6 | AXG2: 6 | AXH2: 6 | AXI2: 6 | AXJ2: 6 | AXK2: 6 | AXL2: 6 | AXM2: 6 | AXN2: 7 | AXO2: 7 | AXP2: 7 | AXQ2: 7 | AXR2: 7 | AXS2: 7 | AXT2: 7 | AXU2: 7 | AXV2: 7 | AXW2: 7 | AXX2: 7 | AXY2: 7 | AXZ2: 7 | AYA2: 7 | AYB2: 7 | AYC2: 7 | AYD2: 7 | AYE2: 7 | AYF2: 7 | AYG2: 7 | AYH2: 7 | AYI2: 7 | AYJ2: 7 | AYK2: 7 | AYL2: 7 | AYM2: 7 | AYN2: 7 | AYO2: 7 | AYP2: 7 | AYQ2: 7 | AYR2: 7 | AYS2: 7 | AYT2: 7 | AYU2: 7 | AYV2: 7 | AYW2: 7 | AYX2: 7 | AYY2: 7 | AYZ2: 7 | AZA2: 7 | AZB2: 7 | AZC2: 7 | AZD2: 7 | AZE2: 7 | AZF2: 7 | AZG2: 7 | AZH2: 7 | AZI2: 7 | AZJ2: 7 | AZK2: 7 | AZL2: 7 | AZM2: 7 | AZN2: 7 | AZO2: 7 | AZP2: 7 | AZQ2: 7 | AZR2: 7 | AZS2: 7 | AZT2: 7 | AZU2: 7 | AZV2: 7 | AZW2: 7 | AZX2: 7 | AZY2: 7 | AZZ2: 7 | BAA2: 7 | BAB2: 7 | BAC2: 7 | BAD2: 7 | BAE2: 7 | BAF2: 8 | BAG2: 8 | BAH2: 8 | BAI2: 8 | BAJ2: 8 | BAK2: 8 | BAL2: 8 | BAM2: 8 | BAN2: 8 | BAO2: 8 | BAP2: 8 | BAQ2: 8 | BAR2: 8 | BAS2: 8 | BAT2: 8 | BAU2: 8 | BAV2: 8 | BAW2: 8 | BAX2: 8 | BAY2: 8 | BAZ2: 8 | BBA2: 9 | BBB2: 9 | BBC2: 9 | BBD2: 9 | BBE2: 9 | BBF2: 9 | BBG2: 9 | BBH2: 9 | BBI2: 9 | BBJ2: 9 | BBK2: 9 | BBL2: 9 | BBM2: 9 | BBN2: 9 | BBO2: 9 | BBP2: 9 | BBQ2: 9 | BBR2: 9 | BBS2: 9 | BBT2: 9 | BBU2: 9 | BBV2: 9 | BBW2: 9 | BBX2: 9 | BBY2: 9 | BBZ2: 9 | BCA2: 9 | BCB2: 9 | BCC2: 9 | BCD2: 9 | BCE2: 9 | BCF2: 9 | BCG2: 9 | BCH2: 9 | BCI2: 9 | BCJ2: 9 | BCK2: 9 | BCL2: 9 | BCM2: 9 | BCN2: 9 | BCO2: 9 | BCP2: 9 | BCQ2: 9 | BCR2: 9 | BCS2: 9 | BCT2: 9 | BCU2: 9 | BCV2: 9 | BCW2: 9 | BCX2: 9 | BCY2: 9 | BCZ2: 9 | BDA2: 9 | BDB2: 9 | BDC2: 9 | BDD2: 9 | BDE2: 9 | BDF2: 9 | BDG2: 9 | BDH2: 9 | BDI2: 9 | BDJ2: 9 | BDK2: 9 | BDL2: 9 | BDM2: 9 | BDN2: 9 | BDO2: 9 | BDP2: 9 | BDQ2: 9 | BDR2: 9 | BDS2: 9 | BDT2: 9 | BDU2: 9 | BDV2: 9 | BDW2: 9 | BDX2: 9 | BDY2: 9 | BDZ2: 9 | BEA2: 9 | BEB2: 9 | BEC2: 9 | BED2: 9 | BEE2: 9 | BEF2: 9 | BEG2: 9 | BEH2: 9 | BEI2: 9 | BEJ2: 9 | BEK2: 9 | BEL2: 9 | BEM2: 9 | BEN2: 9 | BEO2: 9 | BEP2: 9 | BEQ2: 9 | BER2: 9 | BES2: 9 | BET2: 9 | BEU2: 9 | BEV2: 9 | BEW2: 9 | BEX2: 9 | BEY2: 9 | BEZ2: 9 | BFA2: 9 | BFB2: 9 | BFC2: 9 | BFD2: 9 | BFE2: 9 | BFF2: 9 | BFG2: 9 | BFH2: 9 | BFI2: 9 | BFJ2: 9 | BFK2: 9 | BFL2: 9 | BFM2: 9 | BFN2: 9 | BFO2: 9 | BFP2: 9 | BFQ2: 9 | BFR2: 9 | BFS2: 9 | BFT2: 9 | BFU2: 9 | BFV2: 9 | BFW2: 9 | BFX2: 9 | BFY2: 9 | BFZ2: 9 | BGA2: 9 | BGB2: 9 | BGC2: 9 | BGD2: 9 | BGE2: 9 | BGF2: 9 | BGG2: 9 | BGH2: 9 | BGI2: 9 | BGJ2: 9 | BGK2: 10 | BGL2: 10 | BGM2: 10 | BGN2: 10 | BGO2: 10 | BGP2: 10 | BGQ2: 10 | BGR2: 10 | BGS2: 10 | BGT2: 10 | BGU2: 10 | BGV2: 10 | BGW2: 10 | BGX2: 10 | BGY2: 10 | BGZ2: 10 | BHA2: 10 | BHB2: 10 | BHC2: 10 | BHD2: 10 | BHE2: 10 | BHF2: 11 | BHG2: 11 | BHH2: 11 | BHI2: 11 | BHJ2: 11 | BHK2: 11 | BHL2: 11 | BHM2: 11 | BHN2: 11 | BHO2: 11 | BHP2: 11 | BHQ2: 11 | BHR2: 11 | BHS2: 11 | BHT2: 11 | BHU2: 11 | BHV2: 11 | BHW2: 11 | BHX2: 11 | BHY2: 11 | BHZ2: 11 | BIA2: 11 | BIB2: 11 | BIC2: 11 | BID2: 11 | BIE2: 11 | BIF2: 11 | BIG2: 11 | BIH2: 11 | BII2: 11 | BIJ2: 11 | BIK2: 11 | BIL2: 11 | BIM2: 11 | BIN2: 11 | BIO2: 11 | BIP2: 11 | BIQ2: 11 | BIR2: 11 | BIS2: 11 | BIT2: 11 | BIU2: 11 | BIV2: 11 | BIW2: 11 | BIX2: 11 | BIY2: 11 | BIZ2: 11 | BJA2: 11 | BJB2: 11 | BJC2: 11 | BJD2: 11 | BJE2: 11 | BJF2: 11 | BJG2: 11 | BJH2: 11 | BJI2: 11 | BJJ2: 11 | BJK2: 11 | BJL2: 11 | BJM2: 11 | BJN2: 11 | BJO2: 11 | BJP2: 11 | BJQ2: 11 | BJR2: 11 | BJS2: 11 | BJT2: 11 | BJU2: 11 | BJV2: 11 | BJW2: 11 | BJX2: 11 | BJY2: 11 | BJZ2: 11 | BKA2: 11 | BKB2: 11 | BKC2: 11 | BKD2: 11 | BKE2: 11 | BKF2: 11 | BKG2: 11 | BKH2: 11 | BKI2: 11 | BKJ2: 11 | BKK2: 11 | BKL2: 11 | BKM2: 11 | BKN2: 11 | BKO2: 11 | BKP2: 11 | BKQ2: 11 | BKR2: 11 | BKS2: 11 | BKT2: 11 | BKU2: 11 | BKV2: 11 | BKW2: 11 | BKX2: 11 | BKY2: 11 | BKZ2: 11 | BLA2: 11 | BLB2: 11 | BLC2: 11 | BLD2: 11 | BLE2: 11 | BLF2: 12 | BLG2: 12 | BLH2: 12 | BLI2: 12 | BLJ2: 12 | BLK2: 12 | BLL2: 12 | BLM2: 12 | BLN2: 12 | BLO2: 12 | BLP2: 12 | BLQ2: 12 | BLR2: 12 | BLS2: 12 | BLT2: 12 | BLU2: 12 | BLV2: 12 | BLW2: 12 | BLX2: 12 | BLY2: 12 | BLZ2: 12 | BMA2: 12 | BMB2: 12 | BMC2: 12 | BMD2: 12 | BME2: 12 | BMF2: 12 | BMG2: 12 | BMH2: 12 | BMI2: 12 | BMJ2: 12 | BMK2: 12 | BML2: 12 | BMM2: 12 | BMN2: 12 | BMO2: 12 | BMP2: 12 | BMQ2: 12 | BMR2: 12 | BMS2: 12 | BMT2: 12 | BMU2: 12 | BMV2: 12 | BMW2: 12 | BMX2: 12 | BMY2: 12 | BMZ2: 12 | BNA2: 12 | BNB2: 12 | BNC2: 12 | BND2: 12 | BNE2: 12 | BNF2: 12 | BNG2: 12 | BNH2: 12 | BNI2: 12 | BNJ2: 12 | BNK2: 12 | BNL2: 12 | BNM2: 12 | BNN2: 12 | BNO2: 12 | BNP2: 12 | BNQ2: 12 | BNR2: 12 | BNS2: 12 | BNT2: 12 | BNU2: 12 | BNV2: 12 | BNW2: 12 | BNX2: 12 | BNY2: 12 | BNZ2: 12 | BOA2: 12 | BOB2: 12 | BOC2: 13 | BOD2: 13 | BOE2: 13 | BOF2: 13 | BOG2: 13 | BOH2: 13 | BOI2: 13 | BOJ2: 13 | BOK2: 13 | BOL2: 13 | BOM2: 13 | BON2: 13 | BOO2: 13 | BOP2: 13 | BOQ2: 13 | BOR2: 13 | BOS2: 13 | BOT2: 13 | BOU2: 13 | BOV2: 13 | BOW2: 13 | BOX2: 13 | BOY2: 13 | BOZ2: 13 | BPA2: 13 | BPB2: 13 | BPC2: 13 | BPD2: 13 | BPE2: 13 | BPF2: 13 | BPG2: 13 | BPH2: 13 | BPI2: 13 | BPJ2: 13 | BPK2: 13 | BPL2: 13 | BPM2: 13 | BPN2: 13 | BPO2: 13 | BPP2: 13 | BPQ2: 13 | BPR2: 13 | BPS2: 13 | BPT2: 13 | BPU2: 13 | BPV2: 14 | BPW2: 14 | BPX2: 14 | BPY2: 14 | BPZ2: 14 | BQA2: 14 | BQB2: 14 | BQC2: 14 | BQD2: 14 | BQE2: 14 | BQF2: 14 | BQG2: 14 | BQH2: 14 | BQI2: 14 | BQJ2: 14 | BQK2: 14 | BQL2: 14 | BQM2: 14 | BQN2: 14 | BQO2: 14 | BQP2: 14 | BQQ2: 14 | BQR2: 14 | BQS2: 14 | BQT2: 14 | BQU2: 14 | BQV2: 14 | BQW2: 14 | BQX2: 14 | BQY2: 14 | BQZ2: 14 | BRA2: 14 | BRB2: 14 | BRC2: 14 | BRD2: 14 | BRE2: 14 | BRF2: 14 | BRG2: 14 | BRH2: 14 | BRI2: 14 | BRJ2: 14 | BRK2: 14 | BRL2: 14 | BRM2: 14 | BRN2: 14 | BRO2: 14 | BRP2: 14 | BRQ2: 14 | BRR2: 14 | BRS2: 14 | BRT2: 14 | BRU2: 14 | BRV2: 14 | BRW2: 14 | BRX2: 14 | BRY2: 14 | BRZ2: 14 | BSA2: 14 | BSB2: 14 | BSC2: 14 | BSD2: 14 | BSE2: 14 | BSF2: 14 | BSG2: 14 | BSH2: 14 | BSI2: 14 | BSJ2: 14 | BSK2: 14 | BSL2: 14 | BSM2: 14 | BSN2: 14 | BSO2: 14 | BSP2: 14 | BSQ2: 14 | BSR2: 14 | BSS2: 15 | BST2: 15 | BSU2: 15 | BSV2: 15 | BSW2: 15 | BSX2: 15 | BSY2: 15 | BSZ2: 15 | BTA2: 15 | BTB2: 15 | BTC2: 15 | BTD2: 15 | BTE2: 15 | BTF2: 15 | BTG2: 15 | BTH2: 15 | BTI2: 15 | BTJ2: 15 | BTK2: 15 | BTL2: 15 | BTM2: 15 | BTN2: 15 | BTO2: 15 | BTP2: 15 | BTQ2: 15 | BTR2: 15 | BTS2: 15 | BTT2: 15 | BTU2: 15 | BTV2: 15 | BTW2: 15 | BTX2: 15 | BTY2: 15 | BTZ2: 15 | BUA2: 15 | BUB2: 15 | BUC2: 15 | BUD2: 15 | BUE2: 15 | BUF2: 15 | BUG2: 15 | BUH2: 15 | BUI2: 15 | BUJ2: 15 | BUK2: 15 | BUL2: 15 | BUM2: 15 | BUN2: 15 | BUO2: 15 | BUP2: 15 | BUQ2: 15 | BUR2: 15 | BUS2: 15 | BUT2: 15 | BUU2: 15 | BUV2: 15 | BUW2: 15 | BUX2: 15 | BUY2: 15 | BUZ2: 15 | BVA2: 15 | BVB2: 15 | BVC2: 15 | BVD2: 15 | BVE2: 15 | BVF2: 15 | BVG2: 15 | BVH2: 15 | BVI2: 15 | BVJ2: 15 | BVK2: 15 | BVL2: 15 | BVM2: 15 | BVN2: 15 | BVO2: 15 | BVP2: 16 | BVQ2: 16 | BVR2: 16 | BVS2: 16 | BVT2: 16 | BVU2: 16 | BVV2: 16 | BVW2: 16 | BVX2: 16 | BVY2: 16 | BVZ2: 16 | BWA2: 16 | BWB2: 16 | BWC2: 16 | BWD2: 16 | BWE2: 16 | BWF2: 16 | BWG2: 16 | BWH2: 16 | BWI2: 16 | BWJ2: 16 | BWK2: 16 | BWL2: 16 | BWM2: 16 | BWN2: 16 | BWO2: 16 | BWP2: 16 | BWQ2: 16 | BWR2: 16 | BWS2: 16 | BWT2: 16 | BWU2: 16 | BWV2: 16 | BWW2: 16 | BWX2: 16 | BWY2: 16 | BWZ2: 16 | BXA2: 16 | BXB2: 16 | BXC2: 16 | BXD2: 16 | BXE2: 16 | BXF2: 16 | BXG2: 16 | BXH2: 16 | BXI2: 16 | BXJ2: 16 | BXK2: 16 | BXL2: 16 | BXM2: 16 | BXN2: 16 | BXO2: 16 | BXP2: 16 | BXQ2: 16 | BXR2: 16 | BXS2: 16 | BXT2: 16 | BXU2: 16 | BXV2: 16 | BXW2: 16 | BXX2: 16 | BXY2: 16 | BXZ2: 16 | BYA2: 16 | BYB2: 16 | BYC2: 16 | BYD2: 16 | BYE2: 16 | BYF2: 16 | BYG2: 16 | BYH2: 16 | BYI2: 16 | BYJ2: 16 | BYK2: 16 | BYL2: 16 | BYM2: 16 | BYN2: 16 | BYO2: 16 | BYP2: 16 | BYQ2: 16 | BYR2: 16 | BYS2: 16 | BYT2: 16 | BYU2: 16 | BYV2: 16 | BYW2: 16 | BYX2: 16 | BYY2: 16 | BYZ2: 16 | BZA2: 16 | BZB2: 17 | BZC2: 17 | BZD2: 17 | BZE2: 17 | BZF2: 17 | BZG2: 17 | BZH2: 17 | BZI2: 17 | BZJ2: 17 | BZK2: 17 | BZL2: 17 | BZM2: 17 | BZN2: 17 | BZO2: 17 | BZP2: 17 | BZQ2: 17 | BZR2: 17 | BZS2: 17 | BZT2: 17 | BZU2: 17 | BZV2: 17 | BZW2: 17 | BZX2: 17 | BZY2: 17 | BZZ2: 17 | CAA2: 17 | CAB2: 17 | CAC2: 17 | CAD2: 17 | CAE2: 17 | CAF2: 17 | CAG2: 17 | CAH2: 17 | CAI2: 17 | CAJ2: 17 | CAK2: 17 | CAL2: 17 | CAM2: 17 | CAN2: 17 | CAO2: 17 | CAP2: 17 | CAQ2: 17 | CAR2: 17 | CAS2: 17 | CAT2: 17 | CAU2: 17 | CAV2: 17 | CAW2: 17 | CAX2: 17 | CAY2: 17 | CAZ2: 17 | CBA2: 17 | CBB2: 17 | CBC2: 17 | CBD2: 17 | CBE2: 17 | CBF2: 17 | CBG2: 17 | CBH2: 17 | CBI2: 17 | CBJ2: 17 | CBK2: 17 | CBL2: 17 | CBM2: 17 | CBN2: 17 | CBO2: 17 | CBP2: 17 | CBQ2: 17 | CBR2: 17 | CBS2: 17 | CBT2: 17 | CBU2: 17 | CBV2: 17 | CBW2: 17 | CBX2: 17 | CBY2: 17 | CBZ2: 17 | CCA2: 17 | CCB2: 17 | CCC2: 17 | CCD2: 17 | CCE2: 17 | CCF2: 17 | CCG2: 17 | CCH2: 17 | CCI2: 17 | CCJ2: 17 | CCK2: 17 | CCL2: 17 | CCM2: 17 | CCN2: 17 | CCO2: 17 | CCP2: 17 | CCQ2: 17 | CCR2: 17 | CCS2: 17 | CCT2: 17 | CCU2: 17 | CCV2: 17 | CCW2: 17 | CCX2: 17 | CCY2: 17 | CCZ2: 17 | CDA2: 17 | CDB2: 17 | CDC2: 17 | CDD2: 17 | CDE2: 17 | CDF2: 17 | CDG2: 17 | CDH2: 17 | CDI2: 17 | CDJ2: 17 | CDK2: 17 | CDL2: 17 | CDM2: 17 | CDN2: 17 | CDO2: 17 | CDP2: 17 | CDQ2: 17 | CDR2: 17 | CDS2: 17 | CDT2: 17 | CDU2: 17 | CDV2: 17 | CDW2: 17 | CDX2: 17 | CDY2: 17 | CDZ2: 17 | CEA2: 17 | CEB2: 17 | CEC2: 17 | CED2: 17 | CEE2: 17 | CEF2: 17 | CEG2: 17 | CEH2: 17 | CEI2: 17 | CEJ2: 17 | CEK2: 17 | CEL2: 17 | CEM2: 17 | CEN2: 17 | CEO2: 17 | CEP2: 17 | CEQ2: 17 | CER2: 17 | CES2: 17 | CET2: 17 | CEU2: 17 | CEV2: 17 | CEW2: 17 | CEX2: 17 | CEY2: 17 | CEZ2: 17 | CFA2: 17 | CFB2: 17 | CFC2: 17 | CFD2: 17 | CFE2: 17 | CFF2: 17 | CFG2: 17 | CFH2: 17 | CFI2: 17 | CFJ2: 17 | CFK2: 17 | CFL2: 17 | CFM2: 17 | CFN2: 17 | CFO2: 18 | CFP2: 18 | CFQ2: 18 | CFR2: 18 | CFS2: 18 | CFT2: 18 | CFU2: 18 | CFV2: 18 | CFW2: 18 | CFX2: 18 | CFY2: 18 | CFZ2: 18 | CGA2: 18 | CGB2: 18 | CGC2: 18 | CGD2: 18 | CGE2: 18 | CGF2: 18 | CGG2: 18 | CGH2: 18 | CGI2: 18 | CGJ2: 18 | CGK2: 18 | CGL2: 18 | CGM2: 18 | CGN2: 18 | CGO2: 18 | CGP2: 18 | CGQ2: 18 | CGR2: 18 | CGS2: 18 | CGT2: 18 | CGU2: 18 | CGV2: 18 | CGW2: 18 | CGX2: 18 | CGY2: 18 | CGZ2: 18 | CHA2: 18 | CHB2: 18 | CHC2: 18 | CHD2: 18 | CHE2: 18 | CHF2: 18 | CHG2: 18 | CHH2: 18 | CHI2: 18 | CHJ2: 18 | CHK2: 18 | CHL2: 18 | CHM2: 18 | CHN2: 18 | CHO2: 18 | CHP2: 18 | CHQ2: 18 | CHR2: 18 | CHS2: 18 | CHT2: 18 | CHU2: 18 | CHV2: 18 | CHW2: 18 | CHX2: 18 | CHY2: 18 | CHZ2: 18 | CIA2: 18 | CIB2: 18 | CIC2: 18 | CID2: 18 | CIE2: 18 | CIF2: 18 | CIG2: 18 | CIH2: 18 | CII2: 18 | CIJ2: 18 | CIK2: 18 | CIL2: 18 | CIM2: 18 | CIN2: 18 | CIO2: 18 | CIP2: 18 | CIQ2: 18 | CIR2: 18 | CIS2: 18 | CIT2: 18 | CIU2: 18 | CIV2: 18 | CIW2: 18 | CIX2: 18 | CIY2: 18 | CIZ2: 18 | CJA2: 18 | CJB2: 18 | CJC2: 18 | CJD2: 18 | CJE2: 18 | CJF2: 18 | CJG2: 18 | CJH2: 18 | CJI2: 18 | CJJ2: 18 | CJK2: 18 | CJL2: 18 | CJM2: 18 | CJN2: 18 | CJO2: 18 | CJP2: 18 | CJQ2: 18 | CJR2: 18 | CJS2: 18 | CJT2: 18 | CJU2: 18 | CJV2: 18 | CJW2: 18 | CJX2: 18 | CJY2: 18 | CJZ2: 18 | CKA2: 18 | CKB2: 18 | CKC2: 18 | CKD2: 18 | CKE2: 18 | CKF2: 18 | CKG2: 18 | CKH2: 18 | CKI2: 18 | CKJ2: 18 | CKK2: 18 | CKL2: 18 | CKM2: 18 | CKN2: 18 | CKO2: 18 | CKP2: 18 | CKQ2: 18 | CKR2: 18 | CKS2: 18 | CKT2: 18 | CKU2: 18 | CKV2: 18 | CKW2: 18 | CKX2: 18 | CKY2: 18 | CKZ2: 18 | CLA2: 18 | CLB2: 18 | CLC2: 18 | CLD2: 18 | CLE2: 18 | CLF2: 18 | CLG2: 18 | CLH2: 18 | CLI2: 18 | CLJ2: 18 | CLK2: 18 | CLL2: 18 | CLM2: 18 | CLN2: 18 | CLO2: 18 | CLP2: 18 | CLQ2: 18 | CLR2: 18 | CLS2: 18 | CLT2: 18 | CLU2: 18 | CLV2: 18 | CLW2: 18 | CLX2: 18 | CLY2: 18 | CLZ2: 18 | CMA2: 18 | CMB2: 18 | CMC2: 18 | CMD2: 18 | CME2: 18 | CMF2: 18 | CMG2: 18 | CMH2: 18 | CMI2: 18 | CMJ2: 18 | CMK2: 18 | CML2: 18 | CMM2: 18 | CMN2: 18 | CMO2: 18 | CMP2: 18 | CMQ2: 18 | CMR2: 18 | CMS2: 18 | CMT2: 18 | CMU2: 18 | CMV2: 18 | CMW2: 18 | CMX2: 18 | CMY2: 18 | CMZ2: 18 | CNA2: 18 | CNB2: 18 | CNC2: 18 | CND2: 18 | CNE2: 18 | CNF2: 18 | CNG2: 18 | CNH2: 18 | CNI2: 18 | CNJ2: 18 | CNK2: 18 | CNL2: 18 | CNM2: 18 | CNN2: 18 | CNO2: 18 | CNP2: 18 | CNQ2: 18 | CNR2: 18 | CNS2: 18 | CNT2: 18 | CNU2: 18 | CNV2: 18 | CNW2: 18 | CNX2: 18 | CNY2: 18 | CNZ2: 18 | COA2: 18 | COB2: 18 | COC2: 18 | COD2: 18 | COE2: 18 | COF2: 18 | COG2: 18 | COH2: 18 | COI2: 18 | COJ2: 18 | COK2: 18 | COL2: 18 | COM2: 18 | CON2: 18 | COO2: 18 | COP2: 18 | COQ2: 18 | COR2: 18 | COS2: 18 | COT2: 18 | COU2: 18 | COV2: 18 | COW2: 18 | COX2: 18 | COY2: 18 | COZ2: 18 | CPA2: 18 | CPB2: 18 | CPC2: 18 | CPD2: 18 | CPE2: 18 | CPF2: 18 | CPG2: 18 | CPH2: 18 | CPI2: 18 | CPJ2: 18 | CPK2: 18 | CPL2: 18 | CPM2: 18 | CPN2: 18 | CPO2: 18 | CPP2: 18 | CPQ2: 18 | CPR2: 18 | CPS2: 19 | CPT2: 19 | CPU2: 19 | CPV2: 19 | CPW2: 19 | CPX2: 19 | CPY2: 19 | CPZ2: 19 | CQA2: 19 | CQB2: 19 | CQC2: 19 | CQD2: 19 | CQE2: 19 | CQF2: 19 | CQG2: 19 | CQH2: 19 | CQI2: 19 | CQJ2: 19 | CQK2: 19 | CQL2: 19 | CQM2: 19 | CQN2: 19 | CQO2: 19 | CQP2: 19 | CQQ2: 19 | CQR2: 19 | CQS2: 19 | CQT2: 19 | CQU2: 19 | CQV2: 19 | CQW2: 19 | CQX2: 19 | CQY2: 19 | CQZ2: 19 | CRA2: 19 | CRB2: 19 | CRC2: 19 | CRD2: 19 | CRE2: 19 | CRF2: 19 | CRG2: 19 | CRH2: 19 | CRI2: 19 | CRJ2: 19 | CRK2: 19 | CRL2: 19 | CRM2: 19 | CRN2: 19 | CRO2: 19 | CRP2: 19 | CRQ2: 19 | CRR2: 19 | CRS2: 19 | CRT2: 19 | CRU2: 19 | CRV2: 19 | CRW2: 19 | CRX2: 19 | CRY2: 19 | CRZ2: 19 | CSA2: 19 | CSB2: 19 | CSC2: 19 | CSD2: 19 | CSE2: 19 | CSF2: 19 | CSG2: 19 | CSH2: 19 | CSI2: 19 | CSJ2: 19 | CSK2: 19 | CSL2: 19 | CSM2: 19 | CSN2: 19 | CSO2: 19 | CSP2: 19 | CSQ2: 19 | CSR2: 19 | CSS2: 19 | CST2: 19 | CSU2: 19 | CSV2: 19 | CSW2: 19 | CSX2: 19 | CSY2: 19 | CSZ2: 19 | CTA2: 19 | CTB2: 19 | CTC2: 19 | CTD2: 19 | CTE2: 19 | CTF2: 19 | CTG2: 19 | CTH2: 19 | CTI2: 19 | CTJ2: 19 | CTK2: 19 | CTL2: 19 | CTM2: 19 | CTN2: 19 | CTO2: 19 | CTP2: 19 | CTQ2: 19 | CTR2: 19 | CTS2: 19 | CTT2: 19 | CTU2: 19 | CTV2: 19 | CTW2: 19 | CTX2: 19 | CTY2: 19 | CTZ2: 19 | CUA2: 19 | CUB2: 19 | CUC2: 19 | CUD2: 19 | CUE2: 19 | CUF2: 19 | CUG2: 19 | CUH2: 19 | CUI2: 19 | CUJ2: 19 | CUK2: 19 | CUL2: 19 | CUM2: 19 | CUN2: 19 | CUO2: 19 | CUP2: 19 | CUQ2: 19 | CUR2: 19 | CUS2: 19 | CUT2: 19 | CUU2: 19 | CUV2: 19 | CUW2: 19 | CUX2: 19 | CUY2: 19 | CUZ2: 19 | CVA2: 19 | CVB2: 19 | CVC2: 19 | CVD2: 19 | CVE2: 19 | CVF2: 19 | CVG2: 19 | CVH2: 19 | CVI2: 19 | CVJ2: 19 | CVK2: 19 | CVL2: 19 | CVM2: 19 | CVN2: 19 | CVO2: 19 | CVP2: 19 | CVQ2: 19 | CVR2: 19 | CVS2: 19 | CVT2: 19 | CVU2: 19 | CVV2: 19 | CVW2: 19 | CVX2: 19 | CVY2: 19 | CVZ2: 19 | CWA2: 19 | CWB2: 19 | CWC2: 19 | CWD2: 19 | CWE2: 19 | CWF2: 19 | CWG2: 19 | CWH2: 19 | CWI2: 19 | CWJ2: 19 | CWK2: 19 | CWL2: 19 | CWM2: 19 | CWN2: 19 | CWO2: 19 | CWP2: 19 | CWQ2: 19 | CWR2: 19 | CWS2: 19 | CWT2: 19 | CWU2: 19 | CWV2: 19 | CWW2: 19 | CWX2: 19 | CWY2: 19 | CWZ2: 19 | CXA2: 19 | CXB2: 19 | CXC2: 19 | CXD2: 19 | CXE2: 19 | CXF2: 19 | CXG2: 19 | CXH2: 19 | CXI2: 19 | CXJ2: 19 | CXK2: 19 | CXL2: 19 | CXM2: 19 | CXN2: 19 | CXO2: 19 | CXP2: 19 | CXQ2: 19 | CXR2: 19 | CXS2: 19 | CXT2: 19 | CXU2: 19 | CXV2: 19 | CXW2: 19 | CXX2: 19 | CXY2: 19 | CXZ2: 19 | CYA2: 19 | CYB2: 19 | CYC2: 19 | CYD2: 19 | CYE2: 19 | CYF2: 19 | CYG2: 19 | CYH2: 19 | CYI2: 19 | CYJ2: 19 | CYK2: 19 | CYL2: 19 | CYM2: 19 | CYN2: 19 | CYO2: 19 | CYP2: 19 | CYQ2: 19 | CYR2: 19 | CYS2: 19 | CYT2: 19 | CYU2: 19 | CYV2: 19 | CYW2: 19 | CYX2: 19 | CYY2: 19 | CYZ2: 19 | CZA2: 19 | CZB2: 19 | CZC2: 19 | CZD2: 19 | CZE2: 19 | CZF2: 19 | CZG2: 19 | CZH2: 19 | CZI2: 19 | CZJ2: 19 | CZK2: 19 | CZL2: 19 | CZM2: 19 | CZN2: 19 | CZO2: 19 | CZP2: 19 | CZQ2: 19 | CZR2: 19 | CZS2: 19 | CZT2: 19 | CZU2: 19 | CZV2: 19 | CZW2: 19 | CZX2: 19 | CZY2: 19 | CZZ2: 19 | DAA2: 19 | DAB2: 19 | DAC2: 19 | DAD2: 19 | DAE2: 19 | DAF2: 19 | DAG2: 19 | DAH2: 19 | DAI2: 19 | DAJ2: 19 | DAK2: 19 | DAL2: 19 | DAM2: 19 | DAN2: 19 | DAO2: 19 | DAP2: 19 | DAQ2: 19 | DAR2: 19 | DAS2: 19 | DAT2: 19 | DAU2: 19 | DAV2: 19 | DAW2: 19 | DAX2: 19 | DAY2: 19 | DAZ2: 19 | DBA2: 19 | DBB2: 19 | DBC2: 19 | DBD2: 19 | DBE2: 19 | DBF2: 19 | DBG2: 19 | DBH2: 19 | DBI2: 19 | DBJ2: 19 | DBK2: 19 | DBL2: 19 | DBM2: 19 | DBN2: 19 | DBO2: 19 | DBP2: 19 | DBQ2: 19 | DBR2: 19 | DBS2: 19 | DBT2: 19 | DBU2: 19 | DBV2: 19 | DBW2: 19 | DBX2: 19 | DBY2: 19 | DBZ2: 19 | DCA2: 19 | DCB2: 19 | DCC2: 19 | DCD2: 19 | DCE2: 19 | DCF2: 19 | DCG2: 19 | DCH2: 19 | DCI2: 19 | DCJ2: 19 | DCK2: 19 | DCL2: 19 | DCM2: 19 | DCN2: 19 | DCO2: 19 | DCP2: 19 | DCQ2: 19 | DCR2: 19 | DCS2: 19 | DCT2: 19 | DCU2: 19 | DCV2: 19 | DCW2: 19 | DCX2: 19 | DCY2: 19 | DCZ2: 19 | DDA2: 19 | DDB2: 19 | DDC2: 19 | DDD2: 19 | DDE2: 19 | DDF2: 19 | DDG2: 19 | DDH2: 19 | DDI2: 19 | DDJ2: 19 | DDK2: 19 | DDL2: 19 | DDM2: 19 | DDN2: 19 | DDO2: 19 | DDP2: 19 | DDQ2: 19 | DDR2: 19 | DDS2: 19 | DDT2: 19 | DDU2: 19 | DDV2: 19 | DDW2: 19 | DDX2: 19 | DDY2: 19 | DDZ2: 19 | DEA2: 19 | DEB2: 19 | DEC2: 19 | DED2: 19 | DEE2: 19 | DEF2: 19 | DEG2: 19 | DEH2: 19 | DEI2: 19 | DEJ2: 19 | DEK2: 19 | DEL2: 19 | DEM2: 19 | DEN2: 19 | DEO2: 19 | DEP2: 19 | DEQ2: 19 | DER2: 19 | DES2: 19 | DET2: 19 | DEU2: 19 | DEV2: 19 | DEW2: 19 | DEX2: 19 | DEY2: 19 | DEZ2: 19 | DFA2: 19 | DFB2: 19 | DFC2: 19 | DFD2: 19 | DFE2: 19 | DFF2: 19 | DFG2: 19 | DFH2: 19 | DFI2: 19 | DFJ2: 19 | DFK2: 19 | DFL2: 19 | DFM2: 19 | DFN2: 19 | DFO2: 19 | DFP2: 19 | DFQ2: 19 | DFR2: 19 | DFS2: 19 | DFT2: 19 | DFU2: 19 | DFV2: 19 | DFW2: 19 | DFX2: 19 | DFY2: 19 | DFZ2: 19 | DGA2: 19 | DGB2: 19 | DGC2: 19 | DGD2: 19 | DGE2: 19 | DGF2: 19 | DGG2: 19 | DGH2: 19 | DGI2: 19 | DGJ2: 19 | DGK2: 19 | DGL2: 19 | DGM2: 19 | DGN2: 19 | DGO2: 19 | DGP2: 19 | DGQ2: 19 | DGR2: 19 | DGS2: 19 | DGT2: 19 | DGU2: 19 | DGV2: 19 | DGW2: 19 | DGX2: 19 | DGY2: 19 | DGZ2: 19 | DHA2: 19 | DHB2: 19 | DHC2: 19 | DHD2: 19 | DHE2: 19 | DHF2: 19 | DHG2: 19 | DHH2: 19 | DHI2: 19 | DHJ2: 19 | DHK2: 19 | DHL2: 19 | DHM2: 19 | DHN2: 19 | DHO2: 19 | DHP2: 19 | DHQ2: 19 | DHR2: 19 | DHS2: 19 | DHT2: 19 | DHU2: 19 | DHV2: 19 | DHW2: 19 | DHX2: 19 | DHY2: 19 | DHZ2: 19 | DIA2: 19 | DIB2: 19 | DIC2: 19 | DID2: 19 | DIE2: 19 | DIF2: 19 | DIG2: 19 | DIH2: 19 | DII2: 19 | DIJ2: 19 | DIK2: 19 | DIL2: 19 | DIM2: 19 | DIN2: 19 | DIO2: 19 | DIP2: 19 | DIQ2: 19 | DIR2: 19 | DIS2: 19 | DIT2: 19 | DIU2: 19 | DIV2: 19 | DIW2: 19 | DIX2: 19 | DIY2: 19 | DIZ2: 19 | DJA2: 19 | DJB2: 19 | DJC2: 19 | DJD2: 19 | DJE2: 19 | DJF2: 19 | DJG2: 19 | DJH2: 19 | DJI2: 19 | DJJ2: 19 | DJK2: 19 | DJL2: 19 | DJM2: 19 | DJN2: 19 | DJO2: 19 | DJP2: 19 | DJQ2: 19 | DJR2: 19 | DJS2: 19 | DJT2: 19 | DJU2: 19 | DJV2: 19 | DJW2: 19 | DJX2: 19 | DJY2: 19 | DJZ2: 19 | DKA2: 19 | DKB2: 19 | DKC2: 19 | DKD2: 19 | DKE2: 19 | DKF2: 19 | DKG2: 19 | DKH2: 19 | DKI2: 19 | DKJ2: 19 | DKK2: 19 | DKL2: 19 | DKM2: 19 | DKN2: 19 | DKO2: 19 | DKP2: 19 | DKQ2: 19 | DKR2: 19 | DKS2: 19 | DKT2: 19 | DKU2: 19 | DKV2: 19 | DKW2: 19 | DKX2: 19 | DKY2: 19 | DKZ2: 19 | DLA2: 19 | DLB2: 19 | DLC2: 19 | DLD2: 19 | DLE2: 19 | DLF2: 19 | DLG2: 19 | DLH2: 19 | DLI2: 19 | DLJ2: 19 | DLK2: 19 | DLL2: 19 | DLM2: 19 | DLN2: 19 | DLO2: 19 | DLP2: 19 | DLQ2: 19 | DLR2: 19 | DLS2: 19 | DLT2: 19 | DLU2: 19 | DLV2: 19 | DLW2: 19 | DLX2: 19 | DLY2: 19 | DLZ2: 19 | DMA2: 19 | DMB2: 19 | DMC2: 19 | DMD2: 19 | DME2: 19 | DMF2: 19 | DMG2: 19 | DMH2: 19 | DMI2: 19 | DMJ2: 19 | DMK2: 19 | DML2: 19 | DMM2: 19 | DMN2: 19 | DMO2: 19 | DMP2: 19 | DMQ2: 19 | DMR2: 19 | DMS2: 19 | DMT2: 19 | DMU2: 19 | DMV2: 19 | DMW2: 19 | DMX2: 19 | DMY2: 19 | DMZ2: 19 | DNA2: 19 | DNB2: 19 | DNC2: 19 | DND2: 19 | DNE2: 19 | DNF2: 19 | DNG2: 19 | DNH2: 19 | DNI2: 19 | DNJ2: 19 | DNK2: 19 | DNL2: 19 | DNM2: 19 | DNN2: 19 | DNO2: 19 | DNP2: 19 | DNQ2: 19 | DNR2: 19 | DNS2: 19 | DNT2: 19 | DNU2: 19 | DNV2: 19 | DNW2: 19 | DNX2: 19 | DNY2: 19 | DNZ2: 19 | DOA2: 19 | DOB2: 19 | DOC2: 19 | DOD2: 19 | DOE2: 19 | DOF2: 19 | DOG2: 19 | DOH2: 19 | DOI2: 19 | DOJ2: 19 | DOK2: 19 | DOL2: 19 | DOM2: 19 | DON2: 19 | DOO2: 19 | DOP2: 19 | DOQ2: 19 | DOR2: 19 | DOS2: 19 | DOT2: 19 | DOU2: 19 | DOV2: 19 | DOW2: 19 | DOX2: 19 | DOY2: 19 | DOZ2: 19 | DPA2: 19 | DPB2: 19 | DPC2: 20 | DPD2: 20 | DPE2: 20 | DPF2: 20 | DPG2: 20 | DPH2: 20 | DPI2: 20 | DPJ2: 20 | DPK2: 20 | DPL2: 20 | DPM2: 20 | DPN2: 20 | DPO2: 20 | DPP2: 20 | DPQ2: 20 | DPR2: 20 | DPS2: 20 | DPT2: 20 | DPU2: 20 | DPV2: 20 | DPW2: 20 | DPX2: 20 | DPY2: 20 | DPZ2: 20 | DQA2: 20 | DQB2: 20 | DQC2: 20 | DQD2: 20 | DQE2: 20 | DQF2: 20 | DQG2: 20 | DQH2: 20 | DQI2: 20 | DQJ2: 20 | DQK2: 20 | DQL2: 20 | DQM2: 20 | DQN2: 20 | DQO2: 20 | DQP2: 20 | DQQ2: 20 | DQR2: 20 | DQS2: 20 | DQT2: 20 | DQU2: 20 | DQV2: 20 | DQW2: 20 | DQX2: 20 | DQY2: 20 | DQZ2: 20 | DRA2: 20 | DRB2: 20 | DRC2: 20 | DRD2: 20 | DRE2: 20 | DRF2: 20 | DRG2: 20 | DRH2: 20 | DRI2: 20 | DRJ2: 20 | DRK2: 20 | DRL2: 20 | DRM2: 20 | DRN2: 20 | DRO2: 20 | DRP2: 20 | DRQ2: 20 | DRR2: 20 | DRS2: 20 | DRT2: 20 | DRU2: 20 | DRV2: 20 | DRW2: 20 | DRX2: 20 | DRY2: 20 | DRZ2: 20 | DSA2: 20 | DSB2: 20 | DSC2: 20 | DSD2: 20 | DSE2: 20 | DSF2: 20 | DSG2: 20 | DSH2: 20 | DSI2: 20 | DSJ2: 20 | DSK2: 20 | DSL2: 20 | DSM2: 20 | DSN2: 20 | DSO2: 20 | DSP2: 20 | DSQ2: 20 | DSR2: 20 | DSS2: 20 | DST2: 20 | DSU2: 20 | DSV2: 20 | DSW2: 20 | DSX2: 20 | DSY2: 20 | DSZ2: 20 | DTA2: 20 | DTB2: 20 | DTC2: 20 | DTD2: 20 | DTE2: 20 | DTF2: 20 | DTG2: 20 | DTH2: 20 | DTI2: 20 | DTJ2: 20 | DTK2: 20 | DTL2: 20 | DTM2: 20 | DTN2: 20 | DTO2: 20 | DTP2: 20 | DTQ2: 20 | DTR2: 20 | DTS2: 20 | DTT2: 20 | DTU2: 20 | DTV2: 20 | DTW2: 20 | DTX2: 20 | DTY2: 20 | DTZ2: 20 | DUA2: 20 | DUB2: 20 | DUC2: 20 | DUD2: 20 | DUE2: 20 | DUF2: 20 | DUG2: 20 | DUH2: 20 | DUI2: 20 | DUJ2: 20 | DUK2: 20 | DUL2: 20 | DUM2: 20 | DUN2: 20 | DUO2: 20 | DUP2: 20 | DUQ2: 20 | DUR2: 20 | DUS2: 20 | DUT2: 20 | DUU2: 20 | DUV2: 20 | DUW2: 20 | DUX2: 20 | DUY2: 20 | DUZ2: 20 | DVA2: 20 | DVB2: 20 | DVC2: 20 | DVD2: 20 | DVE2: 20 | DVF2: 20 | DVG2: 20 | DVH2: 20 | DVI2: 20 | DVJ2: 20 | DVK2: 20 | DVL2: 20 | DVM2: 20 | DVN2: 20 | DVO2: 20 | DVP2: 20 | DVQ2: 20 | DVR2: 20 | DVS2: 20 | DVT2: 20 | DVU2: 20 | DVV2: 20 | DVW2: 20 | DVX2: 20 | DVY2: 20 | DVZ2: 20 | DWA2: 20 | DWB2: 20 | DWC2: 20 | DWD2: 20 | DWE2: 20 | DWF2: 20 | DWG2: 20 | DWH2: 20 | DWI2: 20 | DWJ2: 20 | DWK2: 20 | DWL2: 20 | DWM2: 20 | DWN2: 20 | DWO2: 20 | DWP2: 20 | DWQ2: 20 | DWR2: 20 | DWS2: 20 | DWT2: 20 | DWU2: 20 | DWV2: 20 | DWW2: 20 | DWX2: 20 | DWY2: 20 | DWZ2: 20 | DXA2: 20 | DXB2: 20 | DXC2: 20 | DXD2: 20 | DXE2: 20 | DXF2: 20 | DXG2: 20 | DXH2: 20 | DXI2: 20 | DXJ2: 20 | DXK2: 20 | DXL2: 20 | DXM2: 20 | DXN2: 20 | DXO2: 20 | DXP2: 20 | DXQ2: 20 | DXR2: 20 | DXS2: 20 | DXT2: 20 | DXU2: 20 | DXV2: 20 | DXW2: 20 | DXX2: 20 | DXY2: 20 | DXZ2: 20 | DYA2: 20 | DYB2: 20 | DYC2: 20 | DYD2: 20 | DYE2: 20 | DYF2: 20 | DYG2: 20 | DYH2: 20 | DYI2: 20 | DYJ2: 20 | DYK2: 20 | DYL2: 20 | DYM2: 20 | DYN2: 20 | DYO2: 20 | DYP2: 20 | DYQ2: 20 | DYR2: 20 | DYS2: 20 | DYT2: 20 | DYU2: 20 | DYV2: 20 | DYW2: 20 | DYX2: 20 | DYY2: 20 | DYZ2: 20 | DZA2: 20 | DZB2: 20 | DZC2: 20 | DZD2: 20 | DZE2: 20 | DZF2: 20 | DZG2: 20 | DZH2: 20 | DZI2: 20 | DZJ2: 20 | DZK2: 20 | DZL2: 20 | DZM2: 20 | DZN2: 20 | DZO2: 20 | DZP2: 20 | DZQ2: 20 | DZR2: 20 | DZS2: 20 | DZT2: 20 | DZU2: 20 | DZV2: 20 | DZW2: 20 | DZX2: 20 | DZY2: 20 | DZZ2: 20 | EAA2: 20 | EAB2: 20 | EAC2: 20 | EAD2: 20 | EAE2: 20 | EAF2: 20 | EAG2: 20 | EAH2: 20 | EAI2: 20 | EAJ2: 20 | EAK2: 20 | EAL2: 20 | EAM2: 20 | EAN2: 20 | EAO2: 20 | EAP2: 20 | EAQ2: 20 | EAR2: 20 | EAS2: 20 | EAT2: 20 | EAU2: 20 | EAV2: 20 | EAW2: 20 | EAX2: 20 | EAY2: 20 | EAZ2: 20 | EBA2: 20 | EBB2: 20 | EBC2: 20 | EBD2: 20 | EBE2: 20 | EBF2: 20 | EBG2: 20 | EBH2: 20 | EBI2: 20 | EBJ2: 20 | EBK2: 20 | EBL2: 20 | EBM2: 20 | EBN2: 20 | EBO2: 20 | EBP2: 20 | EBQ2: 20 | EBR2: 20 | EBS2: 20 | EBT2: 20 | EBU2: 20 | EBV2: 20 | EBW2: 20 | EBX2: 20 | EBY2: 20 | EBZ2: 20 | ECA2: 20 | ECB2: 20 | ECC2: 20 | ECD2: 20 | ECE2: 20 | ECF2: 20 | ECG2: 20 | ECH2: 20 | ECI2: 20 | ECJ2: 20 | ECK2: 20 | ECL2: 20 | ECM2: 20 | ECN2: 20 | ECO2: 20 | ECP2: 20 | ECQ2: 20 | ECR2: 20 | ECS2: 20 | ECT2: 20 | ECU2: 20 | ECV2: 20 | ECW2: 20 | ECX2: 20 | ECY2: 20 | ECZ2: 20 | EDA2: 20 | EDB2: 20 | EDC2: 20 | EDD2: 20 | EDE2: 20 | EDF2: 20 | EDG2: 20 | EDH2: 21 | EDI2: 21 | EDJ2: 21 | EDK2: 21 | EDL2: 21 | EDM2: 21 | EDN2: 21 | EDO2: 21 | EDP2: 21 | EDQ2: 21 | EDR2: 21 | EDS2: 21 | EDT2: 21 | EDU2: 21 | EDV2: 21 | EDW2: 21 | EDX2: 21 | EDY2: 21 | EDZ2: 21 | EEA2: 21 | EEB2: 21 | EEC2: 21 | EED2: 21 | EEE2: 22 | EEF2: 22 | EEG2: 22 | EEH2: 22 | EEI2: 22 | EEJ2: 22 | EEK2: 22 | EEL2: 22 | EEM2: 22 | EEN2: 22 | EEO2: 22 | EEP2: 22 | EEQ2: 22 | EER2: 22 | EES2: 22 | EET2: 22 | EEU2: 22 | EEV2: 22 | EEW2: 22 | EEX2: 22 | EEY2: 22 | EEZ2: 22 | EFA2: 22 | EFB2: 22 | EFC2: 22 | EFD2: 22 | EFE2: 22 | EFF2: 22 | EFG2: 22 | EFH2: 22 | EFI2: 22 | EFJ2: 22 | EFK2: 22 | EFL2: 22 | EFM2: 22 | EFN2: 22 | EFO2: 22 | EFP2: 22 | EFQ2: 22 | EFR2: 22 | EFS2: 22 | EFT2: 22 | EFU2: 22 | EFV2: 22 | EFW2: 22 | EFX2: 22 | EFY2: 22 | EFZ2: 22 | EGA2: 22 | EGB2: 22 | EGC2: 22 | EGD2: 22 | EGE2: 22 | EGF2: 22 | EGG2: 22 | EGH2: 22 | EGI2: 22 | EGJ2: 22 | EGK2: 22 | EGL2: 22 | EGM2: 22 | EGN2: 22 | EGO2: 22 | EGP2: 22 | EGQ2: 22 | EGR2: 22 | EGS2: 22 | EGT2: 22 | EGU2: 22 | EGV2: 22 | EGW2: 22 | EGX2: 22 | EGY2: 22 | EGZ2: 22 | EHA2: 22 | EHB2: 22 | EHC2: 22 | EHD2: 22 | EHE2: 22 | EHF2: 22 | EHG2: 22 | EHH2: 22 | EHI2: 22 | EHJ2: 22 | EHK2: 22 | EHL2: 22 | EHM2: 22 | EHN2: 22 | EHO2: 22 | EHP2: 22 | EHQ2: 22 | EHR2: 22 | EHS2: 22 | EHT2: 22 | EHU2: 22 | EHV2: 22 | EHW2: 22 | EHX2: 22 | EHY2: 22 | EHZ2: 22 | EIA2: 22 | EIB2: 22 | EIC2: 22 | EID2: 22 | EIE2: 22 | EIF2: 22 | EIG2: 22 | EIH2: 22 | EII2: 22 | EIJ2: 22 | EIK2: 22 | EIL2: 22 | EIM2: 22 | EIN2: 22 | EIO2: 22 | EIP2: 22 | EIQ2: 22 | EIR2: 22 | EIS2: 22 | EIT2: 22 | EIU2: 22 | EIV2: 22 | EIW2: 22 | EIX2: 22 | EIY2: 22 | EIZ2: 22 | EJA2: 22 | EJB2: 22 | EJC2: 22 | EJD2: 22 | EJE2: 22 | EJF2: 22 | EJG2: 22 | EJH2: 22 | EJI2: 22 | EJJ2: 22 | EJK2: 22 | EJL2: 22 | EJM2: 22 | EJN2: 22 | EJO2: 22 | EJP2: 22 | EJQ2: 22 | EJR2: 22 | EJS2: 22 | EJT2: 22 | EJU2: 22 | EJV2: 22 | EJW2: 22 | EJX2: 22 | EJY2: 22 | EJZ2: 22 | EKA2: 22 | EKB2: 22 | EKC2: 22 | EKD2: 22 | EKE2: 22 | EKF2: 22 | EKG2: 22 | EKH2: 22 | EKI2: 22 | EKJ2: 22 | EKK2: 22 | EKL2: 22 | EKM2: 22 | EKN2: 22 | EKO2: 22 | EKP2: 22 | EKQ2: 22 | EKR2: 22 | EKS2: 22 | EKT2: 22 | EKU2: 22 | EKV2: 22 | EKW2: 22 | EKX2: 22 | EKY2: 22 | EKZ2: 22 | ELA2: 22 | ELB2: 22 | ELC2: 22 | ELD2: 22 | ELE2: 22 | ELF2: 22 | ELG2: 22 | ELH2: 22 | ELI2: 22 | ELJ2: 22 | ELK2: 22 | ELL2: 22 | ELM2: 22 | ELN2: 22 | ELO2: 22 | ELP2: 22 | ELQ2: 22 | ELR2: 22 | ELS2: 22 | ELT2: 22 | ELU2: 22 | ELV2: 22 | ELW2: 22 | ELX2: 22 | ELY2: 22 | ELZ2: 22 | EMA2: 22 | EMB2: 22 | EMC2: 22 | EMD2: 22 | EME2: 22 | EMF2: 22 | EMG2: 22 | EMH2: 22 | EMI2: 22 | EMJ2: 22 | EMK2: 22 | EML2: 22 | EMM2: 22 | EMN2: 22 | EMO2: 22 | EMP2: 22 | EMQ2: 22 | EMR2: 22 | EMS2: 22 | EMT2: 22 | EMU2: 22 | EMV2: 23 | EMW2: 23 | EMX2: 23 | EMY2: 23 | EMZ2: 23 | ENA2: 23 | ENB2: 23 | ENC2: 23 | END2: 23 | ENE2: 23 | ENF2: 23 | ENG2: 23 | ENH2: 23 | ENI2: 23 | ENJ2: 23 | ENK2: 23 | ENL2: 23 | ENM2: 23 | ENN2: 23 | ENO2: 23 | ENP2: 23 | ENQ2: 23 | ENR2: 23 | ENS2: 23 | ENT2: 23 | ENU2: 23 | ENV2: 23 | ENW2: 23 | ENX2: 23 | ENY2: 23 | ENZ2: 23 | EOA2: 23 | EOB2: 23 | EOC2: 23 | EOD2: 23 | EOE2: 23 | EOF2: 23 | EOG2: 23 | EOH2: 23 | EOI2: 23 | EOJ2: 23 | EOK2: 23 | EOL2: 23 | EOM2: 23 | EON2: 23 | EOO2: 23 | EOP2: 23 | EOQ2: 23 | EOR2: 23 | EOS2: 23 | EOT2: 23 | EOU2: 23 | EOV2: 23 | EOW2: 23 | EOX2: 23 | EOY2: 23 | EOZ2: 23 | EPA2: 23 | EPB2: 23 | EPC2: 23 | EPD2: 23 | EPE2: 23 | EPF2: 23 | EPG2: 23 | EPH2: 23 | EPI2: 23 | EPJ2: 23 | EPK2: 23 | EPL2: 23 | EPM2: 23 | EPN2: 23 | EPO2: 23 | EPP2: 23 | EPQ2: 23 | EPR2: 23 | EPS2: 23 | EPT2: 23 | EPU2: 23 | EPV2: 23 | EPW2: 23 | EPX2: 23 | EPY2: 23 | EPZ2: 23 | EQA2: 23 | EQB2: 23 | EQC2: 23 | EQD2: 23 | EQE2: 23 | EQF2: 23 | EQG2: 23 | EQH2: 23 | EQI2: 23 | EQJ2: 23 | EQK2: 23 | EQL2: 23 | EQM2: 23 | EQN2: 23 | EQO2: 23 | EQP2: 23 | EQQ2: 23 | EQR2: 23 | EQS2: 23 | EQT2: 23 | EQU2: 23 | EQV2: 23 | EQW2: 23 | EQX2: 23 | EQY2: 23 | EQZ2: 23 | ERA2: 23 | ERB2: 23 | ERC2: 23 | ERD2: 23 | ERE2: 23 | ERF2: 23 | ERG2: 23 | ERH2: 23 | ERI2: 23 | ERJ2: 23 | ERK2: 23 | ERL2: 23 | ERM2: 23 | ERN2: 23 | ERO2: 23 | ERP2: 23 | ERQ2: 23 | ERR2: 23 | ERS2: 23 | ERT2: 23 | ERU2: 23 | ERV2: 23 | ERW2: 23 | ERX2: 23 | ERY2: 23 | ERZ2: 23 | ESA2: 23 | ESB2: 23 | ESC2: 23 | ESD2: 23 | ESE2: 23 | ESF2: 24 | ESG2: 24 | ESH2: 24 | ESI2: 24 | ESJ2: 24 | ESK2: 24 | ESL2: 24 | ESM2: 24 | ESN2: 24 | ESO2: 24 | ESP2: 24 | ESQ2: 24 | ESR2: 24 | ESS2: 24 | EST2: 24 | ESU2: 24 | ESV2: 24 | ESW2: 24 | ESX2: 24 | ESY2: 24 | ESZ2: 24 | ETA2: 24 | ETB2: 24 | ETC2: 24 | ETD2: 24 | ETE2: 24 | ETF2: 24 | ETG2: 24 | ETH2: 24 | ETI2: 24 | ETJ2: 24 | ETK2: 24 | ETL2: 24 | ETM2: 24 | ETN2: 24 | ETO2: 24 | ETP2: 24 | ETQ2: 24 | ETR2: 24 | ETS2: 24 | ETT2: 24 | ETU2: 24 | ETV2: 24 | ETW2: 24 | ETX2: 24 | ETY2: 24 | ETZ2: 24 | EUA2: 24 | EUB2: 24 | EUC2: 24 | EUD2: 24 | EUE2: 24 | EUF2: 24 | EUG2: 24 | EUH2: 24 | EUI2: 24 | EUJ2: 24 | EUK2: 24 | EUL2: 24 | EUM2: 24 | EUN2: 24 | EUO2: 24 | EUP2: 24 | EUQ2: 24 | EUR2: 24 | EUS2: 24 | EUT2: 24 | EUU2: 24 | EUV2: 24 | EUW2: 24 | EUX2: 24 | EUY2: 24 | EUZ2: 24 | EVA2: 24 | EVB2: 24 | EVC2: 24 | EVD2: 24 | EVE2: 24 | EVF2: 24 | EVG2: 24 | EVH2: 24 | EVI2: 24 | EVJ2: 24 | EVK2: 24 | EVL2: 24 | EVM2: 24 | EVN2: 24 | EVO2: 24 | EVP2: 24 | EVQ2: 24 | EVR2: 24 | EVS2: 24 | EVT2: 24 | EVU2: 24 | EVV2: 24 | EVW2: 24 | EVX2: 24 | EVY2: 24 | EVZ2: 24 | EWA2: 24 | EWB2: 24 | EWC2: 24 | EWD2: 24 | EWE2: 24 | EWF2: 24 | EWG2: 24 | EWH2: 24 | EWI2: 24 | EWJ2: 24 | EWK2: 24 | EWL2: 24 | EWM2: 24 | EWN2: 24 | EWO2: 24 | EWP2: 24 | EWQ2: 24 | EWR2: 24 | EWS2: 24 | EWT2: 24 | EWU2: 24 | EWV2: 24 | EWW2: 24 | EWX2: 24 | EWY2: 24 | EWZ2: 24 | EXA2: 25 | EXB2: 25 | EXC2: 25 | EXD2: 25 | EXE2: 25 | EXF2: 99 | EXG2: 99 | EXH2: 99 | EXI2: 99 | EXJ2: 99 | EXK2: 99 | EXL2: 99 | EXM2: 99 | EXN2: 99 | EXO2: 99 | EXP2: 99 | EXQ2: 99
