Workbook
Name D1T01: ΣΤΟΙΧΕΙΑ!$B$7:$P$12
Name D1T02: ΣΤΟΙΧΕΙΑ!$D$22:$Q$34
Name D1T03: ΣΤΟΙΧΕΙΑ!$B$42:$S$47
Name D1T04: ΣΤΟΙΧΕΙΑ!$B$53:$S$83
Name D1T05: ΣΤΟΙΧΕΙΑ!$B$89:$S$127
Name D1T06: ΣΤΟΙΧΕΙΑ!$B$134:$S$150
Name D1T07: ΣΤΟΙΧΕΙΑ!$B$156:$P$163
Name D1T08: ΣΤΟΙΧΕΙΑ!$B$170:$P$174
Name D1T09: ΣΤΟΙΧΕΙΑ!$B$180:$P$192
Name D1T10: ΣΤΟΙΧΕΙΑ!$B$198:$P$202
Name D1T11: ΣΤΟΙΧΕΙΑ!$B$214:$L$228
Name D1T12: ΣΤΟΙΧΕΙΑ!$B$236:$S$243
Name D1T13: ΣΤΟΙΧΕΙΑ!$B$251:$S$256
Name D1T14: ΣΤΟΙΧΕΙΑ!$B$266:$S$273
Name D1T15: ΣΤΟΙΧΕΙΑ!$B$285:$S$292
Name D1T16: ΣΤΟΙΧΕΙΑ!$D$297:$S$305
Name D1T17: ΣΤΟΙΧΕΙΑ!$B$312:$R$327
Name D1T18: ΣΤΟΙΧΕΙΑ!$B$332:$J$377
Name D1T19: ΣΤΟΙΧΕΙΑ!$B$382:$S$428
Name D1T20: ΣΤΟΙΧΕΙΑ!$B$442:$M$485
Name D1T21: ΣΤΟΙΧΕΙΑ!$B$495:$S$499
Name D1T22: ΣΤΟΙΧΕΙΑ!$B$511:$S$528
Name D1T23: ΣΤΟΙΧΕΙΑ!$B$537:$R$548
Name D1T24: ΣΤΟΙΧΕΙΑ!$D$562:$K$587
Name D1T25: ΣΤΟΙΧΕΙΑ!$B$596:$L$600

Sheet ΠΡΟΛΟΓΟΣ
B1: ΚΥΠΡΙΑΚΗ ΔΗΜΟΚΡΑΤΙΑ
B2: ΥΠΟΥΡΓΕΙΟ ΠΑΙΔΕΙΑΣ | E2: ΔΙΕΥΘΥΝΣΗ
B3: ΑΘΛΗΤΙΣΜΟΥ ΚΑΙ ΝΕΟΛΑΙΑΣ | E3: ΜΕΣΗΣ ΓΕΝΙΚΗΣ ΕΚΠΑΙΔΕΥΣΗΣ
B5: ΣΤΑΤΙΣΤΙΚΑ ΣΤΟΙΧΕΙΑ ΕΣΠΕΡΙΝΩΝ ΣΧΟΛΕΙΩΝ
B6: ="Σχολικό Έτος "&Sheet2!$Q$4 -> Σχολικό Έτος 2026-2027
B8: Παρακαλώ Συμπληρώστε το Όνομα και τον Κωδικό του Σχολείου σας
B9: (Ο κωδικός του σχολείου σας βρίσκεται στη σελίδα (sheet), " Sch Codes" )
B10: ΟΝΟΜΑ ΣΧΟΛΕΙΟΥ:
B12: ΚΩΔΙΚΟΣ ΣΧΟΛΕΙΟΥ: | C12: =_xlfn.IFNA(VLOOKUP(C10,Sheet2!D3:E7,2,FALSE),"")
A15: ΣΗΜΕΙΩΣΕΙΣ ΔΙΕΚΠΕΡΑΙΩΣΗΣ
A16: 1. | B16: Συμπληρώστε όλους τους πίνακες της σελίδας (sheet) "ΣΤΟΙΧΕΙΑ".
A17: 2. | B17: Φυλάξτε (save) το excel file με το όνομα του κωδικού του σχολείου σας, <κωδικός σχολείου>.xlsx (Excel 2007, 2010, 2013, 2016 ή νεότερη έκδοση). ΜΗ ΧΡΗΣΙΜΟΠΟΙΗΣΕΤΕ ΠΑΛΑΙΟΤΕΡΗ ΕΚΔΟΣΗ EXCEL (όπως Excel 2003 ή 2000).
A19: 3. | B19: Ταχυδρομήστε ηλεκτρονικά (Email) το αρχείο Excel στο Υπουργείο Παιδείας, Αθλητισμού και Νεολαίας στη διεύθυνση, dme-programmatismos@schools.ac.cy
A20: 4. | B20: Για οποιεσδήποτε διευκρινίσεις, παρακαλώ, επικοινωνήστε με το Γραφείο Εκπαιδευτικού Προγραμματισμού, τηλ. 22 806352 ή 22806382
A21: ΓΕΝΙΚΕΣ ΟΔΗΓΙΕΣ
A23: 1. | B23: Η έρευνα διεξάγεται από το Υπουργείο Παιδείας, Αθλητισμού και Νεολαίας σε συνεργασία με τη Στατιστική Υπηρεσία.
A24: 2. | B24: Το ερωτηματολόγιο αυτό αποτελεί επίσημη πηγή πληροφοριών. Η ορθή και έγκαιρη συμπλήρωσή του είναι επιβεβλημένη.
A25: 3. | B25: Προτού να συμπληρώσετε το ερωτηματολόγιο, παρακαλώ, διαβάστε με προσοχή όλα τα ερωτήματα και τις σημειώσεις.
A26: 4. | B26: Παρακαλώ να συμπληρώσετε το ερωτηματολόγιο, σύμφωνα με τα αρχεία του σχολείου σας κατά τη 12η Οκτωβρίου 2026 και να το αποστείλετε στο Υπουργείο Παιδείας, Αθλητισμού και Νεολαίας όπως περιγράφεται στις σημειώσεις διεκπεραίωσης το συντομότερο δυνατό και όχι αργότερα από τις 16/11/2026.
A27: 5. | B27: Η συλλογή των στοιχείων διεξάγεται με βάση τον περί Επίσημων Στατιστικών Νόμο του 2021 (Ν. 25(Ι)/2021), καθώς και σύμφωνα με τους περί Λειτουργίας των Δημόσιων Σχολείων Μέσης Εκπαίδευσης Κανονισμούς του 2017 έως 2025. Η Στατιστική Υπηρεσία, καθώς και το Υπουργείο Παιδείας, Αθλητισμού και Νεολαίας, υποχρεούνται, σύμφωνα με τον περί Επίσημων Στατιστικών Νόμο, να τηρήσουν τα στοιχεία τα οποία θα δηλώσετε ως εμπιστευτικά. Οι απαντήσεις σας θα χρησιμοποιηθούν αποκλειστικά και μόνο για σκοπούς στατιστικής.

Sheet ΣΤΟΙΧΕΙΑ
C2: ΣΤΑΤΙΣΤΙΚΑ ΣΤΟΙΧΕΙΑ
C3: ="Σχολική Χρονιά "&Sheet2!$Q$4 -> Σχολική Χρονιά 2026-2027
A4: =ΠΡΟΛΟΓΟΣ!C12 | C4: (Δημόσια Εσπερινά Σχολεία Μέσης Γενικής Εκπαίδευσης)
A5: =IF(ΠΡΟΛΟΓΟΣ!C10="","",ΠΡΟΛΟΓΟΣ!C10)
A6: ΑΡΙΘΜΟΙ ΜΑΘΗΤΩΝ/ΡΙΩΝ ΑΝΑ ΤΑΞΗ
A7: 1 | E7: ΓΥΜΝΑΣΙΑΚΟΣ ΚΥΚΛΟΣ | K7: ΛΥΚΕΙΑΚΟΣ ΚΥΚΛΟΣ
E8: ΠΡΟΠΑΡΑΣΚΕΥΑΣΤΙΚΗ (1ο ΕΤΟΣ) | G8: 2ο ΕΤΟΣ | I8: 3ο ΕΤΟΣ | K8: Α' ΛΥΚΕΙΟΥ | M8: Β' ΛΥΚΕΙΟΥ | O8: Γ΄ΛΥΚΕΙΟΥ | Q8: Ζ' ΤΑΞΗ
E9: ΑΓΟΡΙΑ | F9: ΚΟΡΙΤΣΙΑ | G9: ΑΓΟΡΙΑ | H9: ΚΟΡΙΤΣΙΑ | I9: ΑΓΟΡΙΑ | J9: ΚΟΡΙΤΣΙΑ | K9: ΑΓΟΡΙΑ | L9: ΚΟΡΙΤΣΙΑ | M9: ΑΓΟΡΙΑ | N9: ΚΟΡΙΤΣΙΑ | O9: ΑΓΟΡΙΑ | P9: ΚΟΡΙΤΣΙΑ | Q9: ΑΓΟΡΙΑ | R9: ΚΟΡΙΤΣΙΑ | S9: ΣΥΝΟΛΑ
D10: ΑΡΙΘΜΟΙ | S10: =SUM(E10:R10) -> 0
D11: ΣΥΝΟΛΑ | E11: =SUM(E10:F10) -> 0 | G11: =SUM(G10:H10) -> 0 | I11: =SUM(I10:J10) -> 0 | K11: =SUM(K10:L10) -> 0 | M11: =SUM(M10:N10) -> 0 | O11: =SUM(O10:P10) -> 0 | Q11: =SUM(Q10:R10) -> 0 | S11: =SUM(E11:R11) -> 0
B12: ΑΡΙΘ. ΤΜΗΜΑΤΩΝ | S12: =SUM(E12:R12) -> 0
F13: =IF(COUNTIF(E11:R11,"0")<>(COUNTBLANK(E12:R12)-7), "ΕΛΕΓΞΕ ΤΟΝ ΑΡΙΘΜΟ ΤΩΝ ΤΜΗΜΑΤΩΝ","")
A15: ΙΘΑΓΕΝΕΙΑ ΜΑΘΗΤΩΝ/ΡΙΩΝ
A16: (ΚΥΠΡΙΟΙ/ΕΣ ΜΟΝΟ)
A17: 2 | C17: Σημειώσεις:
C18: 1. | D18: Μαθητές/ριες από γάμους Κυπρίων με αλλοδαπούς να ταξινομηθούν ως Κύπριοι/ες.
C19: 2. | D19: Ο πίνακας δεν ζητά το θρήσκευμα των μαθητών/ριών.
C20: 3. | D20: Η μειονότητα των Αθίγγανων να δηλωθεί ξεχωριστά από την κοινότητα των Τουρκοκυπρίων.
E22: ΓΥΜΝΑΣΙΑΚΟΣ ΚΥΚΛΟΣ
E23: ΕΛΛΗΝΟΚΥΠΡΙΟΙ | G23: ΤΟΥΡΚΟΚΥΠΡΙΟΙ | I23: ΑΘΙΓΓΑΝΟΙ | K23: ΑΡΜΕΝΙΟΙ | M23: ΜΑΡΩΝΙΤΕΣ | O23: ΛΑΤΙΝΟΙ
E24: ΑΓΟΡΙΑ | F24: ΚΟΡΙΤΣΙΑ | G24: ΑΓΟΡΙΑ | H24: ΚΟΡΙΤΣΙΑ | I24: ΑΓΟΡΙΑ | J24: ΚΟΡΙΤΣΙΑ | K24: ΑΓΟΡΙΑ | L24: ΚΟΡΙΤΣΙΑ | M24: ΑΓΟΡΙΑ | N24: ΚΟΡΙΤΣΙΑ | O24: ΑΓΟΡΙΑ | P24: ΚΟΡΙΤΣΙΑ | Q24: ΣΥΝΟΛΑ
D25: ΠΡΟΠΑΡΑΣΚΕΥΑΣΤΙΚΗ (1ο ΕΤΟΣ) | Q25: =SUM(E25:P25) -> 0
D26: 2ο ΕΤΟΣ | Q26: =SUM(E26:P26) -> 0
D27: 3ο ΕΤΟΣ | Q27: =SUM(E27:P27) -> 0
E29: ΛΥΚΕΙΑΚΟΣ ΚΥΚΛΟΣ
E30: ΕΛΛΗΝΟΚΥΠΡΙΟΙ | G30: ΤΟΥΡΚΟΚΥΠΡΙΟΙ | I30: ΑΘΙΓΓΑΝΟΙ | K30: ΑΡΜΕΝΙΟΙ | M30: ΜΑΡΩΝΙΤΕΣ | O30: ΛΑΤΙΝΟΙ
E31: ΑΓΟΡΙΑ | F31: ΚΟΡΙΤΣΙΑ | G31: ΑΓΟΡΙΑ | H31: ΚΟΡΙΤΣΙΑ | I31: ΑΓΟΡΙΑ | J31: ΚΟΡΙΤΣΙΑ | K31: ΑΓΟΡΙΑ | L31: ΚΟΡΙΤΣΙΑ | M31: ΑΓΟΡΙΑ | N31: ΚΟΡΙΤΣΙΑ | O31: ΑΓΟΡΙΑ | P31: ΚΟΡΙΤΣΙΑ | Q31: ΣΥΝΟΛΑ
D32: Α' ΛΥΚΕΙΟΥ | Q32: =SUM(E32:P32) -> 0
D33: Β' ΛΥΚΕΙΟΥ | Q33: =SUM(E33:P33) -> 0
D34: Γ΄ΛΥΚΕΙΟΥ | Q34: =SUM(E34:P34) -> 0
D35: Ζ' ΤΑΞΗ | Q35: =SUM(E35:P35) -> 0
A38: ΠΡΟΣΦΥΓΕΣ ΜΑΘΗΤΕΣ/ΡΙΕΣ
A39: (ΜΟΝΟ ΚΥΠΡΙΟΙ/ΕΣ)
A40: 3 | C40: Σημείωση:
D41: Μαθητές/ριες που έχουν και τους δυο γονείς πρόσφυγες να δηλωθούν ως εκ πατρογονίας.
E42: ΓΥΜΝΑΣΙΑΚΟΣ ΚΥΚΛΟΣ | K42: ΛΥΚΕΙΑΚΟΣ ΚΥΚΛΟΣ
E43: ΠΡΟΠΑΡΑΣΚΕΥΑΣΤΙΚΗ (1ο ΕΤΟΣ) | G43: 2ο ΕΤΟΣ | I43: 3ο ΕΤΟΣ | K43: Α' ΛΥΚΕΙΟΥ | M43: Β' ΛΥΚΕΙΟΥ | O43: Γ΄ΛΥΚΕΙΟΥ | Q43: Ζ' ΤΑΞΗ
E44: ΑΓΟΡΙΑ | F44: ΚΟΡΙΤΣΙΑ | G44: ΑΓΟΡΙΑ | H44: ΚΟΡΙΤΣΙΑ | I44: ΑΓΟΡΙΑ | J44: ΚΟΡΙΤΣΙΑ | K44: ΑΓΟΡΙΑ | L44: ΚΟΡΙΤΣΙΑ | M44: ΑΓΟΡΙΑ | N44: ΚΟΡΙΤΣΙΑ | O44: ΑΓΟΡΙΑ | P44: ΚΟΡΙΤΣΙΑ | Q44: ΑΓΟΡΙΑ | R44: ΚΟΡΙΤΣΙΑ | S44: ΣΥΝΟΛΑ
B45: ΕΚ ΠΑΤΡΟΓΟΝΙΑΣ | S45: =SUM(E45:R45) -> 0
B46: ΕΚ ΜΗΤΡΟΓΟΝΙΑΣ | S46: =SUM(E46:R46) -> 0
D47: ΣΥΝΟΛΑ | E47: =SUM(E45:E46) -> 0 | F47: =SUM(F45:F46) -> 0 | G47: =SUM(G45:G46) -> 0 | H47: =SUM(H45:H46) -> 0 | I47: =SUM(I45:I46) -> 0 | J47: =SUM(J45:J46) -> 0 | K47: =SUM(K45:K46) -> 0 | L47: =SUM(L45:L46) -> 0 | ... S47: =SUM(S45:S46) -> 0
A51: ΑΛΛΟΔΑΠΟΙ ΜΑΘΗΤΕΣ/ΡΙΕΣ
A52: (ΑΠΟ ΧΩΡΕΣ ΤΗΣ Ε.Ε.)
A53: 4 | E53: ΓΥΜΝΑΣΙΑΚΟΣ ΚΥΚΛΟΣ | K53: ΛΥΚΕΙΑΚΟΣ ΚΥΚΛΟΣ
E54: ΠΡΟΠΑΡΑΣΚΕΥΑΣΤΙΚΗ (1ο ΕΤΟΣ) | G54: 2ο ΕΤΟΣ | I54: 3ο ΕΤΟΣ | K54: Α' ΛΥΚΕΙΟΥ | M54: Β' ΛΥΚΕΙΟΥ | O54: Γ΄ΛΥΚΕΙΟΥ | Q54: Ζ' ΤΑΞΗ
E55: ΑΓΟΡΙΑ | F55: ΚΟΡΙΤΣΙΑ | G55: ΑΓΟΡΙΑ | H55: ΚΟΡΙΤΣΙΑ | I55: ΑΓΟΡΙΑ | J55: ΚΟΡΙΤΣΙΑ | K55: ΑΓΟΡΙΑ | L55: ΚΟΡΙΤΣΙΑ | M55: ΑΓΟΡΙΑ | N55: ΚΟΡΙΤΣΙΑ | O55: ΑΓΟΡΙΑ | P55: ΚΟΡΙΤΣΙΑ | Q55: ΑΓΟΡΙΑ | R55: ΚΟΡΙΤΣΙΑ | S55: ΣΥΝΟΛΑ
B56: ΑΥΣΤΡΙΑ | S56: =SUM(E56:R56) -> 0
B57: ΒΕΛΓΙΟ | S57: =SUM(E57:R57) -> 0
B58: ΒΟΥΛΓΑΡΙΑ | S58: =SUM(E58:R58) -> 0
B59: ΓΑΛΛΙΑ | S59: =SUM(E59:R59) -> 0
B60: ΓΕΡΜΑΝΙΑ | S60: =SUM(E60:R60) -> 0
B61: ΔΑΝΙΑ | S61: =SUM(E61:R61) -> 0
B62: ΕΛΛΑΔΑ (ΕΛΛΑΔΙΤΕΣ) | S62: =SUM(E62:R62) -> 0
B63: ΕΛΛΑΔΑ (ΕΛΛΗΝΟΠΟΝΤΙΟΙ) | S63: =SUM(E63:R63) -> 0
B64: ΕΣΘΟΝΙΑ | S64: =SUM(E64:R64) -> 0
B65: ΙΡΛΑΝΔΙΑ | S65: =SUM(E65:R65) -> 0
B66: ΙΣΠΑΝΙΑ | S66: =SUM(E66:R66) -> 0
B67: ΙΤΑΛΙΑ | S67: =SUM(E67:R67) -> 0
... B82: ΦΙΝΛΑΝΔΙΑ | S82: =SUM(E82:R82) -> 0
D83: ΣΥΝΟΛΑ | E83: =SUM(E56:E82) -> 0 | F83: =SUM(F56:F82) -> 0 | G83: =SUM(G56:G82) -> 0 | H83: =SUM(H56:H82) -> 0 | I83: =SUM(I56:I82) -> 0 | J83: =SUM(J56:J82) -> 0 | K83: =SUM(K56:K82) -> 0 | L83: =SUM(L56:L82) -> 0 | ... R83: =SUM(R56:R82) -> 0 | S83: =SUM(E83:R83) -> 0
A87: ΑΛΛΟΔΑΠΟΙ ΜΑΘΗΤΕΣ/ΡΙΕΣ
A88: (ΑΠΟ ΤΡΙΤΕΣ ΧΩΡΕΣ)
A89: 5 | E89: ΓΥΜΝΑΣΙΑΚΟΣ ΚΥΚΛΟΣ | K89: ΛΥΚΕΙΑΚΟΣ ΚΥΚΛΟΣ
E90: ΠΡΟΠΑΡΑΣΚΕΥΑΣΤΙΚΗ (1ο ΕΤΟΣ) | G90: 2ο ΕΤΟΣ | I90: 3ο ΕΤΟΣ | K90: Α' ΛΥΚΕΙΟΥ | M90: Β' ΛΥΚΕΙΟΥ | O90: Γ΄ΛΥΚΕΙΟΥ | Q90: Ζ' ΤΑΞΗ
E91: ΑΓΟΡΙΑ | F91: ΚΟΡΙΤΣΙΑ | G91: ΑΓΟΡΙΑ | H91: ΚΟΡΙΤΣΙΑ | I91: ΑΓΟΡΙΑ | J91: ΚΟΡΙΤΣΙΑ | K91: ΑΓΟΡΙΑ | L91: ΚΟΡΙΤΣΙΑ | M91: ΑΓΟΡΙΑ | N91: ΚΟΡΙΤΣΙΑ | O91: ΑΓΟΡΙΑ | P91: ΚΟΡΙΤΣΙΑ | Q91: ΑΓΟΡΙΑ | R91: ΚΟΡΙΤΣΙΑ | S91: ΣΥΝΟΛΑ
B92: ΑΙΓΥΠΤΟΣ | S92: =SUM(G92:R92) -> 0
B93: ΑΛΒΑΝΙΑ | S93: =SUM(E93:R93) -> 0
B94: ΑΡΜΕΝΙΑ | S94: =SUM(E94:R94) -> 0
B95: ΑΥΣΤΡΑΛΙΑ | S95: =SUM(E95:R95) -> 0
B96: ΓΕΩΡΓΙΑ | S96: =SUM(E96:R96) -> 0
D97: ΗΝ. ΒΑΣΙΛΕΙΟ | S97: =SUM(E97:R97) -> 0
B98: Η.Π.Α. | S98: =SUM(E98:R98) -> 0
B99: ΙΝΔΙΑ | S99: =SUM(E99:R99) -> 0
B100: ΙΟΡΔΑΝΙΑ | S100: =SUM(E100:R100) -> 0
B101: ΙΡΑΚ | S101: =SUM(E101:R101) -> 0
B102: ΙΡΑΝ | S102: =SUM(E102:R102) -> 0
B103: ΙΣΡΑΗΛ | S103: =SUM(E103:R103) -> 0
B104: ΚΑΝΑΔΑΣ | S104: =SUM(E104:R104) -> 0
D105: ΚΙΝΑ | S105: =SUM(E105:R105) -> 0
B106: ΛΕΥΚΟΡΩΣΙΑ | S106: =SUM(E106:R106) -> 0
B107: ΛΙΒΑΝΟΣ | S107: =SUM(E107:R107) -> 0
B108: ΜΟΛΔΑΒΙΑ | S108: =SUM(E108:R108) -> 0
B109: ΜΑΥΡΟΒΟΥΝΙΟ | S109: =SUM(E109:R109) -> 0
B110: ΝΟΤΙΟΣ ΑΦΡΙΚΗ | S110: =SUM(E110:R110) -> 0
B111: ΟΥΚΡΑΝΙΑ | S111: =SUM(E111:R111) -> 0
B112: ΠΑΚΙΣΤΑΝ | S112: =SUM(E112:R112) -> 0
B113: ΠΑΛΑΙΣΤΙΝΙΑΚΗ ΑΡΧΗ | S113: =SUM(E113:R113) -> 0
B114: ΡΩΣΙΑ | S114: =SUM(E114:R114) -> 0
B115: ΣΕΡΒΙΑ | S115: =SUM(E115:R115) -> 0
B116: ΣΟΥΔΑΝ | S116: =SUM(E116:R116) -> 0
B117: ΣΡΙ ΛΑΝΚΑ | S117: =SUM(E117:R117) -> 0
... B124: ΑΛΛΗ ΧΩΡΑ(4) (*) | S124: =SUM(E124:R124) -> 0
D125: ΣΥΝΟΛΑ | E125: =SUM(E92:E124) -> 0 | F125: =SUM(F92:F124) -> 0 | G125: =SUM(G92:G124) -> 0 | H125: =SUM(H92:H124) -> 0 | I125: =SUM(I92:I124) -> 0 | J125: =SUM(J92:J124) -> 0 | K125: =SUM(K92:K124) -> 0 | L125: =SUM(L92:L124) -> 0 | ... R125: =SUM(R92:R124) -> 0 | S125: =SUM(E125:R125) -> 0
E126: =IF(AND(S121>0,I127=""), "ΔΩΣΕ ΤΟ ΟΝΟΜΑ ΤΗΣ ΑΛΛΗΣ ΧΩΡΑΣ",IF(AND(S122>0,K127=""),"ΔΩΣΕ ΤΟ ΟΝΟΜΑ ΤΗΣ ΑΛΛΗΣ ΧΩΡΑΣ",IF(AND(S123>0,M127=""),"ΔΩΣΕ ΤΟ ΟΝΟΜΑ ΤΗΣ ΑΛΛΗΣ ΧΩΡΑΣ",IF(AND(S124>0,O127=""),"ΔΩΣΕ ΤΟ ΟΝΟΜΑ ΤΗΣ ΑΛΛΗΣ ΧΩΡΑΣ","")))) | I126: ΆΛΛΗ ΧΩΡΑ 1 | K126: ΆΛΛΗ ΧΩΡΑ 2 | M126: ΆΛΛΗ ΧΩΡΑ 3 | O126: ΆΛΛΗ ΧΩΡΑ 4
D127: (*) | E127: ΔΩΣΤΕ ΤΟ ΟΝΟΜΑ ΤΩΝ ΑΛΛΩΝ ΧΩΡΩΝ: | Q127: =IF(SUM(Q125,Q83,Q35,Q34,Q33,Q32,Q26,Q25)=Q11,0,1) -> 0
E128: =IF(SUM(E125,E83,E25,G25,I25,K25,M25,O25)<>E10,"ΕΛΕΓΞΕ ΤΑ ΑΓΟΡΙΑ ΤΗΣ ΠΡΟΠΑΡΑΣΚΕΥΑΣΤΙΚΗΣ(ΠΙΝΑΚΕΣ,1,2,4,5)", IF(SUM(F125,F83,F25,H25,J25,L25,N25,P25)<>F10,"ΕΛΕΓΞΕ ΤΑ ΚΟΡΙΤΣΙΑ ΤΗΣ ΠΡΟΠΑΡΑΣΚΕΥΑΣΤΙΚΗΣ(ΠΙΝΑΚΕΣ,1,2,4,5)", IF(SUM(G125,G83,E26,G26,I26,K26,M26,O26)<>G10,"ΕΛΕΓΞΕ ΤΑ ΑΓΟΡΙΑ ΤΟΥ 2ου ΕΤΟΥΣ (ΠΙΝΑΚΕΣ,1,2,4,5)", IF(SUM(H125,H83,F26,H26,J26,L26,N26,P26)<>H10,"ΕΛΕΓΞΕ ΤΑ ΚΟΡΙΤΣΙΑ ΤΟΥ 2ου ΕΤΟΥΣ (ΠΙΝΑΚΕΣ,1,2,4,5)",IF(SUM(I125,I83,E27,G27,I27,K27,M27,O27)<>I10,"ΕΛΕΓΞΕ ΤΑ ΑΓΟΡΙΑ ΤΟΥ 3ου ΕΤΟΥΣ (ΠΙΝΑΚΕΣ,1,2,4,5)",IF(SUM(J125,J83,F27,H27,J27,L27,N27,P27)<>J10,"ΕΛΕΓΞΕ ΤΑ ΚΟΡΙΤΣΙΑ ΤΟΥ 3ου ΕΤΟΥΣ(ΠΙΝΑΚΕΣ,1,2,4,5)","")))))) | I128: =IF(SUM(K125,K83,E32,G32,I32,K32,M32,O32)<>K10,"ΕΛΕΓΞΕ ΤΑ ΑΓΟΡΙΑ ΤΗΣ Α’ ΛΥΚΕΙΟΥ (ΠΙΝΑΚΕΣ,1,2,4,5)",IF(SUM(L125,L83,F32,H32,J32,L32,N32,P32)<>L10,"ΕΛΕΓΞΕ ΤΑ ΚΟΡΙΤΣΙΑ ΤΗΣ Α’ ΛΥΚΕΙΟΥ (ΠΙΝΑΚΕΣ,1,2,4,5)",IF(SUM(M125,M83,E33,G33,I33,K33,M33,O33)<>M10,"ΕΛΕΓΞΕ ΤΑ ΑΓΟΡΙΑ ΤΗΣ Β’ ΛΥΚΕΙΟΥ (ΠΙΝΑΚΕΣ,1,2,4,5)",IF(SUM(N125,N83,F33,H33,J33,L33,N33,P33)<>N10,"ΕΛΕΓΞΕ ΤΑ ΚΟΡΙΤΣΙΑ ΤΗΣ Β’ ΛΥΚΕΙΟΥ (ΠΙΝΑΚΕΣ,1,2,4,5)","")))) | M128: =IF(SUM(O125,O83,E34,G34,I34,K34,M34,O34)<>O10,"ΕΛΕΓΞΕ ΤΑ ΑΓΟΡΙΑ ΤΗΣ Γ΄ΛΥΚΕΙΟΥ (ΠΙΝΑΚΕΣ,1,2,4,5)",IF(SUM(P125,P83,F34,H34,J34,L34,N34,P34)<>P10,"ΕΛΕΓΞΕ ΤΑ ΚΟΡΙΤΣΙΑ ΤΗΣ Γ΄ΛΥΚΕΙΟΥ (ΠΙΝΑΚΕΣ,1,2,4,5)",IF(SUM(Q125,Q83,E35,G35,I35,K35,M35,O35)<>Q10,"ΕΛΕΓΞΕ ΤΑ ΑΓΟΡΙΑ ΤΗΣ Ζ΄ ΤΑΞΗΣ (ΠΙΝΑΚΕΣ,1,2,4,5)",IF(SUM(R125,R83,F35,H35,J35,L35,N35,P35)<>R10,"ΕΛΕΓΞΕ ΤΑ ΚΟΡΙΤΣΙΑ ΤΗΣ Ζ΄ ΤΑΞΗΣ (ΠΙΝΑΚΕΣ,1,2,4,5)",""))))
A131: ="ΑΝΑΛΥΣΗ ΕΓΓΡΑΦΩΝ "&Sheet2!$Q$4 -> ΑΝΑΛΥΣΗ ΕΓΓΡΑΦΩΝ 2026-2027
B132: Σημείωση: | D132: Το σύνολο των μαθητών/ριών του πίνακα πρέπει να συμφωνεί με το σύνολο των μαθητών/ριών του σχολείου.
A134: 6 | E134: ΓΥΜΝΑΣΙΑΚΟΣ ΚΥΚΛΟΣ | K134: ΛΥΚΕΙΑΚΟΣ ΚΥΚΛΟΣ
E135: ΠΡΟΠΑΡΑΣΚΕΥΑΣΤΙΚΗ (1ο ΕΤΟΣ) | G135: 2ο ΕΤΟΣ | I135: 3ο ΕΤΟΣ | K135: Α' ΛΥΚΕΙΟΥ | M135: Β' ΛΥΚΕΙΟΥ | O135: Γ΄ΛΥΚΕΙΟΥ | Q135: Ζ' ΤΑΞΗ
...

Sheet Sch_Codes
A1: code | B1: school | C1: dstr | D1: LEVEL
A2: 2001 | B2: Παγκύπριο Γυμνάσιο | C2: ΛΕΥΚΩΣΙΑ | D2: Λύκειο
A3: 2002 | B3: Λύκειο Παλουριώτισσας | C3: ΛΕΥΚΩΣΙΑ | D3: Λύκειο
A4: 2003 | B4: Λύκειο Ακρόπολης | C4: ΛΕΥΚΩΣΙΑ | D4: Λύκειο
A5: 2004 | B5: Λύκειο Κύκκου Α΄ | C5: ΛΕΥΚΩΣΙΑ | D5: Λύκειο
A6: 2005 | B6: Λύκειο Κύκκου Β΄ | C6: ΛΕΥΚΩΣΙΑ | D6: Λύκειο
A7: 2006 | B7: Λύκειο Λύκειο Απ. Μάρκου | C7: ΛΕΥΚΩΣΙΑ | D7: Λύκειο
A8: 2007 | B8: Λύκειο Αρχ. Μακαρίου Γ΄ (Δασούπολη) | C8: ΛΕΥΚΩΣΙΑ | D8: Λύκειο
A9: 2008 | B9: Λύκειο Εθν. Κυπριανού (Στροβόλου) | C9: ΛΕΥΚΩΣΙΑ | D9: Λύκειο
A10: 2009 | B10: Λύκειο Απ. Βαρνάβα | C10: ΛΕΥΚΩΣΙΑ | D10: Λύκειο
A11: 2010 | B11: Λύκειο Παλιομετόχου | C11: ΛΕΥΚΩΣΙΑ | D11: Λύκειο
A12: 2011 | B12: Λύκειο Αγ. Γεωργίου (Λακατάμιας) | C12: ΛΕΥΚΩΣΙΑ | D12: Λύκειο
A13: 2012 | B13: Λύκειο Λατσιών | C13: ΛΕΥΚΩΣΙΑ | D13: Λύκειο
... A136: 6401 | B136: Τεχνική Σχολή Πάφου | C136: ΠΑΦΟΣ | D136: Τεχνική
B140: ΥΠΟΜΝΗΜΑ
B141: ΛΕΥΚΩΣΙΑ | C141: 2000
B142: ΑΜΜΟΧΩΣΤΟΣ | C142: 3000
B143: ΛΑΡΝΑΚΑ | C143: 4000
B144: ΛΕΜΕΣΟΣ | C144: 5000
B145: ΠΑΦΟΣ | C145: 6000
B147: ΛΥΚΕΙΑ | C147: Χ001 -Χ049
B148: ΓΥΜΝΑΣΙΑ ΕΞΑΤΑΞΙΑ | C148: Χ051-Χ099
B149: ΓΥΜΝΑΣΙΑ | C149: Χ101-Χ199
B150: ΕΙΔΙΚΗ ΣΧΟΛΗ | C150: Χ201-Χ299
B151: ΕΣΠΕΡΙΝΟ ΓΥΜΝΑΣΙΟ | C151: Χ301-Χ399
B152: ΤΕΧΝΙΚΗ ΣΧΟΛΗ | C152: Χ401-Χ499
B153: ΕΣΠΕΡΙΝΗ ΤΕΧΝΙΚΗ ΣΧΟΛΗ | C153: Χ501-Χ599

Sheet DATA_1
C1: 10 | D1: =IF(D3=5,C1+1,C1) -> 10 | E1: =IF(E3=5,D1+1,D1) -> 10 | F1: =IF(F3=5,E1+1,E1) -> 10 | G1: =IF(G3=5,F1+1,F1) -> 10 | H1: =IF(H3=5,G1+1,G1) -> 10 | I1: =IF(I3=5,H1+1,H1) -> 10 | J1: =IF(J3=5,I1+1,I1) -> 10 | K1: =IF(K3=5,J1+1,J1) -> 10 | ... AG1: =IF(AG3=5,AF1+1,AF1) -> 12 | AH1: 25 | AI1: =IF(AI3=5,AH1+1,AH1) -> 25 | AJ1: =IF(AJ3=5,AI1+1,AI1) -> 25 | AK1: =IF(AK3=5,AJ1+1,AJ1) -> 25 | AL1: =IF(AL3=5,AK1+1,AK1) -> 25 | AM1: =IF(AM3=5,AL1+1,AL1) -> 25 | AN1: =IF(AN3=5,AM1+1,AM1) -> 25 | AO1: =IF(AO3=5,AN1+1,AN1) -> 25 | AP1: =IF(AP3=5,AO1+1,AO1) -> 25 | ... BT1: =IF(BT3=5,BS1+1,BS1) -> 27 | BU1: 32 | BV1: =IF(BV3=5,BU1+1,BU1) -> 32 | BW1: =IF(BW3=5,BV1+1,BV1) -> 32 | BX1: =IF(BX3=5,BW1+1,BW1) -> 32 | BY1: =IF(BY3=5,BX1+1,BX1) -> 32 | BZ1: =IF(BZ3=5,BY1+1,BY1) -> 32 | CA1: =IF(CA3=5,BZ1+1,BZ1) -> 32 | CB1: =IF(CB3=5,CA1+1,CA1) -> 32 | CC1: =IF(CC3=5,CB1+1,CB1) -> 32 | ... DT1: =IF(DT3=5,DS1+1,DS1) -> 35 | DU1: 45 | DV1: =IF(DV3=5,DU1+1,DU1) -> 45 | DW1: =IF(DW3=5,DV1+1,DV1) -> 45 | DX1: =IF(DX3=5,DW1+1,DW1) -> 45 | DY1: =IF(DY3=5,DX1+1,DX1) -> 45 | DZ1: =IF(DZ3=5,DY1+1,DY1) -> 45 | EA1: =IF(EA3=5,DZ1+1,DZ1) -> 45 | EB1: =IF(EB3=5,EA1+1,EA1) -> 45 | EC1: =IF(EC3=5,EB1+1,EB1) -> 45 | ... FM1: =IF(FM3=5,FL1+1,FL1) -> 47 | FN1: 56 | FO1: =IF(FO3=5,FN1+1,FN1) -> 56 | FP1: =IF(FP3=5,FO1+1,FO1) -> 56 | FQ1: =IF(FQ3=5,FP1+1,FP1) -> 56 | FR1: =IF(FR3=5,FQ1+1,FQ1) -> 56 | FS1: =IF(FS3=5,FR1+1,FR1) -> 56 | FT1: =IF(FT3=5,FS1+1,FS1) -> 56 | FU1: =IF(FU3=5,FT1+1,FT1) -> 56 | FV1: =IF(FV3=5,FU1+1,FU1) -> 56 | ... VQ1: =IF(VQ3=5,VP1+1,VP1) -> 83 | VR1: 92 | VS1: =IF(VS3=5,VR1+1,VR1) -> 92 | VT1: =IF(VT3=5,VS1+1,VS1) -> 92 | VU1: =IF(VU3=5,VT1+1,VT1) -> 92 | VV1: =IF(VV3=5,VU1+1,VU1) -> 92 | VW1: =IF(VW3=5,VV1+1,VV1) -> 92 | VX1: =IF(VX3=5,VW1+1,VW1) -> 92 | VY1: =IF(VY3=5,VX1+1,VX1) -> 92 | VZ1: =IF(VZ3=5,VY1+1,VY1) -> 92 | ... APG1: =IF(APG3=5,APF1+1,APF1) -> 125 | APH1: 127 | API1: 127 | APJ1: 127 | APK1: 127 | APL1: 137 | APM1: =IF(APM3=5,APL1+1,APL1) -> 137 | APN1: =IF(APN3=5,APM1+1,APM1) -> 137 | APO1: =IF(APO3=5,APN1+1,APN1) -> 137 | APP1: =IF(APP3=5,APO1+1,APO1) -> 137 | APQ1: =IF(APQ3=5,APP1+1,APP1) -> 137 | APR1: =IF(APR3=5,APQ1+1,APQ1) -> 137 | APS1: =IF(APS3=5,APR1+1,APR1) -> 137 | APT1: =IF(APT3=5,APS1+1,APS1) -> 137 | ... AXM1: =IF(AXM3=5,AXL1+1,AXL1) -> 150 | AXN1: 159 | AXO1: =IF(AXO3=5,AXN1+1,AXN1) -> 159 | AXP1: =IF(AXP3=5,AXO1+1,AXO1) -> 159 | AXQ1: =IF(AXQ3=5,AXP1+1,AXP1) -> 159 | AXR1: =IF(AXR3=5,AXQ1+1,AXQ1) -> 159 | AXS1: =IF(AXS3=5,AXR1+1,AXR1) -> 159 | AXT1: =IF(AXT3=5,AXS1+1,AXS1) -> 159 | AXU1: =IF(AXU3=5,AXT1+1,AXT1) -> 159 | AXV1: =IF(AXV3=5,AXU1+1,AXU1) -> 159 | ... BAE1: =IF(BAE3=5,BAD1+1,BAD1) -> 163 | BAF1: 173 | BAG1: =IF(BAG3=5,BAF1+1,BAF1) -> 173 | BAH1: =IF(BAH3=5,BAG1+1,BAG1) -> 173 | BAI1: =IF(BAI3=5,BAH1+1,BAH1) -> 173 | BAJ1: =IF(BAJ3=5,BAI1+1,BAI1) -> 173 | BAK1: =IF(BAK3=5,BAJ1+1,BAJ1) -> 173 | BAL1: =IF(BAL3=5,BAK1+1,BAK1) -> 173 | BAM1: =IF(BAM3=5,BAL1+1,BAL1) -> 173 | BAN1: =IF(BAN3=5,BAM1+1,BAM1) -> 173 | ... BAZ1: =IF(BAZ3=5,BAY1+1,BAY1) -> 174 | BBA1: 183 | BBB1: =IF(BBB3=5,BBA1+1,BBA1) -> 183 | BBC1: =IF(BBC3=5,BBB1+1,BBB1) -> 183 | BBD1: =IF(BBD3=5,BBC1+1,BBC1) -> 183 | BBE1: =IF(BBE3=5,BBD1+1,BBD1) -> 183 | BBF1: =IF(BBF3=5,BBE1+1,BBE1) -> 183 | BBG1: =IF(BBG3=5,BBF1+1,BBF1) -> 183 | BBH1: =IF(BBH3=5,BBG1+1,BBG1) -> 183 | BBI1: =IF(BBI3=5,BBH1+1,BBH1) -> 183 | ... BGJ1: =IF(BGJ3=5,BGI1+1,BGI1) -> 192 | BGK1: 201 | BGL1: =IF(BGL3=5,BGK1+1,BGK1) -> 201 | BGM1: =IF(BGM3=5,BGL1+1,BGL1) -> 201 | BGN1: =IF(BGN3=5,BGM1+1,BGM1) -> 201 | BGO1: =IF(BGO3=5,BGN1+1,BGN1) -> 201 | BGP1: =IF(BGP3=5,BGO1+1,BGO1) -> 201 | BGQ1: =IF(BGQ3=5,BGP1+1,BGP1) -> 201 | BGR1: =IF(BGR3=5,BGQ1+1,BGQ1) -> 201 | BGS1: =IF(BGS3=5,BGR1+1,BGR1) -> 201 | ... BHE1: =IF(BHE3=5,BHD1+1,BHD1) -> 202 | BHF1: 216 | BHG1: =IF(BHG3=5,BHF1+1,BHF1) -> 216 | BHH1: =IF(BHH3=5,BHG1+1,BHG1) -> 216 | BHI1: =IF(BHI3=5,BHH1+1,BHH1) -> 216 | BHJ1: =IF(BHJ3=5,BHI1+1,BHI1) -> 216 | BHK1: =IF(BHK3=5,BHJ1+1,BHJ1) -> 216 | BHL1: =IF(BHL3=5,BHK1+1,BHK1) -> 216 | BHM1: =IF(BHM3=5,BHL1+1,BHL1) -> 216 | BHN1: =IF(BHN3=5,BHM1+1,BHM1) -> 217 | ... BLE1: =IF(BLE3=5,BLD1+1,BLD1) -> 228 | BLF1: 239 | BLG1: =IF(BLG3=5,BLF1+1,BLF1) -> 239 | BLH1: =IF(BLH3=5,BLG1+1,BLG1) -> 239 | BLI1: =IF(BLI3=5,BLH1+1,BLH1) -> 239 | BLJ1: =IF(BLJ3=5,BLI1+1,BLI1) -> 239 | BLK1: =IF(BLK3=5,BLJ1+1,BLJ1) -> 239 | BLL1: =IF(BLL3=5,BLK1+1,BLK1) -> 239 | BLM1: =IF(BLM3=5,BLL1+1,BLL1) -> 239 | BLN1: =IF(BLN3=5,BLM1+1,BLM1) -> 239 | ... BOB1: =IF(BOB3=5,BOA1+1,BOA1) -> 243 | BOC1: 254 | BOD1: =IF(BOD3=5,BOC1+1,BOC1) -> 254 | BOE1: =IF(BOE3=5,BOD1+1,BOD1) -> 254 | BOF1: =IF(BOF3=5,BOE1+1,BOE1) -> 254 | BOG1: =IF(BOG3=5,BOF1+1,BOF1) -> 254 | BOH1: =IF(BOH3=5,BOG1+1,BOG1) -> 254 | BOI1: =IF(BOI3=5,BOH1+1,BOH1) -> 254 | BOJ1: =IF(BOJ3=5,BOI1+1,BOI1) -> 254 | BOK1: =IF(BOK3=5,BOJ1+1,BOJ1) -> 254 | ... BPU1: =IF(BPU3=5,BPT1+1,BPT1) -> 256 | BPV1: 269 | BPW1: =IF(BPW3=5,BPV1+1,BPV1) -> 269 | BPX1: =IF(BPX3=5,BPW1+1,BPW1) -> 269 | BPY1: =IF(BPY3=5,BPX1+1,BPX1) -> 269 | BPZ1: =IF(BPZ3=5,BPY1+1,BPY1) -> 269 | BQA1: =IF(BQA3=5,BPZ1+1,BPZ1) -> 269 | BQB1: =IF(BQB3=5,BQA1+1,BQA1) -> 269 | BQC1: =IF(BQC3=5,BQB1+1,BQB1) -> 269 | BQD1: =IF(BQD3=5,BQC1+1,BQC1) -> 269 | ... BSR1: =IF(BSR3=5,BSQ1+1,BSQ1) -> 273 | BSS1: 288 | BST1: =IF(BST3=5,BSS1+1,BSS1) -> 288 | BSU1: =IF(BSU3=5,BST1+1,BST1) -> 288 | BSV1: =IF(BSV3=5,BSU1+1,BSU1) -> 288 | BSW1: =IF(BSW3=5,BSV1+1,BSV1) -> 288 | BSX1: =IF(BSX3=5,BSW1+1,BSW1) -> 288 | BSY1: =IF(BSY3=5,BSX1+1,BSX1) -> 288 | BSZ1: =IF(BSZ3=5,BSY1+1,BSY1) -> 288 | BTA1: =IF(BTA3=5,BSZ1+1,BSZ1) -> 288 | ... BVO1: =IF(BVO3=5,BVN1+1,BVN1) -> 292 | BVP1: 300 | BVQ1: =IF(BVQ3=5,BVP1+1,BVP1) -> 300 | BVR1: =IF(BVR3=5,BVQ1+1,BVQ1) -> 300 | BVS1: =IF(BVS3=5,BVR1+1,BVR1) -> 300 | BVT1: =IF(BVT3=5,BVS1+1,BVS1) -> 300 | BVU1: =IF(BVU3=5,BVT1+1,BVT1) -> 300 | BVV1: =IF(BVV3=5,BVU1+1,BVU1) -> 300 | BVW1: =IF(BVW3=5,BVV1+1,BVV1) -> 300 | BVX1: =IF(BVX3=5,BVW1+1,BVW1) -> 300 | ... BZA1: =IF(BZA3=5,BYZ1+1,BYZ1) -> 305 | BZB1: 315 | BZC1: =IF(BZC3=5,BZB1+1,BZB1) -> 315 | BZD1: =IF(BZD3=5,BZC1+1,BZC1) -> 315 | BZE1: =IF(BZE3=5,BZD1+1,BZD1) -> 315 | BZF1: =IF(BZF3=5,BZE1+1,BZE1) -> 315 | BZG1: =IF(BZG3=5,BZF1+1,BZF1) -> 315 | BZH1: =IF(BZH3=5,BZG1+1,BZG1) -> 315 | BZI1: =IF(BZI3=5,BZH1+1,BZH1) -> 315 | BZJ1: =IF(BZJ3=5,BZI1+1,BZI1) -> 315 | ... CFN1: =IF(CFN3=5,CFM1+1,CFM1) -> 327 | CFO1: 334 | CFP1: =IF(CFP3=5,CFO1+1,CFO1) -> 334 | CFQ1: =IF(CFQ3=5,CFP1+1,CFP1) -> 334 | CFR1: =IF(CFR3=5,CFQ1+1,CFQ1) -> 334 | CFS1: =IF(CFS3=5,CFR1+1,CFR1) -> 334 | CFT1: =IF(CFT3=5,CFS1+1,CFS1) -> 334 | CFU1: =IF(CFU3=5,CFT1+1,CFT1) -> 335 | CFV1: =IF(CFV3=5,CFU1+1,CFU1) -> 335 | CFW1: =IF(CFW3=5,CFV1+1,CFV1) -> 335 | ... CPR1: =IF(CPR3=5,CPQ1+1,CPQ1) -> 377 | CPS1: 385 | CPT1: =IF(CPT3=5,CPS1+1,CPS1) -> 385 | CPU1: =IF(CPU3=5,CPT1+1,CPT1) -> 385 | CPV1: =IF(CPV3=5,CPU1+1,CPU1) -> 385 | CPW1: =IF(CPW3=5,CPV1+1,CPV1) -> 385 | CPX1: =IF(CPX3=5,CPW1+1,CPW1) -> 385 | CPY1: =IF(CPY3=5,CPX1+1,CPX1) -> 385 | CPZ1: =IF(CPZ3=5,CPY1+1,CPY1) -> 385 | CQA1: =IF(CQA3=5,CPZ1+1,CPZ1) -> 385 | ... DPB1: =IF(DPB3=5,DPA1+1,DPA1) -> 428 | DPC1: 445 | DPD1: =IF(DPD3=5,DPC1+1,DPC1) -> 445 | DPE1: =IF(DPE3=5,DPD1+1,DPD1) -> 445 | DPF1: =IF(DPF3=5,DPE1+1,DPE1) -> 445 | DPG1: =IF(DPG3=5,DPF1+1,DPF1) -> 445 | DPH1: =IF(DPH3=5,DPG1+1,DPG1) -> 445 | DPI1: =IF(DPI3=5,DPH1+1,DPH1) -> 445 | DPJ1: =IF(DPJ3=5,DPI1+1,DPI1) -> 445 | DPK1: =IF(DPK3=5,DPJ1+1,DPJ1) -> 445 | ... EDG1: =IF(EDG3=5,EDF1+1,EDF1) -> 485 | EDH1: 498 | EDI1: =IF(EDI3=5,EDH1+1,EDH1) -> 498 | EDJ1: =IF(EDJ3=5,EDI1+1,EDI1) -> 498 | EDK1: =IF(EDK3=5,EDJ1+1,EDJ1) -> 498 | EDL1: =IF(EDL3=5,EDK1+1,EDK1) -> 498 | EDM1: =IF(EDM3=5,EDL1+1,EDL1) -> 498 | EDN1: =IF(EDN3=5,EDM1+1,EDM1) -> 498 | EDO1: =IF(EDO3=5,EDN1+1,EDN1) -> 498 | EDP1: =IF(EDP3=5,EDO1+1,EDO1) -> 498 | ... EED1: =IF(EED3=5,EEC1+1,EEC1) -> 499 | EEE1: 514 | EEF1: =IF(EEF3=5,EEE1+1,EEE1) -> 514 | EEG1: =IF(EEG3=5,EEF1+1,EEF1) -> 514 | EEH1: =IF(EEH3=5,EEG1+1,EEG1) -> 514 | EEI1: =IF(EEI3=5,EEH1+1,EEH1) -> 514 | EEJ1: =IF(EEJ3=5,EEI1+1,EEI1) -> 514 | EEK1: =IF(EEK3=5,EEJ1+1,EEJ1) -> 514 | EEL1: =IF(EEL3=5,EEK1+1,EEK1) -> 514 | EEM1: =IF(EEM3=5,EEL1+1,EEL1) -> 514 | ... EMU1: =IF(EMU3=5,EMT1+1,EMT1) -> 528 | EMV1: 539 | EMW1: =IF(EMW3=5,EMV1+1,EMV1) -> 539 | EMX1: =IF(EMX3=5,EMW1+1,EMW1) -> 539 | EMY1: =IF(EMY3=5,EMX1+1,EMX1) -> 539 | EMZ1: =IF(EMZ3=5,EMY1+1,EMY1) -> 539 | ENA1: =IF(ENA3=5,EMZ1+1,EMZ1) -> 539 | ENB1: =IF(ENB3=5,ENA1+1,ENA1) -> 539 | ENC1: =IF(ENC3=5,ENB1+1,ENB1) -> 539 | END1: =IF(END3=5,ENC1+1,ENC1) -> 539 | ... ESE1: =IF(ESE3=5,ESD1+1,ESD1) -> 548 | ESF1: 563 | ESG1: =IF(ESG3=5,ESF1+1,ESF1) -> 563 | ESH1: =IF(ESH3=5,ESG1+1,ESG1) -> 563 | ESI1: =IF(ESI3=5,ESH1+1,ESH1) -> 563 | ESJ1: =IF(ESJ3=5,ESI1+1,ESI1) -> 563 | ESK1: =IF(ESK3=5,ESJ1+1,ESJ1) -> 564 | ESL1: =IF(ESL3=5,ESK1+1,ESK1) -> 564 | ESM1: =IF(ESM3=5,ESL1+1,ESL1) -> 564 | ESN1: =IF(ESN3=5,ESM1+1,ESM1) -> 564 | ... EWZ1: =IF(EWZ3=5,EWY1+1,EWY1) -> 587 | EXA1: 597 | EXB1: =IF(EXB3=12,EXA1+1,EXA1) -> 598 | EXC1: =IF(EXC3=12,EXB1+1,EXB1) -> 599 | EXD1: =IF(EXD3=12,EXC1+1,EXC1) -> 600 | EXE1: =IF(EXE3=12,EXD1+1,EXD1) -> 601 | EXF1: 6 | EXG1: 6 | EXH1: 6 | EXI1: 6 | EXJ1: 6 | EXK1: 6 | EXL1: 6 | EXM1: 6 | EXN1: 6 | EXO1: 6 | EXP1: 6 | EXQ1: 6
C2: 1 | D2: 1 | E2: 1 | F2: 1 | G2: 1 | H2: 1 | I2: 1 | J2: 1 | K2: 1 | L2: 1 | M2: 1 | N2: 1 | O2: 1 | P2: 1 | Q2: 1 | R2: 1 | S2: 1 | T2: 1 | U2: 1 | V2: 1 | W2: 1 | X2: 1 | Y2: 1 | Z2: 1 | AA2: 1 | AB2: 1 | AC2: 1 | AD2: 1 | AE2: 1 | AF2: 1 | AG2: 1 | AH2: 2.1 | AI2: 2.1 | AJ2: 2.1 | AK2: 2.1 | AL2: 2.1 | AM2: 2.1 | AN2: 2.1 | AO2: 2.1 | AP2: 2.1 | AQ2: 2.1 | AR2: 2.1 | AS2: 2.1 | AT2: 2.1 | AU2: 2.1 | AV2: 2.1 | AW2: 2.1 | AX2: 2.1 | AY2: 2.1 | AZ2: 2.1 | BA2: 2.1 | BB2: 2.1 | BC2: 2.1 | BD2: 2.1 | BE2: 2.1 | BF2: 2.1 | BG2: 2.1 | BH2: 2.1 | BI2: 2.1 | BJ2: 2.1 | BK2: 2.1 | BL2: 2.1 | BM2: 2.1 | BN2: 2.1 | BO2: 2.1 | BP2: 2.1 | BQ2: 2.1 | BR2: 2.1 | BS2: 2.1 | BT2: 2.1 | BU2: 2.2 | BV2: 2.2 | BW2: 2.2 | BX2: 2.2 | BY2: 2.2 | BZ2: 2.2 | CA2: 2.2 | CB2: 2.2 | CC2: 2.2 | CD2: 2.2 | CE2: 2.2 | CF2: 2.2 | CG2: 2.2 | CH2: 2.2 | CI2: 2.2 | CJ2: 2.2 | CK2: 2.2 | CL2: 2.2 | CM2: 2.2 | CN2: 2.2 | CO2: 2.2 | CP2: 2.2 | CQ2: 2.2 | CR2: 2.2 | CS2: 2.2 | CT2: 2.2 | CU2: 2.2 | CV2: 2.2 | CW2: 2.2 | CX2: 2.2 | CY2: 2.2 | CZ2: 2.2 | DA2: 2.2 | DB2: 2.2 | DC2: 2.2 | DD2: 2.2 | DE2: 2.2 | DF2: 2.2 | DG2: 2.2 | DH2: 2.2 | DI2: 2.2 | DJ2: 2.2 | DK2: 2.2 | DL2: 2.2 | DM2: 2.2 | DN2: 2.2 | DO2: 2.2 | DP2: 2.2 | DQ2: 2.2 | DR2: 2.2 | DS2: 2.2 | DT2: 2.2 | DU2: 3 | DV2: 3 | DW2: 3 | DX2: 3 | DY2: 3 | DZ2: 3 | EA2: 3 | EB2: 3 | EC2: 3 | ED2: 3 | EE2: 3 | EF2: 3 | EG2: 3 | EH2: 3 | EI2: 3 | EJ2: 3 | EK2: 3 | EL2: 3 | EM2: 3 | EN2: 3 | EO2: 3 | EP2: 3 | EQ2: 3 | ER2: 3 | ES2: 3 | ET2: 3 | EU2: 3 | EV2: 3 | EW2: 3 | EX2: 3 | EY2: 3 | EZ2: 3 | FA2: 3 | FB2: 3 | FC2: 3 | FD2: 3 | FE2: 3 | FF2: 3 | FG2: 3 | FH2: 3 | FI2: 3 | FJ2: 3 | FK2: 3 | FL2: 3 | FM2: 3 | FN2: 4 | FO2: 4 | FP2: 4 | FQ2: 4 | FR2: 4 | FS2: 4 | FT2: 4 | FU2: 4 | FV2: 4 | FW2: 4 | FX2: 4 | FY2: 4 | FZ2: 4 | GA2: 4 | GB2: 4 | GC2: 4 | GD2: 4 | GE2: 4 | GF2: 4 | GG2: 4 | GH2: 4 | GI2: 4 | GJ2: 4 | GK2: 4 | GL2: 4 | GM2: 4 | GN2: 4 | GO2: 4 | GP2: 4 | GQ2: 4 | GR2: 4 | GS2: 4 | GT2: 4 | GU2: 4 | GV2: 4 | GW2: 4 | GX2: 4 | GY2: 4 | GZ2: 4 | HA2: 4 | HB2: 4 | HC2: 4 | HD2: 4 | HE2: 4 | HF2: 4 | HG2: 4 | HH2: 4 | HI2: 4 | HJ2: 4 | HK2: 4 | HL2: 4 | HM2: 4 | HN2: 4 | HO2: 4 | HP2: 4 | HQ2: 4 | HR2: 4 | HS2: 4 | HT2: 4 | HU2: 4 | HV2: 4 | HW2: 4 | HX2: 4 | HY2: 4 | HZ2: 4 | IA2: 4 | IB2: 4 | IC2: 4 | ID2: 4 | IE2: 4 | IF2: 4 | IG2: 4 | IH2: 4 | II2: 4 | IJ2: 4 | IK2: 4 | IL2: 4 | IM2: 4 | IN2: 4 | IO2: 4 | IP2: 4 | IQ2: 4 | IR2: 4 | IS2: 4 | IT2: 4 | IU2: 4 | IV2: 4 | IW2: 4 | IX2: 4 | IY2: 4 | IZ2: 4 | JA2: 4 | JB2: 4 | JC2: 4 | JD2: 4 | JE2: 4 | JF2: 4 | JG2: 4 | JH2: 4 | JI2: 4 | JJ2: 4 | JK2: 4 | JL2: 4 | JM2: 4 | JN2: 4 | JO2: 4 | JP2: 4 | JQ2: 4 | JR2: 4 | JS2: 4 | JT2: 4 | JU2: 4 | JV2: 4 | JW2: 4 | JX2: 4 | JY2: 4 | JZ2: 4 | KA2: 4 | KB2: 4 | KC2: 4 | KD2: 4 | KE2: 4 | KF2: 4 | KG2: 4 | KH2: 4 | KI2: 4 | KJ2: 4 | KK2: 4 | KL2: 4 | KM2: 4 | KN2: 4 | KO2: 4 | KP2: 4 | KQ2: 4 | KR2: 4 | KS2: 4 | KT2: 4 | KU2: 4 | KV2: 4 | KW2: 4 | KX2: 4 | KY2: 4 | KZ2: 4 | LA2: 4 | LB2: 4 | LC2: 4 | LD2: 4 | LE2: 4 | LF2: 4 | LG2: 4 | LH2: 4 | LI2: 4 | LJ2: 4 | LK2: 4 | LL2: 4 | LM2: 4 | LN2: 4 | LO2: 4 | LP2: 4 | LQ2: 4 | LR2: 4 | LS2: 4 | LT2: 4 | LU2: 4 | LV2: 4 | LW2: 4 | LX2: 4 | LY2: 4 | LZ2: 4 | MA2: 4 | MB2: 4 | MC2: 4 | MD2: 4 | ME2: 4 | MF2: 4 | MG2: 4 | MH2: 4 | MI2: 4 | MJ2: 4 | MK2: 4 | ML2: 4 | MM2: 4 | MN2: 4 | MO2: 4 | MP2: 4 | MQ2: 4 | MR2: 4 | MS2: 4 | MT2: 4 | MU2: 4 | MV2: 4 | MW2: 4 | MX2: 4 | MY2: 4 | MZ2: 4 | NA2: 4 | NB2: 4 | NC2: 4 | ND2: 4 | NE2: 4 | NF2: 4 | NG2: 4 | NH2: 4 | NI2: 4 | NJ2: 4 | NK2: 4 | NL2: 4 | NM2: 4 | NN2: 4 | NO2: 4 | NP2: 4 | NQ2: 4 | NR2: 4 | NS2: 4 | NT2: 4 | NU2: 4 | NV2: 4 | NW2: 4 | NX2: 4 | NY2: 4 | NZ2: 4 | OA2: 4 | OB2: 4 | OC2: 4 | OD2: 4 | OE2: 4 | OF2: 4 | OG2: 4 | OH2: 4 | OI2: 4 | OJ2: 4 | OK2: 4 | OL2: 4 | OM2: 4 | ON2: 4 | OO2: 4 | OP2: 4 | OQ2: 4 | OR2: 4 | OS2: 4 | OT2: 4 | OU2: 4 | OV2: 4 | OW2: 4 | OX2: 4 | OY2: 4 | OZ2: 4 | PA2: 4 | PB2: 4 | PC2: 4 | PD2: 4 | PE2: 4 | PF2: 4 | PG2: 4 | PH2: 4 | PI2: 4 | PJ2: 4 | PK2: 4 | PL2: 4 | PM2: 4 | PN2: 4 | PO2: 4 | PP2: 4 | PQ2: 4 | PR2: 4 | PS2: 4 | PT2: 4 | PU2: 4 | PV2: 4 | PW2: 4 | PX2: 4 | PY2: 4 | PZ2: 4 | QA2: 4 | QB2: 4 | QC2: 4 | QD2: 4 | QE2: 4 | QF2: 4 | QG2: 4 | QH2: 4 | QI2: 4 | QJ2: 4 | QK2: 4 | QL2: 4 | QM2: 4 | QN2: 4 | QO2: 4 | QP2: 4 | QQ2: 4 | QR2: 4 | QS2: 4 | QT2: 4 | QU2: 4 | QV2: 4 | QW2: 4 | QX2: 4 | QY2: 4 | QZ2: 4 | RA2: 4 | RB2: 4 | RC2: 4 | RD2: 4 | RE2: 4 | RF2: 4 | RG2: 4 | RH2: 4 | RI2: 4 | RJ2: 4 | RK2: 4 | RL2: 4 | RM2: 4 | RN2: 4 | RO2: 4 | RP2: 4 | RQ2: 4 | RR2: 4 | RS2: 4 | RT2: 4 | RU2: 4 | RV2: 4 | RW2: 4 | RX2: 4 | RY2: 4 | RZ2: 4 | SA2: 4 | SB2: 4 | SC2: 4 | SD2: 4 | SE2: 4 | SF2: 4 | SG2: 4 | SH2: 4 | SI2: 4 | SJ2: 4 | SK2: 4 | SL2: 4 | SM2: 4 | SN2: 4 | SO2: 4 | SP2: 4 | SQ2: 4 | SR2: 4 | SS2: 4 | ST2: 4 | SU2: 4 | SV2: 4 | SW2: 4 | SX2: 4 | SY2: 4 | SZ2: 4 | TA2: 4 | TB2: 4 | TC2: 4 | TD2: 4 | TE2: 4 | TF2: 4 | TG2: 4 | TH2: 4 | TI2: 4 | TJ2: 4 | TK2: 4 | TL2: 4 | TM2: 4 | TN2: 4 | TO2: 4 | TP2: 4 | TQ2: 4 | TR2: 4 | TS2: 4 | TT2: 4 | TU2: 4 | TV2: 4 | TW2: 4 | TX2: 4 | TY2: 4 | TZ2: 4 | UA2: 4 | UB2: 4 | UC2: 4 | UD2: 4 | UE2: 4 | UF2: 4 | UG2: 4 | UH2: 4 | UI2: 4 | UJ2: 4 | UK2: 4 | UL2: 4 | UM2: 4 | UN2: 4 | UO2: 4 | UP2: 4 | UQ2: 4 | UR2: 4 | US2: 4 | UT2: 4 | UU2: 4 | UV2: 4 | UW2: 4 | UX2: 4 | UY2: 4 | UZ2: 4 | VA2: 4 | VB2: 4 | VC2: 4 | VD2: 4 | VE2: 4 | VF2: 4 | VG2: 4 | VH2: 4 | VI2: 4 | VJ2: 4 | VK2: 4 | VL2: 4 | VM2: 4 | VN2: 4 | VO2: 4 | VP2: 4 | VQ2: 4 | VR2: 5 | VS2: 5 | VT2: 5 | VU2: 5 | VV2: 5 | VW2: 5 | VX2: 5 | VY2: 5 | VZ2: 5 | WA2: 5 | WB2: 5 | WC2: 5 | WD2: 5 | WE2: 5 | WF2: 5 | WG2: 5 | WH2: 5 | WI2: 5 | WJ2: 5 | WK2: 5 | WL2: 5 | WM2: 5 | WN2: 5 | WO2: 5 | WP2: 5 | WQ2: 5 | WR2: 5 | WS2: 5 | WT2: 5 | WU2: 5 | WV2: 5 | WW2: 5 | WX2: 5 | WY2: 5 | WZ2: 5 | XA2: 5 | XB2: 5 | XC2: 5 | XD2: 5 | XE2: 5 | XF2: 5 | XG2: 5 | XH2: 5 | XI2: 5 | XJ2: 5 | XK2: 5 | XL2: 5 | XM2: 5 | XN2: 5 | XO2: 5 | XP2: 5 | XQ2: 5 | XR2: 5 | XS2: 5 | XT2: 5 | XU2: 5 | XV2: 5 | XW2: 5 | XX2: 5 | XY2: 5 | XZ2: 5 | YA2: 5 | YB2: 5 | YC2: 5 | YD2: 5 | YE2: 5 | YF2: 5 | YG2: 5 | YH2: 5 | YI2: 5 | YJ2: 5 | YK2: 5 | YL2: 5 | YM2: 5 | YN2: 5 | YO2: 5 | YP2: 5 | YQ2: 5 | YR2: 5 | YS2: 5 | YT2: 5 | YU2: 5 | YV2: 5 | YW2: 5 | YX2: 5 | YY2: 5 | YZ2: 5 | ZA2: 5 | ZB2: 5 | ZC2: 5 | ZD2: 5 | ZE2: 5 | ZF2: 5 | ZG2: 5 | ZH2: 5 | ZI2: 5 | ZJ2: 5 | ZK2: 5 | ZL2: 5 | ZM2: 5 | ZN2: 5 | ZO2: 5 | ZP2: 5 | ZQ2: 5 | ZR2: 5 | ZS2: 5 | ZT2: 5 | ZU2: 5 | ZV2: 5 | ZW2: 5 | ZX2: 5 | ZY2: 5 | ZZ2: 5 | AAA2: 5 | AAB2: 5 | AAC2: 5 | AAD2: 5 | AAE2: 5 | AAF2: 5 | AAG2: 5 | AAH2: 5 | AAI2: 5 | AAJ2: 5 | AAK2: 5 | AAL2: 5 | AAM2: 5 | AAN2: 5 | AAO2: 5 | AAP2: 5 | AAQ2: 5 | AAR2: 5 | AAS2: 5 | AAT2: 5 | AAU2: 5 | AAV2: 5 | AAW2: 5 | AAX2: 5 | AAY2: 5 | AAZ2: 5 | ABA2: 5 | ABB2: 5 | ABC2: 5 | ABD2: 5 | ABE2: 5 | ABF2: 5 | ABG2: 5 | ABH2: 5 | ABI2: 5 | ABJ2: 5 | ABK2: 5 | ABL2: 5 | ABM2: 5 | ABN2: 5 | ABO2: 5 | ABP2: 5 | ABQ2: 5 | ABR2: 5 | ABS2: 5 | ABT2: 5 | ABU2: 5 | ABV2: 5 | ABW2: 5 | ABX2: 5 | ABY2: 5 | ABZ2: 5 | ACA2: 5 | ACB2: 5 | ACC2: 5 | ACD2: 5 | ACE2: 5 | ACF2: 5 | ACG2: 5 | ACH2: 5 | ACI2: 5 | ACJ2: 5 | ACK2: 5 | ACL2: 5 | ACM2: 5 | ACN2: 5 | ACO2: 5 | ACP2: 5 | ACQ2: 5 | ACR2: 5 | ACS2: 5 | ACT2: 5 | ACU2: 5 | ACV2: 5 | ACW2: 5 | ACX2: 5 | ACY2: 5 | ACZ2: 5 | ADA2: 5 | ADB2: 5 | ADC2: 5 | ADD2: 5 | ADE2: 5 | ADF2: 5 | ADG2: 5 | ADH2: 5 | ADI2: 5 | ADJ2: 5 | ADK2: 5 | ADL2: 5 | ADM2: 5 | ADN2: 5 | ADO2: 5 | ADP2: 5 | ADQ2: 5 | ADR2: 5 | ADS2: 5 | ADT2: 5 | ADU2: 5 | ADV2: 5 | ADW2: 5 | ADX2: 5 | ADY2: 5 | ADZ2: 5 | AEA2: 5 | AEB2: 5 | AEC2: 5 | AED2: 5 | AEE2: 5 | AEF2: 5 | AEG2: 5 | AEH2: 5 | AEI2: 5 | AEJ2: 5 | AEK2: 5 | AEL2: 5 | AEM2: 5 | AEN2: 5 | AEO2: 5 | AEP2: 5 | AEQ2: 5 | AER2: 5 | AES2: 5 | AET2: 5 | AEU2: 5 | AEV2: 5 | AEW2: 5 | AEX2: 5 | AEY2: 5 | AEZ2: 5 | AFA2: 5 | AFB2: 5 | AFC2: 5 | AFD2: 5 | AFE2: 5 | AFF2: 5 | AFG2: 5 | AFH2: 5 | AFI2: 5 | AFJ2: 5 | AFK2: 5 | AFL2: 5 | AFM2: 5 | AFN2: 5 | AFO2: 5 | AFP2: 5 | AFQ2: 5 | AFR2: 5 | AFS2: 5 | AFT2: 5 | AFU2: 5 | AFV2: 5 | AFW2: 5 | AFX2: 5 | AFY2: 5 | AFZ2: 5 | AGA2: 5 | AGB2: 5 | AGC2: 5 | AGD2: 5 | AGE2: 5 | AGF2: 5 | AGG2: 5 | AGH2: 5 | AGI2: 5 | AGJ2: 5 | AGK2: 5 | AGL2: 5 | AGM2: 5 | AGN2: 5 | AGO2: 5 | AGP2: 5 | AGQ2: 5 | AGR2: 5 | AGS2: 5 | AGT2: 5 | AGU2: 5 | AGV2: 5 | AGW2: 5 | AGX2: 5 | AGY2: 5 | AGZ2: 5 | AHA2: 5 | AHB2: 5 | AHC2: 5 | AHD2: 5 | AHE2: 5 | AHF2: 5 | AHG2: 5 | AHH2: 5 | AHI2: 5 | AHJ2: 5 | AHK2: 5 | AHL2: 5 | AHM2: 5 | AHN2: 5 | AHO2: 5 | AHP2: 5 | AHQ2: 5 | AHR2: 5 | AHS2: 5 | AHT2: 5 | AHU2: 5 | AHV2: 5 | AHW2: 5 | AHX2: 5 | AHY2: 5 | AHZ2: 5 | AIA2: 5 | AIB2: 5 | AIC2: 5 | AID2: 5 | AIE2: 5 | AIF2: 5 | AIG2: 5 | AIH2: 5 | AII2: 5 | AIJ2: 5 | AIK2: 5 | AIL2: 5 | AIM2: 5 | AIN2: 5 | AIO2: 5 | AIP2: 5 | AIQ2: 5 | AIR2: 5 | AIS2: 5 | AIT2: 5 | AIU2: 5 | AIV2: 5 | AIW2: 5 | AIX2: 5 | AIY2: 5 | AIZ2: 5 | AJA2: 5 | AJB2: 5 | AJC2: 5 | AJD2: 5 | AJE2: 5 | AJF2: 5 | AJG2: 5 | AJH2: 5 | AJI2: 5 | AJJ2: 5 | AJK2: 5 | AJL2: 5 | AJM2: 5 | AJN2: 5 | AJO2: 5 | AJP2: 5 | AJQ2: 5 | AJR2: 5 | AJS2: 5 | AJT2: 5 | AJU2: 5 | AJV2: 5 | AJW2: 5 | AJX2: 5 | AJY2: 5 | AJZ2: 5 | AKA2: 5 | AKB2: 5 | AKC2: 5 | AKD2: 5 | AKE2: 5 | AKF2: 5 | AKG2: 5 | AKH2: 5 | AKI2: 5 | AKJ2: 5 | AKK2: 5 | AKL2: 5 | AKM2: 5 | AKN2: 5 | AKO2: 5 | AKP2: 5 | AKQ2: 5 | AKR2: 5 | AKS2: 5 | AKT2: 5 | AKU2: 5 | AKV2: 5 | AKW2: 5 | AKX2: 5 | AKY2: 5 | AKZ2: 5 | ALA2: 5 | ALB2: 5 | ALC2: 5 | ALD2: 5 | ALE2: 5 | ALF2: 5 | ALG2: 5 | ALH2: 5 | ALI2: 5 | ALJ2: 5 | ALK2: 5 | ALL2: 5 | ALM2: 5 | ALN2: 5 | ALO2: 5 | ALP2: 5 | ALQ2: 5 | ALR2: 5 | ALS2: 5 | ALT2: 5 | ALU2: 5 | ALV2: 5 | ALW2: 5 | ALX2: 5 | ALY2: 5 | ALZ2: 5 | AMA2: 5 | AMB2: 5 | AMC2: 5 | AMD2: 5 | AME2: 5 | AMF2: 5 | AMG2: 5 | AMH2: 5 | AMI2: 5 | AMJ2: 5 | AMK2: 5 | AML2: 5 | AMM2: 5 | AMN2: 5 | AMO2: 5 | AMP2: 5 | AMQ2: 5 | AMR2: 5 | AMS2: 5 | AMT2: 5 | AMU2: 5 | AMV2: 5 | AMW2: 5 | AMX2: 5 | AMY2: 5 | AMZ2: 5 | ANA2: 5 | ANB2: 5 | ANC2: 5 | AND2: 5 | ANE2: 5 | ANF2: 5 | ANG2: 5 | ANH2: 5 | ANI2: 5 | ANJ2: 5 | ANK2: 5 | ANL2: 5 | ANM2: 5 | ANN2: 5 | ANO2: 5 | ANP2: 5 | ANQ2: 5 | ANR2: 5 | ANS2: 5 | ANT2: 5 | ANU2: 5 | ANV2: 5 | ANW2: 5 | ANX2: 5 | ANY2: 5 | ANZ2: 5 | AOA2: 5 | AOB2: 5 | AOC2: 5 | AOD2: 5 | AOE2: 5 | AOF2: 5 | AOG2: 5 | AOH2: 5 | AOI2: 5 | AOJ2: 5 | AOK2: 5 | AOL2: 5 | AOM2: 5 | AON2: 5 | AOO2: 5 | AOP2: 5 | AOQ2: 5 | AOR2: 5 | AOS2: 5 | AOT2: 5 | AOU2: 5 | AOV2: 5 | AOW2: 5 | AOX2: 5 | AOY2: 5 | AOZ2: 5 | APA2: 5 | APB2: 5 | APC2: 5 | APD2: 5 | APE2: 5 | APF2: 5 | APG2: 5 | APH2: 5.1 | API2: 5.1 | APJ2: 5.1 | APK2: 5.1 | APL2: 6 | APM2: 6 | APN2: 6 | APO2: 6 | APP2: 6 | APQ2: 6 | APR2: 6 | APS2: 6 | APT2: 6 | APU2: 6 | APV2: 6 | APW2: 6 | APX2: 6 | APY2: 6 | APZ2: 6 | AQA2: 6 | AQB2: 6 | AQC2: 6 | AQD2: 6 | AQE2: 6 | AQF2: 6 | AQG2: 6 | AQH2: 6 | AQI2: 6 | AQJ2: 6 | AQK2: 6 | AQL2: 6 | AQM2: 6 | AQN2: 6 | AQO2: 6 | AQP2: 6 | AQQ2: 6 | AQR2: 6 | AQS2: 6 | AQT2: 6 | AQU2: 6 | AQV2: 6 | AQW2: 6 | AQX2: 6 | AQY2: 6 | AQZ2: 6 | ARA2: 6 | ARB2: 6 | ARC2: 6 | ARD2: 6 | ARE2: 6 | ARF2: 6 | ARG2: 6 | ARH2: 6 | ARI2: 6 | ARJ2: 6 | ARK2: 6 | ARL2: 6 | ARM2: 6 | ARN2: 6 | ARO2: 6 | ARP2: 6 | ARQ2: 6 | ARR2: 6 | ARS2: 6 | ART2: 6 | ARU2: 6 | ARV2: 6 | ARW2: 6 | ARX2: 6 | ARY2: 6 | ARZ2: 6 | ASA2: 6 | ASB2: 6 | ASC2: 6 | ASD2: 6 | ASE2: 6 | ASF2: 6 | ASG2: 6 | ASH2: 6 | ASI2: 6 | ASJ2: 6 | ASK2: 6 | ASL2: 6 | ASM2: 6 | ASN2: 6 | ASO2: 6 | ASP2: 6 | ASQ2: 6 | ASR2: 6 | ASS2: 6 | AST2: 6 | ASU2: 6 | ASV2: 6 | ASW2: 6 | ASX2: 6 | ASY2: 6 | ASZ2: 6 | ATA2: 6 | ATB2: 6 | ATC2: 6 | ATD2: 6 | ATE2: 6 | ATF2: 6 | ATG2: 6 | ATH2: 6 | ATI2: 6 | ATJ2: 6 | ATK2: 6 | ATL2: 6 | ATM2: 6 | ATN2: 6 | ATO2: 6 | ATP2: 6 | ATQ2: 6 | ATR2: 6 | ATS2: 6 | ATT2: 6 | ATU2: 6 | ATV2: 6 | ATW2: 6 | ATX2: 6 | ATY2: 6 | ATZ2: 6 | AUA2: 6 | AUB2: 6 | AUC2: 6 | AUD2: 6 | AUE2: 6 | AUF2: 6 | AUG2: 6 | AUH2: 6 | AUI2: 6 | AUJ2: 6 | AUK2: 6 | AUL2: 6 | AUM2: 6 | AUN2: 6 | AUO2: 6 | AUP2: 6 | AUQ2: 6 | AUR2: 6 | AUS2: 6 | AUT2: 6 | AUU2: 6 | AUV2: 6 | AUW2: 6 | AUX2: 6 | AUY2: 6 | AUZ2: 6 | AVA2: 6 | AVB2: 6 | AVC2: 6 | AVD2: 6 | AVE2: 6 | AVF2: 6 | AVG2: 6 | AVH2: 6 | AVI2: 6 | AVJ2: 6 | AVK2: 6 | AVL2: 6 | AVM2: 6 | AVN2: 6 | AVO2: 6 | AVP2: 6 | AVQ2: 6 | AVR2: 6 | AVS2: 6 | AVT2: 6 | AVU2: 6 | AVV2: 6 | AVW2: 6 | AVX2: 6 | AVY2: 6 | AVZ2: 6 | AWA2: 6 | AWB2: 6 | AWC2: 6 | AWD2: 6 | AWE2: 6 | AWF2: 6 | AWG2: 6 | AWH2: 6 | AWI2: 6 | AWJ2: 6 | AWK2: 6 | AWL2: 6 | AWM2: 6 | AWN2: 6 | AWO2: 6 | AWP2: 6 | AWQ2: 6 | AWR2: 6 | AWS2: 6 | AWT2: 6 | AWU2: 6 | AWV2: 6 | AWW2: 6 | AWX2: 6 | AWY2: 6 | AWZ2: 6 | AXA2: 6 | AXB2: 6 | AXC2: 6 | AXD2: 6 | AXE2: 6 | AXF2: 6 | AXG2: 6 | AXH2: 6 | AXI2: 6 | AXJ2: 6 | AXK2: 6 | AXL2: 6 | AXM2: 6 | AXN2: 7 | AXO2: 7 | AXP2: 7 | AXQ2: 7 | AXR2: 7 | AXS2: 7 | AXT2: 7 | AXU2: 7 | AXV2: 7 | AXW2: 7 | AXX2: 7 | AXY2: 7 | AXZ2: 7 | AYA2: 7 | AYB2: 7 | AYC2: 7 | AYD2: 7 | AYE2: 7 | AYF2: 7 | AYG2: 7 | AYH2: 7 | AYI2: 7 | AYJ2: 7 | AYK2: 7 | AYL2: 7 | AYM2: 7 | AYN2: 7 | AYO2: 7 | AYP2: 7 | AYQ2: 7 | AYR2: 7 | AYS2: 7 | AYT2: 7 | AYU2: 7 | AYV2: 7 | AYW2: 7 | AYX2: 7 | AYY2: 7 | AYZ2: 7 | AZA2: 7 | AZB2: 7 | AZC2: 7 | AZD2: 7 | AZE2: 7 | AZF2: 7 | AZG2: 7 | AZH2: 7 | AZI2: 7 | AZJ2: 7 | AZK2: 7 | AZL2: 7 | AZM2: 7 | AZN2: 7 | AZO2: 7 | AZP2: 7 | AZQ2: 7 | AZR2: 7 | AZS2: 7 | AZT2: 7 | AZU2: 7 | AZV2: 7 | AZW2: 7 | AZX2: 7 | AZY2: 7 | AZZ2: 7 | BAA2: 7 | BAB2: 7 | BAC2: 7 | BAD2: 7 | BAE2: 7 | BAF2: 8 | BAG2: 8 | BAH2: 8 | BAI2: 8 | BAJ2: 8 | BAK2: 8 | BAL2: 8 | BAM2: 8 | BAN2: 8 | BAO2: 8 | BAP2: 8 | BAQ2: 8 | BAR2: 8 | BAS2: 8 | BAT2: 8 | BAU2: 8 | BAV2: 8 | BAW2: 8 | BAX2: 8 | BAY2: 8 | BAZ2: 8 | BBA2: 9 | BBB2: 9 | BBC2: 9 | BBD2: 9 | BBE2: 9 | BBF2: 9 | BBG2: 9 | BBH2: 9 | BBI2: 9 | BBJ2: 9 | BBK2: 9 | BBL2: 9 | BBM2: 9 | BBN2: 9 | BBO2: 9 | BBP2: 9 | BBQ2: 9 | BBR2: 9 | BBS2: 9 | BBT2: 9 | BBU2: 9 | BBV2: 9 | BBW2: 9 | BBX2: 9 | BBY2: 9 | BBZ2: 9 | BCA2: 9 | BCB2: 9 | BCC2: 9 | BCD2: 9 | BCE2: 9 | BCF2: 9 | BCG2: 9 | BCH2: 9 | BCI2: 9 | BCJ2: 9 | BCK2: 9 | BCL2: 9 | BCM2: 9 | BCN2: 9 | BCO2: 9 | BCP2: 9 | BCQ2: 9 | BCR2: 9 | BCS2: 9 | BCT2: 9 | BCU2: 9 | BCV2: 9 | BCW2: 9 | BCX2: 9 | BCY2: 9 | BCZ2: 9 | BDA2: 9 | BDB2: 9 | BDC2: 9 | BDD2: 9 | BDE2: 9 | BDF2: 9 | BDG2: 9 | BDH2: 9 | BDI2: 9 | BDJ2: 9 | BDK2: 9 | BDL2: 9 | BDM2: 9 | BDN2: 9 | BDO2: 9 | BDP2: 9 | BDQ2: 9 | BDR2: 9 | BDS2: 9 | BDT2: 9 | BDU2: 9 | BDV2: 9 | BDW2: 9 | BDX2: 9 | BDY2: 9 | BDZ2: 9 | BEA2: 9 | BEB2: 9 | BEC2: 9 | BED2: 9 | BEE2: 9 | BEF2: 9 | BEG2: 9 | BEH2: 9 | BEI2: 9 | BEJ2: 9 | BEK2: 9 | BEL2: 9 | BEM2: 9 | BEN2: 9 | BEO2: 9 | BEP2: 9 | BEQ2: 9 | BER2: 9 | BES2: 9 | BET2: 9 | BEU2: 9 | BEV2: 9 | BEW2: 9 | BEX2: 9 | BEY2: 9 | BEZ2: 9 | BFA2: 9 | BFB2: 9 | BFC2: 9 | BFD2: 9 | BFE2: 9 | BFF2: 9 | BFG2: 9 | BFH2: 9 | BFI2: 9 | BFJ2: 9 | BFK2: 9 | BFL2: 9 | BFM2: 9 | BFN2: 9 | BFO2: 9 | BFP2: 9 | BFQ2: 9 | BFR2: 9 | BFS2: 9 | BFT2: 9 | BFU2: 9 | BFV2: 9 | BFW2: 9 | BFX2: 9 | BFY2: 9 | BFZ2: 9 | BGA2: 9 | BGB2: 9 | BGC2: 9 | BGD2: 9 | BGE2: 9 | BGF2: 9 | BGG2: 9 | BGH2: 9 | BGI2: 9 | BGJ2: 9 | BGK2: 10 | BGL2: 10 | BGM2: 10 | BGN2: 10 | BGO2: 10 | BGP2: 10 | BGQ2: 10 | BGR2: 10 | BGS2: 10 | BGT2: 10 | BGU2: 10 | BGV2: 10 | BGW2: 10 | BGX2: 10 | BGY2: 10 | BGZ2: 10 | BHA2: 10 | BHB2: 10 | BHC2: 10 | BHD2: 10 | BHE2: 10 | BHF2: 11 | BHG2: 11 | BHH2: 11 | BHI2: 11 | BHJ2: 11 | BHK2: 11 | BHL2: 11 | BHM2: 11 | BHN2: 11 | BHO2: 11 | BHP2: 11 | BHQ2: 11 | BHR2: 11 | BHS2: 11 | BHT2: 11 | BHU2: 11 | BHV2: 11 | BHW2: 11 | BHX2: 11 | BHY2: 11 | BHZ2: 11 | BIA2: 11 | BIB2: 11 | BIC2: 11 | BID2: 11 | BIE2: 11 | BIF2: 11 | BIG2: 11 | BIH2: 11 | BII2: 11 | BIJ2: 11 | BIK2: 11 | BIL2: 11 | BIM2: 11 | BIN2: 11 | BIO2: 11 | BIP2: 11 | BIQ2: 11 | BIR2: 11 | BIS2: 11 | BIT2: 11 | BIU2: 11 | BIV2: 11 | BIW2: 11 | BIX2: 11 | BIY2: 11 | BIZ2: 11 | BJA2: 11 | BJB2: 11 | BJC2: 11 | BJD2: 11 | BJE2: 11 | BJF2: 11 | BJG2: 11 | BJH2: 11 | BJI2: 11 | BJJ2: 11 | BJK2: 11 | BJL2: 11 | BJM2: 11 | BJN2: 11 | BJO2: 11 | BJP2: 11 | BJQ2: 11 | BJR2: 11 | BJS2: 11 | BJT2: 11 | BJU2: 11 | BJV2: 11 | BJW2: 11 | BJX2: 11 | BJY2: 11 | BJZ2: 11 | BKA2: 11 | BKB2: 11 | BKC2: 11 | BKD2: 11 | BKE2: 11 | BKF2: 11 | BKG2: 11 | BKH2: 11 | BKI2: 11 | BKJ2: 11 | BKK2: 11 | BKL2: 11 | BKM2: 11 | BKN2: 11 | BKO2: 11 | BKP2: 11 | BKQ2: 11 | BKR2: 11 | BKS2: 11 | BKT2: 11 | BKU2: 11 | BKV2: 11 | BKW2: 11 | BKX2: 11 | BKY2: 11 | BKZ2: 11 | BLA2: 11 | BLB2: 11 | BLC2: 11 | BLD2: 11 | BLE2: 11 | BLF2: 12 | BLG2: 12 | BLH2: 12 | BLI2: 12 | BLJ2: 12 | BLK2: 12 | BLL2: 12 | BLM2: 12 | BLN2: 12 | BLO2: 12 | BLP2: 12 | BLQ2: 12 | BLR2: 12 | BLS2: 12 | BLT2: 12 | BLU2: 12 | BLV2: 12 | BLW2: 12 | BLX2: 12 | BLY2: 12 | BLZ2: 12 | BMA2: 12 | BMB2: 12 | BMC2: 12 | BMD2: 12 | BME2: 12 | BMF2: 12 | BMG2: 12 | BMH2: 12 | BMI2: 12 | BMJ2: 12 | BMK2: 12 | BML2: 12 | BMM2: 12 | BMN2: 12 | BMO2: 12 | BMP2: 12 | BMQ2: 12 | BMR2: 12 | BMS2: 12 | BMT2: 12 | BMU2: 12 | BMV2: 12 | BMW2: 12 | BMX2: 12 | BMY2: 12 | BMZ2: 12 | BNA2: 12 | BNB2: 12 | BNC2: 12 | BND2: 12 | BNE2: 12 | BNF2: 12 | BNG2: 12 | BNH2: 12 | BNI2: 12 | BNJ2: 12 | BNK2: 12 | BNL2: 12 | BNM2: 12 | BNN2: 12 | BNO2: 12 | BNP2: 12 | BNQ2: 12 | BNR2: 12 | BNS2: 12 | BNT2: 12 | BNU2: 12 | BNV2: 12 | BNW2: 12 | BNX2: 12 | BNY2: 12 | BNZ2: 12 | BOA2: 12 | BOB2: 12 | BOC2: 13 | BOD2: 13 | BOE2: 13 | BOF2: 13 | BOG2: 13 | BOH2: 13 | BOI2: 13 | BOJ2: 13 | BOK2: 13 | BOL2: 13 | BOM2: 13 | BON2: 13 | BOO2: 13 | BOP2: 13 | BOQ2: 13 | BOR2: 13 | BOS2: 13 | BOT2: 13 | BOU2: 13 | BOV2: 13 | BOW2: 13 | BOX2: 13 | BOY2: 13 | BOZ2: 13 | BPA2: 13 | BPB2: 13 | BPC2: 13 | BPD2: 13 | BPE2: 13 | BPF2: 13 | BPG2: 13 | BPH2: 13 | BPI2: 13 | BPJ2: 13 | BPK2: 13 | BPL2: 13 | BPM2: 13 | BPN2: 13 | BPO2: 13 | BPP2: 13 | BPQ2: 13 | BPR2: 13 | BPS2: 13 | BPT2: 13 | BPU2: 13 | BPV2: 14 | BPW2: 14 | BPX2: 14 | BPY2: 14 | BPZ2: 14 | BQA2: 14 | BQB2: 14 | BQC2: 14 | BQD2: 14 | BQE2: 14 | BQF2: 14 | BQG2: 14 | BQH2: 14 | BQI2: 14 | BQJ2: 14 | BQK2: 14 | BQL2: 14 | BQM2: 14 | BQN2: 14 | BQO2: 14 | BQP2: 14 | BQQ2: 14 | BQR2: 14 | BQS2: 14 | BQT2: 14 | BQU2: 14 | BQV2: 14 | BQW2: 14 | BQX2: 14 | BQY2: 14 | BQZ2: 14 | BRA2: 14 | BRB2: 14 | BRC2: 14 | BRD2: 14 | BRE2: 14 | BRF2: 14 | BRG2: 14 | BRH2: 14 | BRI2: 14 | BRJ2: 14 | BRK2: 14 | BRL2: 14 | BRM2: 14 | BRN2: 14 | BRO2: 14 | BRP2: 14 | BRQ2: 14 | BRR2: 14 | BRS2: 14 | BRT2: 14 | BRU2: 14 | BRV2: 14 | BRW2: 14 | BRX2: 14 | BRY2: 14 | BRZ2: 14 | BSA2: 14 | BSB2: 14 | BSC2: 14 | BSD2: 14 | BSE2: 14 | BSF2: 14 | BSG2: 14 | BSH2: 14 | BSI2: 14 | BSJ2: 14 | BSK2: 14 | BSL2: 14 | BSM2: 14 | BSN2: 14 | BSO2: 14 | BSP2: 14 | BSQ2: 14 | BSR2: 14 | BSS2: 15 | BST2: 15 | BSU2: 15 | BSV2: 15 | BSW2: 15 | BSX2: 15 | BSY2: 15 | BSZ2: 15 | BTA2: 15 | BTB2: 15 | BTC2: 15 | BTD2: 15 | BTE2: 15 | BTF2: 15 | BTG2: 15 | BTH2: 15 | BTI2: 15 | BTJ2: 15 | BTK2: 15 | BTL2: 15 | BTM2: 15 | BTN2: 15 | BTO2: 15 | BTP2: 15 | BTQ2: 15 | BTR2: 15 | BTS2: 15 | BTT2: 15 | BTU2: 15 | BTV2: 15 | BTW2: 15 | BTX2: 15 | BTY2: 15 | BTZ2: 15 | BUA2: 15 | BUB2: 15 | BUC2: 15 | BUD2: 15 | BUE2: 15 | BUF2: 15 | BUG2: 15 | BUH2: 15 | BUI2: 15 | BUJ2: 15 | BUK2: 15 | BUL2: 15 | BUM2: 15 | BUN2: 15 | BUO2: 15 | BUP2: 15 | BUQ2: 15 | BUR2: 15 | BUS2: 15 | BUT2: 15 | BUU2: 15 | BUV2: 15 | BUW2: 15 | BUX2: 15 | BUY2: 15 | BUZ2: 15 | BVA2: 15 | BVB2: 15 | BVC2: 15 | BVD2: 15 | BVE2: 15 | BVF2: 15 | BVG2: 15 | BVH2: 15 | BVI2: 15 | BVJ2: 15 | BVK2: 15 | BVL2: 15 | BVM2: 15 | BVN2: 15 | BVO2: 15 | BVP2: 16 | BVQ2: 16 | BVR2: 16 | BVS2: 16 | BVT2: 16 | BVU2: 16 | BVV2: 16 | BVW2: 16 | BVX2: 16 | BVY2: 16 | BVZ2: 16 | BWA2: 16 | BWB2: 16 | BWC2: 16 | BWD2: 16 | BWE2: 16 | BWF2: 16 | BWG2: 16 | BWH2: 16 | BWI2: 16 | BWJ2: 16 | BWK2: 16 | BWL2: 16 | BWM2: 16 | BWN2: 16 | BWO2: 16 | BWP2: 16 | BWQ2: 16 | BWR2: 16 | BWS2: 16 | BWT2: 16 | BWU2: 16 | BWV2: 16 | BWW2: 16 | BWX2: 16 | BWY2: 16 | BWZ2: 16 | BXA2: 16 | BXB2: 16 | BXC2: 16 | BXD2: 16 | BXE2: 16 | BXF2: 16 | BXG2: 16 | BXH2: 16 | BXI2: 16 | BXJ2: 16 | BXK2: 16 | BXL2: 16 | BXM2: 16 | BXN2: 16 | BXO2: 16 | BXP2: 16 | BXQ2: 16 | BXR2: 16 | BXS2: 16 | BXT2: 16 | BXU2: 16 | BXV2: 16 | BXW2: 16 | BXX2: 16 | BXY2: 16 | BXZ2: 16 | BYA2: 16 | BYB2: 16 | BYC2: 16 | BYD2: 16 | BYE2: 16 | BYF2: 16 | BYG2: 16 | BYH2: 16 | BYI2: 16 | BYJ2: 16 | BYK2: 16 | BYL2: 16 | BYM2: 16 | BYN2: 16 | BYO2: 16 | BYP2: 16 | BYQ2: 16 | BYR2: 16 | BYS2: 16 | BYT2: 16 | BYU2: 16 | BYV2: 16 | BYW2: 16 | BYX2: 16 | BYY2: 16 | BYZ2: 16 | BZA2: 16 | BZB2: 17 | BZC2: 17 | BZD2: 17 | BZE2: 17 | BZF2: 17 | BZG2: 17 | BZH2: 17 | BZI2: 17 | BZJ2: 17 | BZK2: 17 | BZL2: 17 | BZM2: 17 | BZN2: 17 | BZO2: 17 | BZP2: 17 | BZQ2: 17 | BZR2: 17 | BZS2: 17 | BZT2: 17 | BZU2: 17 | BZV2: 17 | BZW2: 17 | BZX2: 17 | BZY2: 17 | BZZ2: 17 | CAA2: 17 | CAB2: 17 | CAC2: 17 | CAD2: 17 | CAE2: 17 | CAF2: 17 | CAG2: 17 | CAH2: 17 | CAI2: 17 | CAJ2: 17 | CAK2: 17 | CAL2: 17 | CAM2: 17 | CAN2: 17 | CAO2: 17 | CAP2: 17 | CAQ2: 17 | CAR2: 17 | CAS2: 17 | CAT2: 17 | CAU2: 17 | CAV2: 17 | CAW2: 17 | CAX2: 17 | CAY2: 17 | CAZ2: 17 | CBA2: 17 | CBB2: 17 | CBC2: 17 | CBD2: 17 | CBE2: 17 | CBF2: 17 | CBG2: 17 | CBH2: 17 | CBI2: 17 | CBJ2: 17 | CBK2: 17 | CBL2: 17 | CBM2: 17 | CBN2: 17 | CBO2: 17 | CBP2: 17 | CBQ2: 17 | CBR2: 17 | CBS2: 17 | CBT2: 17 | CBU2: 17 | CBV2: 17 | CBW2: 17 | CBX2: 17 | CBY2: 17 | CBZ2: 17 | CCA2: 17 | CCB2: 17 | CCC2: 17 | CCD2: 17 | CCE2: 17 | CCF2: 17 | CCG2: 17 | CCH2: 17 | CCI2: 17 | CCJ2: 17 | CCK2: 17 | CCL2: 17 | CCM2: 17 | CCN2: 17 | CCO2: 17 | CCP2: 17 | CCQ2: 17 | CCR2: 17 | CCS2: 17 | CCT2: 17 | CCU2: 17 | CCV2: 17 | CCW2: 17 | CCX2: 17 | CCY2: 17 | CCZ2: 17 | CDA2: 17 | CDB2: 17 | CDC2: 17 | CDD2: 17 | CDE2: 17 | CDF2: 17 | CDG2: 17 | CDH2: 17 | CDI2: 17 | CDJ2: 17 | CDK2: 17 | CDL2: 17 | CDM2: 17 | CDN2: 17 | CDO2: 17 | CDP2: 17 | CDQ2: 17 | CDR2: 17 | CDS2: 17 | CDT2: 17 | CDU2: 17 | CDV2: 17 | CDW2: 17 | CDX2: 17 | CDY2: 17 | CDZ2: 17 | CEA2: 17 | CEB2: 17 | CEC2: 17 | CED2: 17 | CEE2: 17 | CEF2: 17 | CEG2: 17 | CEH2: 17 | CEI2: 17 | CEJ2: 17 | CEK2: 17 | CEL2: 17 | CEM2: 17 | CEN2: 17 | CEO2: 17 | CEP2: 17 | CEQ2: 17 | CER2: 17 | CES2: 17 | CET2: 17 | CEU2: 17 | CEV2: 17 | CEW2: 17 | CEX2: 17 | CEY2: 17 | CEZ2: 17 | CFA2: 17 | CFB2: 17 | CFC2: 17 | CFD2: 17 | CFE2: 17 | CFF2: 17 | CFG2: 17 | CFH2: 17 | CFI2: 17 | CFJ2: 17 | CFK2: 17 | CFL2: 17 | CFM2: 17 | CFN2: 17 | CFO2: 18 | CFP2: 18 | CFQ2: 18 | CFR2: 18 | CFS2: 18 | CFT2: 18 | CFU2: 18 | CFV2: 18 | CFW2: 18 | CFX2: 18 | CFY2: 18 | CFZ2: 18 | CGA2: 18 | CGB2: 18 | CGC2: 18 | CGD2: 18 | CGE2: 18 | CGF2: 18 | CGG2: 18 | CGH2: 18 | CGI2: 18 | CGJ2: 18 | CGK2: 18 | CGL2: 18 | CGM2: 18 | CGN2: 18 | CGO2: 18 | CGP2: 18 | CGQ2: 18 | CGR2: 18 | CGS2: 18 | CGT2: 18 | CGU2: 18 | CGV2: 18 | CGW2: 18 | CGX2: 18 | CGY2: 18 | CGZ2: 18 | CHA2: 18 | CHB2: 18 | CHC2: 18 | CHD2: 18 | CHE2: 18 | CHF2: 18 | CHG2: 18 | CHH2: 18 | CHI2: 18 | CHJ2: 18 | CHK2: 18 | CHL2: 18 | CHM2: 18 | CHN2: 18 | CHO2: 18 | CHP2: 18 | CHQ2: 18 | CHR2: 18 | CHS2: 18 | CHT2: 18 | CHU2: 18 | CHV2: 18 | CHW2: 18 | CHX2: 18 | CHY2: 18 | CHZ2: 18 | CIA2: 18 | CIB2: 18 | CIC2: 18 | CID2: 18 | CIE2: 18 | CIF2: 18 | CIG2: 18 | CIH2: 18 | CII2: 18 | CIJ2: 18 | CIK2: 18 | CIL2: 18 | CIM2: 18 | CIN2: 18 | CIO2: 18 | CIP2: 18 | CIQ2: 18 | CIR2: 18 | CIS2: 18 | CIT2: 18 | CIU2: 18 | CIV2: 18 | CIW2: 18 | CIX2: 18 | CIY2: 18 | CIZ2: 18 | CJA2: 18 | CJB2: 18 | CJC2: 18 | CJD2: 18 | CJE2: 18 | CJF2: 18 | CJG2: 18 | CJH2: 18 | CJI2: 18 | CJJ2: 18 | CJK2: 18 | CJL2: 18 | CJM2: 18 | CJN2: 18 | CJO2: 18 | CJP2: 18 | CJQ2: 18 | CJR2: 18 | CJS2: 18 | CJT2: 18 | CJU2: 18 | CJV2: 18 | CJW2: 18 | CJX2: 18 | CJY2: 18 | CJZ2: 18 | CKA2: 18 | CKB2: 18 | CKC2: 18 | CKD2: 18 | CKE2: 18 | CKF2: 18 | CKG2: 18 | CKH2: 18 | CKI2: 18 | CKJ2: 18 | CKK2: 18 | CKL2: 18 | CKM2: 18 | CKN2: 18 | CKO2: 18 | CKP2: 18 | CKQ2: 18 | CKR2: 18 | CKS2: 18 | CKT2: 18 | CKU2: 18 | CKV2: 18 | CKW2: 18 | CKX2: 18 | CKY2: 18 | CKZ2: 18 | CLA2: 18 | CLB2: 18 | CLC2: 18 | CLD2: 18 | CLE2: 18 | CLF2: 18 | CLG2: 18 | CLH2: 18 | CLI2: 18 | CLJ2: 18 | CLK2: 18 | CLL2: 18 | CLM2: 18 | CLN2: 18 | CLO2: 18 | CLP2: 18 | CLQ2: 18 | CLR2: 18 | CLS2: 18 | CLT2: 18 | CLU2: 18 | CLV2: 18 | CLW2: 18 | CLX2: 18 | CLY2: 18 | CLZ2: 18 | CMA2: 18 | CMB2: 18 | CMC2: 18 | CMD2: 18 | CME2: 18 | CMF2: 18 | CMG2: 18 | CMH2: 18 | CMI2: 18 | CMJ2: 18 | CMK2: 18 | CML2: 18 | CMM2: 18 | CMN2: 18 | CMO2: 18 | CMP2: 18 | CMQ2: 18 | CMR2: 18 | CMS2: 18 | CMT2: 18 | CMU2: 18 | CMV2: 18 | CMW2: 18 | CMX2: 18 | CMY2: 18 | CMZ2: 18 | CNA2: 18 | CNB2: 18 | CNC2: 18 | CND2: 18 | CNE2: 18 | CNF2: 18 | CNG2: 18 | CNH2: 18 | CNI2: 18 | CNJ2: 18 | CNK2: 18 | CNL2: 18 | CNM2: 18 | CNN2: 18 | CNO2: 18 | CNP2: 18 | CNQ2: 18 | CNR2: 18 | CNS2: 18 | CNT2: 18 | CNU2: 18 | CNV2: 18 | CNW2: 18 | CNX2: 18 | CNY2: 18 | CNZ2: 18 | COA2: 18 | COB2: 18 | COC2: 18 | COD2: 18 | COE2: 18 | COF2: 18 | COG2: 18 | COH2: 18 | COI2: 18 | COJ2: 18 | COK2: 18 | COL2: 18 | COM2: 18 | CON2: 18 | COO2: 18 | COP2: 18 | COQ2: 18 | COR2: 18 | COS2: 18 | COT2: 18 | COU2: 18 | COV2: 18 | COW2: 18 | COX2: 18 | COY2: 18 | COZ2: 18 | CPA2: 18 | CPB2: 18 | CPC2: 18 | CPD2: 18 | CPE2: 18 | CPF2: 18 | CPG2: 18 | CPH2: 18 | CPI2: 18 | CPJ2: 18 | CPK2: 18 | CPL2: 18 | CPM2: 18 | CPN2: 18 | CPO2: 18 | CPP2: 18 | CPQ2: 18 | CPR2: 18 | CPS2: 19 | CPT2: 19 | CPU2: 19 | CPV2: 19 | CPW2: 19 | CPX2: 19 | CPY2: 19 | CPZ2: 19 | CQA2: 19 | CQB2: 19 | CQC2: 19 | CQD2: 19 | CQE2: 19 | CQF2: 19 | CQG2: 19 | CQH2: 19 | CQI2: 19 | CQJ2: 19 | CQK2: 19 | CQL2: 19 | CQM2: 19 | CQN2: 19 | CQO2: 19 | CQP2: 19 | CQQ2: 19 | CQR2: 19 | CQS2: 19 | CQT2: 19 | CQU2: 19 | CQV2: 19 | CQW2: 19 | CQX2: 19 | CQY2: 19 | CQZ2: 19 | CRA2: 19 | CRB2: 19 | CRC2: 19 | CRD2: 19 | CRE2: 19 | CRF2: 19 | CRG2: 19 | CRH2: 19 | CRI2: 19 | CRJ2: 19 | CRK2: 19 | CRL2: 19 | CRM2: 19 | CRN2: 19 | CRO2: 19 | CRP2: 19 | CRQ2: 19 | CRR2: 19 | CRS2: 19 | CRT2: 19 | CRU2: 19 | CRV2: 19 | CRW2: 19 | CRX2: 19 | CRY2: 19 | CRZ2: 19 | CSA2: 19 | CSB2: 19 | CSC2: 19 | CSD2: 19 | CSE2: 19 | CSF2: 19 | CSG2: 19 | CSH2: 19 | CSI2: 19 | CSJ2: 19 | CSK2: 19 | CSL2: 19 | CSM2: 19 | CSN2: 19 | CSO2: 19 | CSP2: 19 | CSQ2: 19 | CSR2: 19 | CSS2: 19 | CST2: 19 | CSU2: 19 | CSV2: 19 | CSW2: 19 | CSX2: 19 | CSY2: 19 | CSZ2: 19 | CTA2: 19 | CTB2: 19 | CTC2: 19 | CTD2: 19 | CTE2: 19 | CTF2: 19 | CTG2: 19 | CTH2: 19 | CTI2: 19 | CTJ2: 19 | CTK2: 19 | CTL2: 19 | CTM2: 19 | CTN2: 19 | CTO2: 19 | CTP2: 19 | CTQ2: 19 | CTR2: 19 | CTS2: 19 | CTT2: 19 | CTU2: 19 | CTV2: 19 | CTW2: 19 | CTX2: 19 | CTY2: 19 | CTZ2: 19 | CUA2: 19 | CUB2: 19 | CUC2: 19 | CUD2: 19 | CUE2: 19 | CUF2: 19 | CUG2: 19 | CUH2: 19 | CUI2: 19 | CUJ2: 19 | CUK2: 19 | CUL2: 19 | CUM2: 19 | CUN2: 19 | CUO2: 19 | CUP2: 19 | CUQ2: 19 | CUR2: 19 | CUS2: 19 | CUT2: 19 | CUU2: 19 | CUV2: 19 | CUW2: 19 | CUX2: 19 | CUY2: 19 | CUZ2: 19 | CVA2: 19 | CVB2: 19 | CVC2: 19 | CVD2: 19 | CVE2: 19 | CVF2: 19 | CVG2: 19 | CVH2: 19 | CVI2: 19 | CVJ2: 19 | CVK2: 19 | CVL2: 19 | CVM2: 19 | CVN2: 19 | CVO2: 19 | CVP2: 19 | CVQ2: 19 | CVR2: 19 | CVS2: 19 | CVT2: 19 | CVU2: 19 | CVV2: 19 | CVW2: 19 | CVX2: 19 | CVY2: 19 | CVZ2: 19 | CWA2: 19 | CWB2: 19 | CWC2: 19 | CWD2: 19 | CWE2: 19 | CWF2: 19 | CWG2: 19 | CWH2: 19 | CWI2: 19 | CWJ2: 19 | CWK2: 19 | CWL2: 19 | CWM2: 19 | CWN2: 19 | CWO2: 19 | CWP2: 19 | CWQ2: 19 | CWR2: 19 | CWS2: 19 | CWT2: 19 | CWU2: 19 | CWV2: 19 | CWW2: 19 | CWX2: 19 | CWY2: 19 | CWZ2: 19 | CXA2: 19 | CXB2: 19 | CXC2: 19 | CXD2: 19 | CXE2: 19 | CXF2: 19 | CXG2: 19 | CXH2: 19 | CXI2: 19 | CXJ2: 19 | CXK2: 19 | CXL2: 19 | CXM2: 19 | CXN2: 19 | CXO2: 19 | CXP2: 19 | CXQ2: 19 | CXR2: 19 | CXS2: 19 | CXT2: 19 | CXU2: 19 | CXV2: 19 | CXW2: 19 | CXX2: 19 | CXY2: 19 | CXZ2: 19 | CYA2: 19 | CYB2: 19 | CYC2: 19 | CYD2: 19 | CYE2: 19 | CYF2: 19 | CYG2: 19 | CYH2: 19 | CYI2: 19 | CYJ2: 19 | CYK2: 19 | CYL2: 19 | CYM2: 19 | CYN2: 19 | CYO2: 19 | CYP2: 19 | CYQ2: 19 | CYR2: 19 | CYS2: 19 | CYT2: 19 | CYU2: 19 | CYV2: 19 | CYW2: 19 | CYX2: 19 | CYY2: 19 | CYZ2: 19 | CZA2: 19 | CZB2: 19 | CZC2: 19 | CZD2: 19 | CZE2: 19 | CZF2: 19 | CZG2: 19 | CZH2: 19 | CZI2: 19 | CZJ2: 19 | CZK2: 19 | CZL2: 19 | CZM2: 19 | CZN2: 19 | CZO2: 19 | CZP2: 19 | CZQ2: 19 | CZR2: 19 | CZS2: 19 | CZT2: 19 | CZU2: 19 | CZV2: 19 | CZW2: 19 | CZX2: 19 | CZY2: 19 | CZZ2: 19 | DAA2: 19 | DAB2: 19 | DAC2: 19 | DAD2: 19 | DAE2: 19 | DAF2: 19 | DAG2: 19 | DAH2: 19 | DAI2: 19 | DAJ2: 19 | DAK2: 19 | DAL2: 19 | DAM2: 19 | DAN2: 19 | DAO2: 19 | DAP2: 19 | DAQ2: 19 | DAR2: 19 | DAS2: 19 | DAT2: 19 | DAU2: 19 | DAV2: 19 | DAW2: 19 | DAX2: 19 | DAY2: 19 | DAZ2: 19 | DBA2: 19 | DBB2: 19 | DBC2: 19 | DBD2: 19 | DBE2: 19 | DBF2: 19 | DBG2: 19 | DBH2: 19 | DBI2: 19 | DBJ2: 19 | DBK2: 19 | DBL2: 19 | DBM2: 19 | DBN2: 19 | DBO2: 19 | DBP2: 19 | DBQ2: 19 | DBR2: 19 | DBS2: 19 | DBT2: 19 | DBU2: 19 | DBV2: 19 | DBW2: 19 | DBX2: 19 | DBY2: 19 | DBZ2: 19 | DCA2: 19 | DCB2: 19 | DCC2: 19 | DCD2: 19 | DCE2: 19 | DCF2: 19 | DCG2: 19 | DCH2: 19 | DCI2: 19 | DCJ2: 19 | DCK2: 19 | DCL2: 19 | DCM2: 19 | DCN2: 19 | DCO2: 19 | DCP2: 19 | DCQ2: 19 | DCR2: 19 | DCS2: 19 | DCT2: 19 | DCU2: 19 | DCV2: 19 | DCW2: 19 | DCX2: 19 | DCY2: 19 | DCZ2: 19 | DDA2: 19 | DDB2: 19 | DDC2: 19 | DDD2: 19 | DDE2: 19 | DDF2: 19 | DDG2: 19 | DDH2: 19 | DDI2: 19 | DDJ2: 19 | DDK2: 19 | DDL2: 19 | DDM2: 19 | DDN2: 19 | DDO2: 19 | DDP2: 19 | DDQ2: 19 | DDR2: 19 | DDS2: 19 | DDT2: 19 | DDU2: 19 | DDV2: 19 | DDW2: 19 | DDX2: 19 | DDY2: 19 | DDZ2: 19 | DEA2: 19 | DEB2: 19 | DEC2: 19 | DED2: 19 | DEE2: 19 | DEF2: 19 | DEG2: 19 | DEH2: 19 | DEI2: 19 | DEJ2: 19 | DEK2: 19 | DEL2: 19 | DEM2: 19 | DEN2: 19 | DEO2: 19 | DEP2: 19 | DEQ2: 19 | DER2: 19 | DES2: 19 | DET2: 19 | DEU2: 19 | DEV2: 19 | DEW2: 19 | DEX2: 19 | DEY2: 19 | DEZ2: 19 | DFA2: 19 | DFB2: 19 | DFC2: 19 | DFD2: 19 | DFE2: 19 | DFF2: 19 | DFG2: 19 | DFH2: 19 | DFI2: 19 | DFJ2: 19 | DFK2: 19 | DFL2: 19 | DFM2: 19 | DFN2: 19 | DFO2: 19 | DFP2: 19 | DFQ2: 19 | DFR2: 19 | DFS2: 19 | DFT2: 19 | DFU2: 19 | DFV2: 19 | DFW2: 19 | DFX2: 19 | DFY2: 19 | DFZ2: 19 | DGA2: 19 | DGB2: 19 | DGC2: 19 | DGD2: 19 | DGE2: 19 | DGF2: 19 | DGG2: 19 | DGH2: 19 | DGI2: 19 | DGJ2: 19 | DGK2: 19 | DGL2: 19 | DGM2: 19 | DGN2: 19 | DGO2: 19 | DGP2: 19 | DGQ2: 19 | DGR2: 19 | DGS2: 19 | DGT2: 19 | DGU2: 19 | DGV2: 19 | DGW2: 19 | DGX2: 19 | DGY2: 19 | DGZ2: 19 | DHA2: 19 | DHB2: 19 | DHC2: 19 | DHD2: 19 | DHE2: 19 | DHF2: 19 | DHG2: 19 | DHH2: 19 | DHI2: 19 | DHJ2: 19 | DHK2: 19 | DHL2: 19 | DHM2: 19 | DHN2: 19 | DHO2: 19 | DHP2: 19 | DHQ2: 19 | DHR2: 19 | DHS2: 19 | DHT2: 19 | DHU2: 19 | DHV2: 19 | DHW2: 19 | DHX2: 19 | DHY2: 19 | DHZ2: 19 | DIA2: 19 | DIB2: 19 | DIC2: 19 | DID2: 19 | DIE2: 19 | DIF2: 19 | DIG2: 19 | DIH2: 19 | DII2: 19 | DIJ2: 19 | DIK2: 19 | DIL2: 19 | DIM2: 19 | DIN2: 19 | DIO2: 19 | DIP2: 19 | DIQ2: 19 | DIR2: 19 | DIS2: 19 | DIT2: 19 | DIU2: 19 | DIV2: 19 | DIW2: 19 | DIX2: 19 | DIY2: 19 | DIZ2: 19 | DJA2: 19 | DJB2: 19 | DJC2: 19 | DJD2: 19 | DJE2: 19 | DJF2: 19 | DJG2: 19 | DJH2: 19 | DJI2: 19 | DJJ2: 19 | DJK2: 19 | DJL2: 19 | DJM2: 19 | DJN2: 19 | DJO2: 19 | DJP2: 19 | DJQ2: 19 | DJR2: 19 | DJS2: 19 | DJT2: 19 | DJU2: 19 | DJV2: 19 | DJW2: 19 | DJX2: 19 | DJY2: 19 | DJZ2: 19 | DKA2: 19 | DKB2: 19 | DKC2: 19 | DKD2: 19 | DKE2: 19 | DKF2: 19 | DKG2: 19 | DKH2: 19 | DKI2: 19 | DKJ2: 19 | DKK2: 19 | DKL2: 19 | DKM2: 19 | DKN2: 19 | DKO2: 19 | DKP2: 19 | DKQ2: 19 | DKR2: 19 | DKS2: 19 | DKT2: 19 | DKU2: 19 | DKV2: 19 | DKW2: 19 | DKX2: 19 | DKY2: 19 | DKZ2: 19 | DLA2: 19 | DLB2: 19 | DLC2: 19 | DLD2: 19 | DLE2: 19 | DLF2: 19 | DLG2: 19 | DLH2: 19 | DLI2: 19 | DLJ2: 19 | DLK2: 19 | DLL2: 19 | DLM2: 19 | DLN2: 19 | DLO2: 19 | DLP2: 19 | DLQ2: 19 | DLR2: 19 | DLS2: 19 | DLT2: 19 | DLU2: 19 | DLV2: 19 | DLW2: 19 | DLX2: 19 | DLY2: 19 | DLZ2: 19 | DMA2: 19 | DMB2: 19 | DMC2: 19 | DMD2: 19 | DME2: 19 | DMF2: 19 | DMG2: 19 | DMH2: 19 | DMI2: 19 | DMJ2: 19 | DMK2: 19 | DML2: 19 | DMM2: 19 | DMN2: 19 | DMO2: 19 | DMP2: 19 | DMQ2: 19 | DMR2: 19 | DMS2: 19 | DMT2: 19 | DMU2: 19 | DMV2: 19 | DMW2: 19 | DMX2: 19 | DMY2: 19 | DMZ2: 19 | DNA2: 19 | DNB2: 19 | DNC2: 19 | DND2: 19 | DNE2: 19 | DNF2: 19 | DNG2: 19 | DNH2: 19 | DNI2: 19 | DNJ2: 19 | DNK2: 19 | DNL2: 19 | DNM2: 19 | DNN2: 19 | DNO2: 19 | DNP2: 19 | DNQ2: 19 | DNR2: 19 | DNS2: 19 | DNT2: 19 | DNU2: 19 | DNV2: 19 | DNW2: 19 | DNX2: 19 | DNY2: 19 | DNZ2: 19 | DOA2: 19 | DOB2: 19 | DOC2: 19 | DOD2: 19 | DOE2: 19 | DOF2: 19 | DOG2: 19 | DOH2: 19 | DOI2: 19 | DOJ2: 19 | DOK2: 19 | DOL2: 19 | DOM2: 19 | DON2: 19 | DOO2: 19 | DOP2: 19 | DOQ2: 19 | DOR2: 19 | DOS2: 19 | DOT2: 19 | DOU2: 19 | DOV2: 19 | DOW2: 19 | DOX2: 19 | DOY2: 19 | DOZ2: 19 | DPA2: 19 | DPB2: 19 | DPC2: 20 | DPD2: 20 | DPE2: 20 | DPF2: 20 | DPG2: 20 | DPH2: 20 | DPI2: 20 | DPJ2: 20 | DPK2: 20 | DPL2: 20 | DPM2: 20 | DPN2: 20 | DPO2: 20 | DPP2: 20 | DPQ2: 20 | DPR2: 20 | DPS2: 20 | DPT2: 20 | DPU2: 20 | DPV2: 20 | DPW2: 20 | DPX2: 20 | DPY2: 20 | DPZ2: 20 | DQA2: 20 | DQB2: 20 | DQC2: 20 | DQD2: 20 | DQE2: 20 | DQF2: 20 | DQG2: 20 | DQH2: 20 | DQI2: 20 | DQJ2: 20 | DQK2: 20 | DQL2: 20 | DQM2: 20 | DQN2: 20 | DQO2: 20 | DQP2: 20 | DQQ2: 20 | DQR2: 20 | DQS2: 20 | DQT2: 20 | DQU2: 20 | DQV2: 20 | DQW2: 20 | DQX2: 20 | DQY2: 20 | DQZ2: 20 | DRA2: 20 | DRB2: 20 | DRC2: 20 | DRD2: 20 | DRE2: 20 | DRF2: 20 | DRG2: 20 | DRH2: 20 | DRI2: 20 | DRJ2: 20 | DRK2: 20 | DRL2: 20 | DRM2: 20 | DRN2: 20 | DRO2: 20 | DRP2: 20 | DRQ2: 20 | DRR2: 20 | DRS2: 20 | DRT2: 20 | DRU2: 20 | DRV2: 20 | DRW2: 20 | DRX2: 20 | DRY2: 20 | DRZ2: 20 | DSA2: 20 | DSB2: 20 | DSC2: 20 | DSD2: 20 | DSE2: 20 | DSF2: 20 | DSG2: 20 | DSH2: 20 | DSI2: 20 | DSJ2: 20 | DSK2: 20 | DSL2: 20 | DSM2: 20 | DSN2: 20 | DSO2: 20 | DSP2: 20 | DSQ2: 20 | DSR2: 20 | DSS2: 20 | DST2: 20 | DSU2: 20 | DSV2: 20 | DSW2: 20 | DSX2: 20 | DSY2: 20 | DSZ2: 20 | DTA2: 20 | DTB2: 20 | DTC2: 20 | DTD2: 20 | DTE2: 20 | DTF2: 20 | DTG2: 20 | DTH2: 20 | DTI2: 20 | DTJ2: 20 | DTK2: 20 | DTL2: 20 | DTM2: 20 | DTN2: 20 | DTO2: 20 | DTP2: 20 | DTQ2: 20 | DTR2: 20 | DTS2: 20 | DTT2: 20 | DTU2: 20 | DTV2: 20 | DTW2: 20 | DTX2: 20 | DTY2: 20 | DTZ2: 20 | DUA2: 20 | DUB2: 20 | DUC2: 20 | DUD2: 20 | DUE2: 20 | DUF2: 20 | DUG2: 20 | DUH2: 20 | DUI2: 20 | DUJ2: 20 | DUK2: 20 | DUL2: 20 | DUM2: 20 | DUN2: 20 | DUO2: 20 | DUP2: 20 | DUQ2: 20 | DUR2: 20 | DUS2: 20 | DUT2: 20 | DUU2: 20 | DUV2: 20 | DUW2: 20 | DUX2: 20 | DUY2: 20 | DUZ2: 20 | DVA2: 20 | DVB2: 20 | DVC2: 20 | DVD2: 20 | DVE2: 20 | DVF2: 20 | DVG2: 20 | DVH2: 20 | DVI2: 20 | DVJ2: 20 | DVK2: 20 | DVL2: 20 | DVM2: 20 | DVN2: 20 | DVO2: 20 | DVP2: 20 | DVQ2: 20 | DVR2: 20 | DVS2: 20 | DVT2: 20 | DVU2: 20 | DVV2: 20 | DVW2: 20 | DVX2: 20 | DVY2: 20 | DVZ2: 20 | DWA2: 20 | DWB2: 20 | DWC2: 20 | DWD2: 20 | DWE2: 20 | DWF2: 20 | DWG2: 20 | DWH2: 20 | DWI2: 20 | DWJ2: 20 | DWK2: 20 | DWL2: 20 | DWM2: 20 | DWN2: 20 | DWO2: 20 | DWP2: 20 | DWQ2: 20 | DWR2: 20 | DWS2: 20 | DWT2: 20 | DWU2: 20 | DWV2: 20 | DWW2: 20 | DWX2: 20 | DWY2: 20 | DWZ2: 20 | DXA2: 20 | DXB2: 20 | DXC2: 20 | DXD2: 20 | DXE2: 20 | DXF2: 20 | DXG2: 20 | DXH2: 20 | DXI2: 20 | DXJ2: 20 | DXK2: 20 | DXL2: 20 | DXM2: 20 | DXN2: 20 | DXO2: 20 | DXP2: 20 | DXQ2: 20 | DXR2: 20 | DXS2: 20 | DXT2: 20 | DXU2: 20 | DXV2: 20 | DXW2: 20 | DXX2: 20 | DXY2: 20 | DXZ2: 20 | DYA2: 20 | DYB2: 20 | DYC2: 20 | DYD2: 20 | DYE2: 20 | DYF2: 20 | DYG2: 20 | DYH2: 20 | DYI2: 20 | DYJ2: 20 | DYK2: 20 | DYL2: 20 | DYM2: 20 | DYN2: 20 | DYO2: 20 | DYP2: 20 | DYQ2: 20 | DYR2: 20 | DYS2: 20 | DYT2: 20 | DYU2: 20 | DYV2: 20 | DYW2: 20 | DYX2: 20 | DYY2: 20 | DYZ2: 20 | DZA2: 20 | DZB2: 20 | DZC2: 20 | DZD2: 20 | DZE2: 20 | DZF2: 20 | DZG2: 20 | DZH2: 20 | DZI2: 20 | DZJ2: 20 | DZK2: 20 | DZL2: 20 | DZM2: 20 | DZN2: 20 | DZO2: 20 | DZP2: 20 | DZQ2: 20 | DZR2: 20 | DZS2: 20 | DZT2: 20 | DZU2: 20 | DZV2: 20 | DZW2: 20 | DZX2: 20 | DZY2: 20 | DZZ2: 20 | EAA2: 20 | EAB2: 20 | EAC2: 20 | EAD2: 20 | EAE2: 20 | EAF2: 20 | EAG2: 20 | EAH2: 20 | EAI2: 20 | EAJ2: 20 | EAK2: 20 | EAL2: 20 | EAM2: 20 | EAN2: 20 | EAO2: 20 | EAP2: 20 | EAQ2: 20 | EAR2: 20 | EAS2: 20 | EAT2: 20 | EAU2: 20 | EAV2: 20 | EAW2: 20 | EAX2: 20 | EAY2: 20 | EAZ2: 20 | EBA2: 20 | EBB2: 20 | EBC2: 20 | EBD2: 20 | EBE2: 20 | EBF2: 20 | EBG2: 20 | EBH2: 20 | EBI2: 20 | EBJ2: 20 | EBK2: 20 | EBL2: 20 | EBM2: 20 | EBN2: 20 | EBO2: 20 | EBP2: 20 | EBQ2: 20 | EBR2: 20 | EBS2: 20 | EBT2: 20 | EBU2: 20 | EBV2: 20 | EBW2: 20 | EBX2: 20 | EBY2: 20 | EBZ2: 20 | ECA2: 20 | ECB2: 20 | ECC2: 20 | ECD2: 20 | ECE2: 20 | ECF2: 20 | ECG2: 20 | ECH2: 20 | ECI2: 20 | ECJ2: 20 | ECK2: 20 | ECL2: 20 | ECM2: 20 | ECN2: 20 | ECO2: 20 | ECP2: 20 | ECQ2: 20 | ECR2: 20 | ECS2: 20 | ECT2: 20 | ECU2: 20 | ECV2: 20 | ECW2: 20 | ECX2: 20 | ECY2: 20 | ECZ2: 20 | EDA2: 20 | EDB2: 20 | EDC2: 20 | EDD2: 20 | EDE2: 20 | EDF2: 20 | EDG2: 20 | EDH2: 21 | EDI2: 21 | EDJ2: 21 | EDK2: 21 | EDL2: 21 | EDM2: 21 | EDN2: 21 | EDO2: 21 | EDP2: 21 | EDQ2: 21 | EDR2: 21 | EDS2: 21 | EDT2: 21 | EDU2: 21 | EDV2: 21 | EDW2: 21 | EDX2: 21 | EDY2: 21 | EDZ2: 21 | EEA2: 21 | EEB2: 21 | EEC2: 21 | EED2: 21 | EEE2: 22 | EEF2: 22 | EEG2: 22 | EEH2: 22 | EEI2: 22 | EEJ2: 22 | EEK2: 22 | EEL2: 22 | EEM2: 22 | EEN2: 22 | EEO2: 22 | EEP2: 22 | EEQ2: 22 | EER2: 22 | EES2: 22 | EET2: 22 | EEU2: 22 | EEV2: 22 | EEW2: 22 | EEX2: 22 | EEY2: 22 | EEZ2: 22 | EFA2: 22 | EFB2: 22 | EFC2: 22 | EFD2: 22 | EFE2: 22 | EFF2: 22 | EFG2: 22 | EFH2: 22 | EFI2: 22 | EFJ2: 22 | EFK2: 22 | EFL2: 22 | EFM2: 22 | EFN2: 22 | EFO2: 22 | EFP2: 22 | EFQ2: 22 | EFR2: 22 | EFS2: 22 | EFT2: 22 | EFU2: 22 | EFV2: 22 | EFW2: 22 | EFX2: 22 | EFY2: 22 | EFZ2: 22 | EGA2: 22 | EGB2: 22 | EGC2: 22 | EGD2: 22 | EGE2: 22 | EGF2: 22 | EGG2: 22 | EGH2: 22 | EGI2: 22 | EGJ2: 22 | EGK2: 22 | EGL2: 22 | EGM2: 22 | EGN2: 22 | EGO2: 22 | EGP2: 22 | EGQ2: 22 | EGR2: 22 | EGS2: 22 | EGT2: 22 | EGU2: 22 | EGV2: 22 | EGW2: 22 | EGX2: 22 | EGY2: 22 | EGZ2: 22 | EHA2: 22 | EHB2: 22 | EHC2: 22 | EHD2: 22 | EHE2: 22 | EHF2: 22 | EHG2: 22 | EHH2: 22 | EHI2: 22 | EHJ2: 22 | EHK2: 22 | EHL2: 22 | EHM2: 22 | EHN2: 22 | EHO2: 22 | EHP2: 22 | EHQ2: 22 | EHR2: 22 | EHS2: 22 | EHT2: 22 | EHU2: 22 | EHV2: 22 | EHW2: 22 | EHX2: 22 | EHY2: 22 | EHZ2: 22 | EIA2: 22 | EIB2: 22 | EIC2: 22 | EID2: 22 | EIE2: 22 | EIF2: 22 | EIG2: 22 | EIH2: 22 | EII2: 22 | EIJ2: 22 | EIK2: 22 | EIL2: 22 | EIM2: 22 | EIN2: 22 | EIO2: 22 | EIP2: 22 | EIQ2: 22 | EIR2: 22 | EIS2: 22 | EIT2: 22 | EIU2: 22 | EIV2: 22 | EIW2: 22 | EIX2: 22 | EIY2: 22 | EIZ2: 22 | EJA2: 22 | EJB2: 22 | EJC2: 22 | EJD2: 22 | EJE2: 22 | EJF2: 22 | EJG2: 22 | EJH2: 22 | EJI2: 22 | EJJ2: 22 | EJK2: 22 | EJL2: 22 | EJM2: 22 | EJN2: 22 | EJO2: 22 | EJP2: 22 | EJQ2: 22 | EJR2: 22 | EJS2: 22 | EJT2: 22 | EJU2: 22 | EJV2: 22 | EJW2: 22 | EJX2: 22 | EJY2: 22 | EJZ2: 22 | EKA2: 22 | EKB2: 22 | EKC2: 22 | EKD2: 22 | EKE2: 22 | EKF2: 22 | EKG2: 22 | EKH2: 22 | EKI2: 22 | EKJ2: 22 | EKK2: 22 | EKL2: 22 | EKM2: 22 | EKN2: 22 | EKO2: 22 | EKP2: 22 | EKQ2: 22 | EKR2: 22 | EKS2: 22 | EKT2: 22 | EKU2: 22 | EKV2: 22 | EKW2: 22 | EKX2: 22 | EKY2: 22 | EKZ2: 22 | ELA2: 22 | ELB2: 22 | ELC2: 22 | ELD2: 22 | ELE2: 22 | ELF2: 22 | ELG2: 22 | ELH2: 22 | ELI2: 22 | ELJ2: 22 | ELK2: 22 | ELL2: 22 | ELM2: 22 | ELN2: 22 | ELO2: 22 | ELP2: 22 | ELQ2: 22 | ELR2: 22 | ELS2: 22 | ELT2: 22 | ELU2: 22 | ELV2: 22 | ELW2: 22 | ELX2: 22 | ELY2: 22 | ELZ2: 22 | EMA2: 22 | EMB2: 22 | EMC2: 22 | EMD2: 22 | EME2: 22 | EMF2: 22 | EMG2: 22 | EMH2: 22 | EMI2: 22 | EMJ2: 22 | EMK2: 22 | EML2: 22 | EMM2: 22 | EMN2: 22 | EMO2: 22 | EMP2: 22 | EMQ2: 22 | EMR2: 22 | EMS2: 22 | EMT2: 22 | EMU2: 22 | EMV2: 23 | EMW2: 23 | EMX2: 23 | EMY2: 23 | EMZ2: 23 | ENA2: 23 | ENB2: 23 | ENC2: 23 | END2: 23 | ENE2: 23 | ENF2: 23 | ENG2: 23 | ENH2: 23 | ENI2: 23 | ENJ2: 23 | ENK2: 23 | ENL2: 23 | ENM2: 23 | ENN2: 23 | ENO2: 23 | ENP2: 23 | ENQ2: 23 | ENR2: 23 | ENS2: 23 | ENT2: 23 | ENU2: 23 | ENV2: 23 | ENW2: 23 | ENX2: 23 | ENY2: 23 | ENZ2: 23 | EOA2: 23 | EOB2: 23 | EOC2: 23 | EOD2: 23 | EOE2: 23 | EOF2: 23 | EOG2: 23 | EOH2: 23 | EOI2: 23 | EOJ2: 23 | EOK2: 23 | EOL2: 23 | EOM2: 23 | EON2: 23 | EOO2: 23 | EOP2: 23 | EOQ2: 23 | EOR2: 23 | EOS2: 23 | EOT2: 23 | EOU2: 23 | EOV2: 23 | EOW2: 23 | EOX2: 23 | EOY2: 23 | EOZ2: 23 | EPA2: 23 | EPB2: 23 | EPC2: 23 | EPD2: 23 | EPE2: 23 | EPF2: 23 | EPG2: 23 | EPH2: 23 | EPI2: 23 | EPJ2: 23 | EPK2: 23 | EPL2: 23 | EPM2: 23 | EPN2: 23 | EPO2: 23 | EPP2: 23 | EPQ2: 23 | EPR2: 23 | EPS2: 23 | EPT2: 23 | EPU2: 23 | EPV2: 23 | EPW2: 23 | EPX2: 23 | EPY2: 23 | EPZ2: 23 | EQA2: 23 | EQB2: 23 | EQC2: 23 | EQD2: 23 | EQE2: 23 | EQF2: 23 | EQG2: 23 | EQH2: 23 | EQI2: 23 | EQJ2: 23 | EQK2: 23 | EQL2: 23 | EQM2: 23 | EQN2: 23 | EQO2: 23 | EQP2: 23 | EQQ2: 23 | EQR2: 23 | EQS2: 23 | EQT2: 23 | EQU2: 23 | EQV2: 23 | EQW2: 23 | EQX2: 23 | EQY2: 23 | EQZ2: 23 | ERA2: 23 | ERB2: 23 | ERC2: 23 | ERD2: 23 | ERE2: 23 | ERF2: 23 | ERG2: 23 | ERH2: 23 | ERI2: 23 | ERJ2: 23 | ERK2: 23 | ERL2: 23 | ERM2: 23 | ERN2: 23 | ERO2: 23 | ERP2: 23 | ERQ2: 23 | ERR2: 23 | ERS2: 23 | ERT2: 23 | ERU2: 23 | ERV2: 23 | ERW2: 23 | ERX2: 23 | ERY2: 23 | ERZ2: 23 | ESA2: 23 | ESB2: 23 | ESC2: 23 | ESD2: 23 | ESE2: 23 | ESF2: 24 | ESG2: 24 | ESH2: 24 | ESI2: 24 | ESJ2: 24 | ESK2: 24 | ESL2: 24 | ESM2: 24 | ESN2: 24 | ESO2: 24 | ESP2: 24 | ESQ2: 24 | ESR2: 24 | ESS2: 24 | EST2: 24 | ESU2: 24 | ESV2: 24 | ESW2: 24 | ESX2: 24 | ESY2: 24 | ESZ2: 24 | ETA2: 24 | ETB2: 24 | ETC2: 24 | ETD2: 24 | ETE2: 24 | ETF2: 24 | ETG2: 24 | ETH2: 24 | ETI2: 24 | ETJ2: 24 | ETK2: 24 | ETL2: 24 | ETM2: 24 | ETN2: 24 | ETO2: 24 | ETP2: 24 | ETQ2: 24 | ETR2: 24 | ETS2: 24 | ETT2: 24 | ETU2: 24 | ETV2: 24 | ETW2: 24 | ETX2: 24 | ETY2: 24 | ETZ2: 24 | EUA2: 24 | EUB2: 24 | EUC2: 24 | EUD2: 24 | EUE2: 24 | EUF2: 24 | EUG2: 24 | EUH2: 24 | EUI2: 24 | EUJ2: 24 | EUK2: 24 | EUL2: 24 | EUM2: 24 | EUN2: 24 | EUO2: 24 | EUP2: 24 | EUQ2: 24 | EUR2: 24 | EUS2: 24 | EUT2: 24 | EUU2: 24 | EUV2: 24 | EUW2: 24 | EUX2: 24 | EUY2: 24 | EUZ2: 24 | EVA2: 24 | EVB2: 24 | EVC2: 24 | EVD2: 24 | EVE2: 24 | EVF2: 24 | EVG2: 24 | EVH2: 24 | EVI2: 24 | EVJ2: 24 | EVK2: 24 | EVL2: 24 | EVM2: 24 | EVN2: 24 | EVO2: 24 | EVP2: 24 | EVQ2: 24 | EVR2: 24 | EVS2: 24 | EVT2: 24 | EVU2: 24 | EVV2: 24 | EVW2: 24 | EVX2: 24 | EVY2: 24 | EVZ2: 24 | EWA2: 24 | EWB2: 24 | EWC2: 24 | EWD2: 24 | EWE2: 24 | EWF2: 24 | EWG2: 24 | EWH2: 24 | EWI2: 24 | EWJ2: 24 | EWK2: 24 | EWL2: 24 | EWM2: 24 | EWN2: 24 | EWO2: 24 | EWP2: 24 | EWQ2: 24 | EWR2: 24 | EWS2: 24 | EWT2: 24 | EWU2: 24 | EWV2: 24 | EWW2: 24 | EWX2: 24 | EWY2: 24 | EWZ2: 24 | EXA2: 25 | EXB2: 25 | EXC2: 25 | EXD2: 25 | EXE2: 25 | EXF2: 99 | EXG2: 99 | EXH2: 99 | EXI2: 99 | EXJ2: 99 | EXK2: 99 | EXL2: 99 | EXM2: 99 | EXN2: 99 | EXO2: 99 | EXP2: 99 | EXQ2: 99
C3: 5 | D3: 6 | E3: 7 | F3: 8 | G3: 9 | H3: 10 | I3: 11 | J3: 12 | K3: 13 | L3: 14 | M3: 15 | N3: 16 | O3: 17 | P3: 18 | Q3: 19 | R3: 5 | S3: 7 | T3: 9 | U3: 11 | V3: 13 | W3: 15 | X3: 17 | Y3: 19 | Z3: 5 | AA3: 7 | AB3: 9 | AC3: 11 | AD3: 13 | AE3: 15 | AF3: 17 | AG3: 19 | AH3: 5 | AI3: 6 | AJ3: 7 | AK3: 8 | AL3: 9 | AM3: 10 | AN3: 11 | AO3: 12 | AP3: 13 | AQ3: 14 | AR3: 15 | AS3: 16 | AT3: 17 | AU3: 5 | AV3: 6 | AW3: 7 | AX3: 8 | AY3: 9 | AZ3: 10 | BA3: 11 | BB3: 12 | BC3: 13 | BD3: 14 | BE3: 15 | BF3: 16 | BG3: 17 | BH3: 5 | BI3: 6 | BJ3: 7 | BK3: 8 | BL3: 9 | BM3: 10 | BN3: 11 | BO3: 12 | BP3: 13 | BQ3: 14 | BR3: 15 | BS3: 16 | BT3: 17 | BU3: 5 | BV3: 6 | BW3: 7 | BX3: 8 | BY3: 9 | BZ3: 10 | CA3: 11 | CB3: 12 | CC3: 13 | CD3: 14 | CE3: 15 | CF3: 16 | CG3: 17 | CH3: 5 | CI3: 6 | CJ3: 7 | CK3: 8 | CL3: 9 | CM3: 10 | CN3: 11 | CO3: 12 | CP3: 13 | CQ3: 14 | CR3: 15 | CS3: 16 | CT3: 17 | CU3: 5 | CV3: 6 | CW3: 7 | CX3: 8 | CY3: 9 | CZ3: 10 | DA3: 11 | DB3: 12 | DC3: 13 | DD3: 14 | DE3: 15 | DF3: 16 | DG3: 17 | DH3: 5 | DI3: 6 | DJ3: 7 | DK3: 8 | DL3: 9 | DM3: 10 | DN3: 11 | DO3: 12 | DP3: 13 | DQ3: 14 | DR3: 15 | DS3: 16 | DT3: 17 | DU3: 5 | DV3: 6 | DW3: 7 | DX3: 8 | DY3: 9 | DZ3: 10 | EA3: 11 | EB3: 12 | EC3: 13 | ED3: 14 | EE3: 15 | EF3: 16 | EG3: 17 | EH3: 18 | EI3: 19 | EJ3: 5 | EK3: 6 | EL3: 7 | EM3: 8 | EN3: 9 | EO3: 10 | EP3: 11 | EQ3: 12 | ER3: 13 | ES3: 14 | ET3: 15 | EU3: 16 | EV3: 17 | EW3: 18 | EX3: 19 | EY3: 5 | EZ3: 6 | FA3: 7 | FB3: 8 | FC3: 9 | FD3: 10 | FE3: 11 | FF3: 12 | FG3: 13 | FH3: 14 | FI3: 15 | FJ3: 16 | FK3: 17 | FL3: 18 | FM3: 19 | FN3: 5 | FO3: 6 | FP3: 7 | FQ3: 8 | FR3: 9 | FS3: 10 | FT3: 11 | FU3: 12 | FV3: 13 | FW3: 14 | FX3: 15 | FY3: 16 | FZ3: 17 | GA3: 18 | GB3: 19 | GC3: 5 | GD3: 6 | GE3: 7 | GF3: 8 | GG3: 9 | GH3: 10 | GI3: 11 | GJ3: 12 | GK3: 13 | GL3: 14 | GM3: 15 | GN3: 16 | GO3: 17 | GP3: 18 | GQ3: 19 | GR3: 5 | GS3: 6 | GT3: 7 | GU3: 8 | GV3: 9 | GW3: 10 | GX3: 11 | GY3: 12 | GZ3: 13 | HA3: 14 | HB3: 15 | HC3: 16 | HD3: 17 | HE3: 18 | HF3: 19 | HG3: 5 | HH3: 6 | HI3: 7 | HJ3: 8 | HK3: 9 | HL3: 10 | HM3: 11 | HN3: 12 | HO3: 13 | HP3: 14 | HQ3: 15 | HR3: 16 | HS3: 17 | HT3: 18 | HU3: 19 | HV3: 5 | HW3: 6 | HX3: 7 | HY3: 8 | HZ3: 9 | IA3: 10 | IB3: 11 | IC3: 12 | ID3: 13 | IE3: 14 | IF3: 15 | IG3: 16 | IH3: 17 | II3: 18 | IJ3: 19 | IK3: 5 | IL3: 6 | IM3: 7 | IN3: 8 | IO3: 9 | IP3: 10 | IQ3: 11 | IR3: 12 | IS3: 13 | IT3: 14 | IU3: 15 | IV3: 16 | IW3: 17 | IX3: 18 | IY3: 19 | IZ3: 5 | JA3: 6 | JB3: 7 | JC3: 8 | JD3: 9 | JE3: 10 | JF3: 11 | JG3: 12 | JH3: 13 | JI3: 14 | JJ3: 15 | JK3: 16 | JL3: 17 | JM3: 18 | JN3: 19 | JO3: 5 | JP3: 6 | JQ3: 7 | JR3: 8 | JS3: 9 | JT3: 10 | JU3: 11 | JV3: 12 | JW3: 13 | JX3: 14 | JY3: 15 | JZ3: 16 | KA3: 17 | KB3: 18 | KC3: 19 | KD3: 5 | KE3: 6 | KF3: 7 | KG3: 8 | KH3: 9 | KI3: 10 | KJ3: 11 | KK3: 12 | KL3: 13 | KM3: 14 | KN3: 15 | KO3: 16 | KP3: 17 | KQ3: 18 | KR3: 19 | KS3: 5 | KT3: 6 | KU3: 7 | KV3: 8 | KW3: 9 | KX3: 10 | KY3: 11 | KZ3: 12 | LA3: 13 | LB3: 14 | LC3: 15 | LD3: 16 | LE3: 17 | LF3: 18 | LG3: 19 | LH3: 5 | LI3: 6 | LJ3: 7 | LK3: 8 | LL3: 9 | LM3: 10 | LN3: 11 | LO3: 12 | LP3: 13 | LQ3: 14 | LR3: 15 | LS3: 16 | LT3: 17 | LU3: 18 | LV3: 19 | LW3: 5 | LX3: 6 | LY3: 7 | LZ3: 8 | MA3: 9 | MB3: 10 | MC3: 11 | MD3: 12 | ME3: 13 | MF3: 14 | MG3: 15 | MH3: 16 | MI3: 17 | MJ3: 18 | MK3: 19 | ML3: 5 | MM3: 6 | MN3: 7 | MO3: 8 | MP3: 9 | MQ3: 10 | MR3: 11 | MS3: 12 | MT3: 13 | MU3: 14 | MV3: 15 | MW3: 16 | MX3: 17 | MY3: 18 | MZ3: 19 | NA3: 5 | NB3: 6 | NC3: 7 | ND3: 8 | NE3: 9 | NF3: 10 | NG3: 11 | NH3: 12 | NI3: 13 | NJ3: 14 | NK3: 15 | NL3: 16 | NM3: 17 | NN3: 18 | NO3: 19 | NP3: 5 | NQ3: 6 | NR3: 7 | NS3: 8 | NT3: 9 | NU3: 10 | NV3: 11 | NW3: 12 | NX3: 13 | NY3: 14 | NZ3: 15 | OA3: 16 | OB3: 17 | OC3: 18 | OD3: 19 | OE3: 5 | OF3: 6 | OG3: 7 | OH3: 8 | OI3: 9 | OJ3: 10 | OK3: 11 | OL3: 12 | OM3: 13 | ON3: 14 | OO3: 15 | OP3: 16 | OQ3: 17 | OR3: 18 | OS3: 19 | OT3: 5 | OU3: 6 | OV3: 7 | OW3: 8 | OX3: 9 | OY3: 10 | OZ3: 11 | PA3: 12 | PB3: 13 | PC3: 14 | PD3: 15 | PE3: 16 | PF3: 17 | PG3: 18 | PH3: 19 | PI3: 5 | PJ3: 6 | PK3: 7 | PL3: 8 | PM3: 9 | PN3: 10 | PO3: 11 | PP3: 12 | PQ3: 13 | PR3: 14 | PS3: 15 | PT3: 16 | PU3: 17 | PV3: 18 | PW3: 19 | PX3: 5 | PY3: 6 | PZ3: 7 | QA3: 8 | QB3: 9 | QC3: 10 | QD3: 11 | QE3: 12 | QF3: 13 | QG3: 14 | QH3: 15 | QI3: 16 | QJ3: 17 | QK3: 18 | QL3: 19 | QM3: 5 | QN3: 6 | QO3: 7 | QP3: 8 | QQ3: 9 | QR3: 10 | QS3: 11 | QT3: 12 | QU3: 13 | QV3: 14 | QW3: 15 | QX3: 16 | QY3: 17 | QZ3: 18 | RA3: 19 | RB3: 5 | RC3: 6 | RD3: 7 | RE3: 8 | RF3: 9 | RG3: 10 | RH3: 11 | RI3: 12 | RJ3: 13 | RK3: 14 | RL3: 15 | RM3: 16 | RN3: 17 | RO3: 18 | RP3: 19 | RQ3: 5 | RR3: 6 | RS3: 7 | RT3: 8 | RU3: 9 | RV3: 10 | RW3: 11 | RX3: 12 | RY3: 13 | RZ3: 14 | SA3: 15 | SB3: 16 | SC3: 17 | SD3: 18 | SE3: 19 | SF3: 5 | SG3: 6 | SH3: 7 | SI3: 8 | SJ3: 9 | SK3: 10 | SL3: 11 | SM3: 12 | SN3: 13 | SO3: 14 | SP3: 15 | SQ3: 16 | SR3: 17 | SS3: 18 | ST3: 19 | SU3: 5 | SV3: 6 | SW3: 7 | SX3: 8 | SY3: 9 | SZ3: 10 | TA3: 11 | TB3: 12 | TC3: 13 | TD3: 14 | TE3: 15 | TF3: 16 | TG3: 17 | TH3: 18 | TI3: 19 | TJ3: 5 | TK3: 6 | TL3: 7 | TM3: 8 | TN3: 9 | TO3: 10 | TP3: 11 | TQ3: 12 | TR3: 13 | TS3: 14 | TT3: 15 | TU3: 16 | TV3: 17 | TW3: 18 | TX3: 19 | TY3: 5 | TZ3: 6 | UA3: 7 | UB3: 8 | UC3: 9 | UD3: 10 | UE3: 11 | UF3: 12 | UG3: 13 | UH3: 14 | UI3: 15 | UJ3: 16 | UK3: 17 | UL3: 18 | UM3: 19 | UN3: 5 | UO3: 6 | UP3: 7 | UQ3: 8 | UR3: 9 | US3: 10 | UT3: 11 | UU3: 12 | UV3: 13 | UW3: 14 | UX3: 15 | UY3: 16 | UZ3: 17 | VA3: 18 | VB3: 19 | VC3: 5 | VD3: 6 | VE3: 7 | VF3: 8 | VG3: 9 | VH3: 10 | VI3: 11 | VJ3: 12 | VK3: 13 | VL3: 14 | VM3: 15 | VN3: 16 | VO3: 17 | VP3: 18 | VQ3: 19 | VR3: 5 | VS3: 6 | VT3: 7 | VU3: 8 | VV3: 9 | VW3: 10 | VX3: 11 | VY3: 12 | VZ3: 13 | WA3: 14 | WB3: 15 | WC3: 16 | WD3: 17 | WE3: 18 | WF3: 19 | WG3: 5 | WH3: 6 | WI3: 7 | WJ3: 8 | WK3: 9 | WL3: 10 | WM3: 11 | WN3: 12 | WO3: 13 | WP3: 14 | WQ3: 15 | WR3: 16 | WS3: 17 | WT3: 18 | WU3: 19 | WV3: 5 | WW3: 6 | WX3: 7 | WY3: 8 | WZ3: 9 | XA3: 10 | XB3: 11 | XC3: 12 | XD3: 13 | XE3: 14 | XF3: 15 | XG3: 16 | XH3: 17 | XI3: 18 | XJ3: 19 | XK3: 5 | XL3: 6 | XM3: 7 | XN3: 8 | XO3: 9 | XP3: 10 | XQ3: 11 | XR3: 12 | XS3: 13 | XT3: 14 | XU3: 15 | XV3: 16 | XW3: 17 | XX3: 18 | XY3: 19 | XZ3: 5 | YA3: 6 | YB3: 7 | YC3: 8 | YD3: 9 | YE3: 10 | YF3: 11 | YG3: 12 | YH3: 13 | YI3: 14 | YJ3: 15 | YK3: 16 | YL3: 17 | YM3: 18 | YN3: 19 | YO3: 5 | YP3: 6 | YQ3: 7 | YR3: 8 | YS3: 9 | YT3: 10 | YU3: 11 | YV3: 12 | YW3: 13 | YX3: 14 | YY3: 15 | YZ3: 16 | ZA3: 17 | ZB3: 18 | ZC3: 19 | ZD3: 5 | ZE3: 6 | ZF3: 7 | ZG3: 8 | ZH3: 9 | ZI3: 10 | ZJ3: 11 | ZK3: 12 | ZL3: 13 | ZM3: 14 | ZN3: 15 | ZO3: 16 | ZP3: 17 | ZQ3: 18 | ZR3: 19 | ZS3: 5 | ZT3: 6 | ZU3: 7 | ZV3: 8 | ZW3: 9 | ZX3: 10 | ZY3: 11 | ZZ3: 12 | AAA3: 13 | AAB3: 14 | AAC3: 15 | AAD3: 16 | AAE3: 17 | AAF3: 18 | AAG3: 19 | AAH3: 5 | AAI3: 6 | AAJ3: 7 | AAK3: 8 | AAL3: 9 | AAM3: 10 | AAN3: 11 | AAO3: 12 | AAP3: 13 | AAQ3: 14 | AAR3: 15 | AAS3: 16 | AAT3: 17 | AAU3: 18 | AAV3: 19 | AAW3: 5 | AAX3: 6 | AAY3: 7 | AAZ3: 8 | ABA3: 9 | ABB3: 10 | ABC3: 11 | ABD3: 12 | ABE3: 13 | ABF3: 14 | ABG3: 15 | ABH3: 16 | ABI3: 17 | ABJ3: 18 | ABK3: 19 | ABL3: 5 | ABM3: 6 | ABN3: 7 | ABO3: 8 | ABP3: 9 | ABQ3: 10 | ABR3: 11 | ABS3: 12 | ABT3: 13 | ABU3: 14 | ABV3: 15 | ABW3: 16 | ABX3: 17 | ABY3: 18 | ABZ3: 19 | ACA3: 5 | ACB3: 6 | ACC3: 7 | ACD3: 8 | ACE3: 9 | ACF3: 10 | ACG3: 11 | ACH3: 12 | ACI3: 13 | ACJ3: 14 | ACK3: 15 | ACL3: 16 | ACM3: 17 | ACN3: 18 | ACO3: 19 | ACP3: 5 | ACQ3: 6 | ACR3: 7 | ACS3: 8 | ACT3: 9 | ACU3: 10 | ACV3: 11 | ACW3: 12 | ACX3: 13 | ACY3: 14 | ACZ3: 15 | ADA3: 16 | ADB3: 17 | ADC3: 18 | ADD3: 19 | ADE3: 5 | ADF3: 6 | ADG3: 7 | ADH3: 8 | ADI3: 9 | ADJ3: 10 | ADK3: 11 | ADL3: 12 | ADM3: 13 | ADN3: 14 | ADO3: 15 | ADP3: 16 | ADQ3: 17 | ADR3: 18 | ADS3: 19 | ADT3: 5 | ADU3: 6 | ADV3: 7 | ADW3: 8 | ADX3: 9 | ADY3: 10 | ADZ3: 11 | AEA3: 12 | AEB3: 13 | AEC3: 14 | AED3: 15 | AEE3: 16 | AEF3: 17 | AEG3: 18 | AEH3: 19 | AEI3: 5 | AEJ3: 6 | AEK3: 7 | AEL3: 8 | AEM3: 9 | AEN3: 10 | AEO3: 11 | AEP3: 12 | AEQ3: 13 | AER3: 14 | AES3: 15 | AET3: 16 | AEU3: 17 | AEV3: 18 | AEW3: 19 | AEX3: 5 | AEY3: 6 | AEZ3: 7 | AFA3: 8 | AFB3: 9 | AFC3: 10 | AFD3: 11 | AFE3: 12 | AFF3: 13 | AFG3: 14 | AFH3: 15 | AFI3: 16 | AFJ3: 17 | AFK3: 18 | AFL3: 19 | AFM3: 5 | AFN3: 6 | AFO3: 7 | AFP3: 8 | AFQ3: 9 | AFR3: 10 | AFS3: 11 | AFT3: 12 | AFU3: 13 | AFV3: 14 | AFW3: 15 | AFX3: 16 | AFY3: 17 | AFZ3: 18 | AGA3: 19 | AGB3: 5 | AGC3: 6 | AGD3: 7 | AGE3: 8 | AGF3: 9 | AGG3: 10 | AGH3: 11 | AGI3: 12 | AGJ3: 13 | AGK3: 14 | AGL3: 15 | AGM3: 16 | AGN3: 17 | AGO3: 18 | AGP3: 19 | AGQ3: 5 | AGR3: 6 | AGS3: 7 | AGT3: 8 | AGU3: 9 | AGV3: 10 | AGW3: 11 | AGX3: 12 | AGY3: 13 | AGZ3: 14 | AHA3: 15 | AHB3: 16 | AHC3: 17 | AHD3: 18 | AHE3: 19 | AHF3: 5 | AHG3: 6 | AHH3: 7 | AHI3: 8 | AHJ3: 9 | AHK3: 10 | AHL3: 11 | AHM3: 12 | AHN3: 13 | AHO3: 14 | AHP3: 15 | AHQ3: 16 | AHR3: 17 | AHS3: 18 | AHT3: 19 | AHU3: 5 | AHV3: 6 | AHW3: 7 | AHX3: 8 | AHY3: 9 | AHZ3: 10 | AIA3: 11 | AIB3: 12 | AIC3: 13 | AID3: 14 | AIE3: 15 | AIF3: 16 | AIG3: 17 | AIH3: 18 | AII3: 19 | AIJ3: 5 | AIK3: 6 | AIL3: 7 | AIM3: 8 | AIN3: 9 | AIO3: 10 | AIP3: 11 | AIQ3: 12 | AIR3: 13 | AIS3: 14 | AIT3: 15 | AIU3: 16 | AIV3: 17 | AIW3: 18 | AIX3: 19 | AIY3: 5 | AIZ3: 6 | AJA3: 7 | AJB3: 8 | AJC3: 9 | AJD3: 10 | AJE3: 11 | AJF3: 12 | AJG3: 13 | AJH3: 14 | AJI3: 15 | AJJ3: 16 | AJK3: 17 | AJL3: 18 | AJM3: 19 | AJN3: 5 | AJO3: 6 | AJP3: 7 | AJQ3: 8 | AJR3: 9 | AJS3: 10 | AJT3: 11 | AJU3: 12 | AJV3: 13 | AJW3: 14 | AJX3: 15 | AJY3: 16 | AJZ3: 17 | AKA3: 18 | AKB3: 19 | AKC3: 5 | AKD3: 6 | AKE3: 7 | AKF3: 8 | AKG3: 9 | AKH3: 10 | AKI3: 11 | AKJ3: 12 | AKK3: 13 | AKL3: 14 | AKM3: 15 | AKN3: 16 | AKO3: 17 | AKP3: 18 | AKQ3: 19 | AKR3: 5 | AKS3: 6 | AKT3: 7 | AKU3: 8 | AKV3: 9 | AKW3: 10 | AKX3: 11 | AKY3: 12 | AKZ3: 13 | ALA3: 14 | ALB3: 15 | ALC3: 16 | ALD3: 17 | ALE3: 18 | ALF3: 19 | ALG3: 5 | ALH3: 6 | ALI3: 7 | ALJ3: 8 | ALK3: 9 | ALL3: 10 | ALM3: 11 | ALN3: 12 | ALO3: 13 | ALP3: 14 | ALQ3: 15 | ALR3: 16 | ALS3: 17 | ALT3: 18 | ALU3: 19 | ALV3: 5 | ALW3: 6 | ALX3: 7 | ALY3: 8 | ALZ3: 9 | AMA3: 10 | AMB3: 11 | AMC3: 12 | AMD3: 13 | AME3: 14 | AMF3: 15 | AMG3: 16 | AMH3: 17 | AMI3: 18 | AMJ3: 19 | AMK3: 5 | AML3: 6 | AMM3: 7 | AMN3: 8 | AMO3: 9 | AMP3: 10 | AMQ3: 11 | AMR3: 12 | AMS3: 13 | AMT3: 14 | AMU3: 15 | AMV3: 16 | AMW3: 17 | AMX3: 18 | AMY3: 19 | AMZ3: 5 | ANA3: 6 | ANB3: 7 | ANC3: 8 | AND3: 9 | ANE3: 10 | ANF3: 11 | ANG3: 12 | ANH3: 13 | ANI3: 14 | ANJ3: 15 | ANK3: 16 | ANL3: 17 | ANM3: 18 | ANN3: 19 | ANO3: 5 | ANP3: 6 | ANQ3: 7 | ANR3: 8 | ANS3: 9 | ANT3: 10 | ANU3: 11 | ANV3: 12 | ANW3: 13 | ANX3: 14 | ANY3: 15 | ANZ3: 16 | AOA3: 17 | AOB3: 18 | AOC3: 19 | AOD3: 5 | AOE3: 6 | AOF3: 7 | AOG3: 8 | AOH3: 9 | AOI3: 10 | AOJ3: 11 | AOK3: 12 | AOL3: 13 | AOM3: 14 | AON3: 15 | AOO3: 16 | AOP3: 17 | AOQ3: 18 | AOR3: 19 | AOS3: 5 | AOT3: 6 | AOU3: 7 | AOV3: 8 | AOW3: 9 | AOX3: 10 | AOY3: 11 | AOZ3: 12 | APA3: 13 | APB3: 14 | APC3: 15 | APD3: 16 | APE3: 17 | APF3: 18 | APG3: 19 | APH3: 9 | API3: 11 | APJ3: 13 | APK3: 15 | APL3: 5 | APM3: 6 | APN3: 7 | APO3: 8 | APP3: 9 | APQ3: 10 | APR3: 11 | APS3: 12 | APT3: 13 | APU3: 14 | APV3: 15 | APW3: 16 | APX3: 17 | APY3: 18 | APZ3: 19 | AQA3: 5 | AQB3: 6 | AQC3: 7 | AQD3: 8 | AQE3: 9 | AQF3: 10 | AQG3: 11 | AQH3: 12 | AQI3: 13 | AQJ3: 14 | AQK3: 15 | AQL3: 16 | AQM3: 17 | AQN3: 18 | AQO3: 19 | AQP3: 5 | AQQ3: 6 | AQR3: 7 | AQS3: 8 | AQT3: 9 | AQU3: 10 | AQV3: 11 | AQW3: 12 | AQX3: 13 | AQY3: 14 | AQZ3: 15 | ARA3: 16 | ARB3: 17 | ARC3: 18 | ARD3: 19 | ARE3: 5 | ARF3: 6 | ARG3: 7 | ARH3: 8 | ARI3: 9 | ARJ3: 10 | ARK3: 11 | ARL3: 12 | ARM3: 13 | ARN3: 14 | ARO3: 15 | ARP3: 16 | ARQ3: 17 | ARR3: 18 | ARS3: 19 | ART3: 5 | ARU3: 6 | ARV3: 7 | ARW3: 8 | ARX3: 9 | ARY3: 10 | ARZ3: 11 | ASA3: 12 | ASB3: 13 | ASC3: 14 | ASD3: 15 | ASE3: 16 | ASF3: 17 | ASG3: 18 | ASH3: 19 | ASI3: 5 | ASJ3: 6 | ASK3: 7 | ASL3: 8 | ASM3: 9 | ASN3: 10 | ASO3: 11 | ASP3: 12 | ASQ3: 13 | ASR3: 14 | ASS3: 15 | AST3: 16 | ASU3: 17 | ASV3: 18 | ASW3: 19 | ASX3: 5 | ASY3: 6 | ASZ3: 7 | ATA3: 8 | ATB3: 9 | ATC3: 10 | ATD3: 11 | ATE3: 12 | ATF3: 13 | ATG3: 14 | ATH3: 15 | ATI3: 16 | ATJ3: 17 | ATK3: 18 | ATL3: 19 | ATM3: 5 | ATN3: 6 | ATO3: 7 | ATP3: 8 | ATQ3: 9 | ATR3: 10 | ATS3: 11 | ATT3: 12 | ATU3: 13 | ATV3: 14 | ATW3: 15 | ATX3: 16 | ATY3: 17 | ATZ3: 18 | AUA3: 19 | AUB3: 5 | AUC3: 6 | AUD3: 7 | AUE3: 8 | AUF3: 9 | AUG3: 10 | AUH3: 11 | AUI3: 12 | AUJ3: 13 | AUK3: 14 | AUL3: 15 | AUM3: 16 | AUN3: 17 | AUO3: 18 | AUP3: 19 | AUQ3: 5 | AUR3: 6 | AUS3: 7 | AUT3: 8 | AUU3: 9 | AUV3: 10 | AUW3: 11 | AUX3: 12 | AUY3: 13 | AUZ3: 14 | AVA3: 15 | AVB3: 16 | AVC3: 17 | AVD3: 18 | AVE3: 19 | AVF3: 5 | AVG3: 6 | AVH3: 7 | AVI3: 8 | AVJ3: 9 | AVK3: 10 | AVL3: 11 | AVM3: 12 | AVN3: 13 | AVO3: 14 | AVP3: 15 | AVQ3: 16 | AVR3: 17 | AVS3: 18 | AVT3: 19 | AVU3: 5 | AVV3: 6 | AVW3: 7 | AVX3: 8 | AVY3: 9 | AVZ3: 10 | AWA3: 11 | AWB3: 12 | AWC3: 13 | AWD3: 14 | AWE3: 15 | AWF3: 16 | AWG3: 17 | AWH3: 18 | AWI3: 19 | AWJ3: 5 | AWK3: 6 | AWL3: 7 | AWM3: 8 | AWN3: 9 | AWO3: 10 | AWP3: 11 | AWQ3: 12 | AWR3: 13 | AWS3: 14 | AWT3: 15 | AWU3: 16 | AWV3: 17 | AWW3: 18 | AWX3: 19 | AWY3: 5 | AWZ3: 6 | AXA3: 7 | AXB3: 8 | AXC3: 9 | AXD3: 10 | AXE3: 11 | AXF3: 12 | AXG3: 13 | AXH3: 14 | AXI3: 15 | AXJ3: 16 | AXK3: 17 | AXL3: 18 | AXM3: 19 | AXN3: 5 | AXO3: 6 | AXP3: 7 | AXQ3: 8 | AXR3: 9 | AXS3: 10 | AXT3: 11 | AXU3: 12 | AXV3: 13 | AXW3: 14 | AXX3: 15 | AXY3: 16 | AXZ3: 17 | AYA3: 18 | AYB3: 5 | AYC3: 6 | AYD3: 7 | AYE3: 8 | AYF3: 9 | AYG3: 10 | AYH3: 11 | AYI3: 12 | AYJ3: 13 | AYK3: 14 | AYL3: 15 | AYM3: 16 | AYN3: 17 | AYO3: 18 | AYP3: 5 | AYQ3: 6 | AYR3: 7 | AYS3: 8 | AYT3: 9 | AYU3: 10 | AYV3: 11 | AYW3: 12 | AYX3: 13 | AYY3: 14 | AYZ3: 15 | AZA3: 16 | AZB3: 17 | AZC3: 18 | AZD3: 5 | AZE3: 6 | AZF3: 7 | AZG3: 8 | AZH3: 9 | AZI3: 10 | AZJ3: 11 | AZK3: 12 | AZL3: 13 | AZM3: 14 | AZN3: 15 | AZO3: 16 | AZP3: 17 | AZQ3: 18 | AZR3: 5 | AZS3: 6 | AZT3: 7 | AZU3: 8 | AZV3: 9 | AZW3: 10 | AZX3: 11 | AZY3: 12 | AZZ3: 13 | BAA3: 14 | BAB3: 15 | BAC3: 16 | BAD3: 17 | BAE3: 18 | BAF3: 5 | BAG3: 6 | BAH3: 7 | BAI3: 8 | BAJ3: 9 | BAK3: 10 | BAL3: 11 | BAM3: 12 | BAN3: 13 | BAO3: 14 | BAP3: 15 | BAQ3: 16 | BAR3: 17 | BAS3: 18 | BAT3: 5 | BAU3: 7 | BAV3: 9 | BAW3: 11 | BAX3: 13 | BAY3: 15 | BAZ3: 17 | BBA3: 5 | BBB3: 6 | BBC3: 7 | BBD3: 8 | BBE3: 9 | BBF3: 10 | BBG3: 11 | BBH3: 12 | BBI3: 13 | BBJ3: 14 | BBK3: 15 | BBL3: 16 | BBM3: 17 | BBN3: 18 | BBO3: 5 | BBP3: 6 | BBQ3: 7 | BBR3: 8 | BBS3: 9 | BBT3: 10 | BBU3: 11 | BBV3: 12 | BBW3: 13 | BBX3: 14 | BBY3: 15 | BBZ3: 16 | BCA3: 17 | BCB3: 18 | BCC3: 5 | BCD3: 6 | BCE3: 7 | BCF3: 8 | BCG3: 9 | BCH3: 10 | BCI3: 11 | BCJ3: 12 | BCK3: 13 | BCL3: 14 | BCM3: 15 | BCN3: 16 | BCO3: 17 | BCP3: 18 | BCQ3: 5 | BCR3: 6 | BCS3: 7 | BCT3: 8 | BCU3: 9 | BCV3: 10 | BCW3: 11 | BCX3: 12 | BCY3: 13 | BCZ3: 14 | BDA3: 15 | BDB3: 16 | BDC3: 17 | BDD3: 18 | BDE3: 5 | BDF3: 6 | BDG3: 7 | BDH3: 8 | BDI3: 9 | BDJ3: 10 | BDK3: 11 | BDL3: 12 | BDM3: 13 | BDN3: 14 | BDO3: 15 | BDP3: 16 | BDQ3: 17 | BDR3: 18 | BDS3: 5 | BDT3: 6 | BDU3: 7 | BDV3: 8 | BDW3: 9 | BDX3: 10 | BDY3: 11 | BDZ3: 12 | BEA3: 13 | BEB3: 14 | BEC3: 15 | BED3: 16 | BEE3: 17 | BEF3: 18 | BEG3: 5 | BEH3: 6 | BEI3: 7 | BEJ3: 8 | BEK3: 9 | BEL3: 10 | BEM3: 11 | BEN3: 12 | BEO3: 13 | BEP3: 14 | BEQ3: 15 | BER3: 16 | BES3: 17 | BET3: 18 | BEU3: 5 | BEV3: 6 | BEW3: 7 | BEX3: 8 | BEY3: 9 | BEZ3: 10 | BFA3: 11 | BFB3: 12 | BFC3: 13 | BFD3: 14 | BFE3: 15 | BFF3: 16 | BFG3: 17 | BFH3: 18 | BFI3: 5 | BFJ3: 6 | BFK3: 7 | BFL3: 8 | BFM3: 9 | BFN3: 10 | BFO3: 11 | BFP3: 12 | BFQ3: 13 | BFR3: 14 | BFS3: 15 | BFT3: 16 | BFU3: 17 | BFV3: 18 | BFW3: 5 | BFX3: 6 | BFY3: 7 | BFZ3: 8 | BGA3: 9 | BGB3: 10 | BGC3: 11 | BGD3: 12 | BGE3: 13 | BGF3: 14 | BGG3: 15 | BGH3: 16 | BGI3: 17 | BGJ3: 18 | BGK3: 5 | BGL3: 6 | BGM3: 7 | BGN3: 8 | BGO3: 9 | BGP3: 10 | BGQ3: 11 | BGR3: 12 | BGS3: 13 | BGT3: 14 | BGU3: 15 | BGV3: 16 | BGW3: 17 | BGX3: 18 | BGY3: 5 | BGZ3: 7 | BHA3: 9 | BHB3: 11 | BHC3: 13 | BHD3: 15 | BHE3: 17 | BHF3: 5 | BHG3: 6 | BHH3: 7 | BHI3: 8 | BHJ3: 9 | BHK3: 10 | BHL3: 11 | BHM3: 12 | BHN3: 5 | BHO3: 6 | BHP3: 7 | BHQ3: 8 | BHR3: 9 | BHS3: 10 | BHT3: 11 | BHU3: 12 | BHV3: 5 | BHW3: 6 | BHX3: 7 | BHY3: 8 | BHZ3: 9 | BIA3: 10 | BIB3: 11 | BIC3: 12 | BID3: 5 | BIE3: 6 | BIF3: 7 | BIG3: 8 | BIH3: 9 | BII3: 10 | BIJ3: 11 | BIK3: 12 | BIL3: 5 | BIM3: 6 | BIN3: 7 | BIO3: 8 | BIP3: 9 | BIQ3: 10 | BIR3: 11 | BIS3: 12 | BIT3: 5 | BIU3: 6 | BIV3: 7 | BIW3: 8 | BIX3: 9 | BIY3: 10 | BIZ3: 11 | BJA3: 12 | BJB3: 5 | BJC3: 6 | BJD3: 7 | BJE3: 8 | BJF3: 9 | BJG3: 10 | BJH3: 11 | BJI3: 12 | BJJ3: 5 | BJK3: 6 | BJL3: 7 | BJM3: 8 | BJN3: 9 | BJO3: 10 | BJP3: 11 | BJQ3: 12 | BJR3: 5 | BJS3: 6 | BJT3: 7 | BJU3: 8 | BJV3: 9 | BJW3: 10 | BJX3: 11 | BJY3: 12 | BJZ3: 5 | BKA3: 6 | BKB3: 7 | BKC3: 8 | BKD3: 9 | BKE3: 10 | BKF3: 11 | BKG3: 12 | BKH3: 5 | BKI3: 6 | BKJ3: 7 | BKK3: 8 | BKL3: 9 | BKM3: 10 | BKN3: 11 | BKO3: 12 | BKP3: 5 | BKQ3: 6 | BKR3: 7 | BKS3: 8 | BKT3: 9 | BKU3: 10 | BKV3: 11 | BKW3: 12 | BKX3: 5 | BKY3: 6 | BKZ3: 7 | BLA3: 8 | BLB3: 9 | BLC3: 10 | BLD3: 11 | BLE3: 12 | BLF3: 5 | BLG3: 6 | BLH3: 7 | BLI3: 8 | BLJ3: 9 | BLK3: 10 | BLL3: 11 | BLM3: 12 | BLN3: 13 | BLO3: 14 | BLP3: 15 | BLQ3: 16 | BLR3: 17 | BLS3: 18 | BLT3: 19 | BLU3: 5 | BLV3: 6 | BLW3: 7 | BLX3: 8 | BLY3: 9 | BLZ3: 10 | BMA3: 11 | BMB3: 12 | BMC3: 13 | BMD3: 14 | BME3: 15 | BMF3: 16 | BMG3: 17 | BMH3: 18 | BMI3: 19 | BMJ3: 5 | BMK3: 6 | BML3: 7 | BMM3: 8 | BMN3: 9 | BMO3: 10 | BMP3: 11 | BMQ3: 12 | BMR3: 13 | BMS3: 14 | BMT3: 15 | BMU3: 16 | BMV3: 17 | BMW3: 18 | BMX3: 19 | BMY3: 5 | BMZ3: 6 | BNA3: 7 | BNB3: 8 | BNC3: 9 | BND3: 10 | BNE3: 11 | BNF3: 12 | BNG3: 13 | BNH3: 14 | BNI3: 15 | BNJ3: 16 | BNK3: 17 | BNL3: 18 | BNM3: 19 | BNN3: 5 | BNO3: 6 | BNP3: 7 | BNQ3: 8 | BNR3: 9 | BNS3: 10 | BNT3: 11 | BNU3: 12 | BNV3: 13 | BNW3: 14 | BNX3: 15 | BNY3: 16 | BNZ3: 17 | BOA3: 18 | BOB3: 19 | BOC3: 5 | BOD3: 6 | BOE3: 7 | BOF3: 8 | BOG3: 9 | BOH3: 10 | BOI3: 11 | BOJ3: 12 | BOK3: 13 | BOL3: 14 | BOM3: 15 | BON3: 16 | BOO3: 17 | BOP3: 18 | BOQ3: 19 | BOR3: 5 | BOS3: 6 | BOT3: 7 | BOU3: 8 | BOV3: 9 | BOW3: 10 | BOX3: 11 | BOY3: 12 | BOZ3: 13 | BPA3: 14 | BPB3: 15 | BPC3: 16 | BPD3: 17 | BPE3: 18 | BPF3: 19 | BPG3: 5 | BPH3: 6 | BPI3: 7 | BPJ3: 8 | BPK3: 9 | BPL3: 10 | BPM3: 11 | BPN3: 12 | BPO3: 13 | BPP3: 14 | BPQ3: 15 | BPR3: 16 | BPS3: 17 | BPT3: 18 | BPU3: 19 | BPV3: 5 | BPW3: 6 | BPX3: 7 | BPY3: 8 | BPZ3: 9 | BQA3: 10 | BQB3: 11 | BQC3: 12 | BQD3: 13 | BQE3: 14 | BQF3: 15 | BQG3: 16 | BQH3: 17 | BQI3: 18 | BQJ3: 19 | BQK3: 5 | BQL3: 6 | BQM3: 7 | BQN3: 8 | BQO3: 9 | BQP3: 10 | BQQ3: 11 | BQR3: 12 | BQS3: 13 | BQT3: 14 | BQU3: 15 | BQV3: 16 | BQW3: 17 | BQX3: 18 | BQY3: 19 | BQZ3: 5 | BRA3: 6 | BRB3: 7 | BRC3: 8 | BRD3: 9 | BRE3: 10 | BRF3: 11 | BRG3: 12 | BRH3: 13 | BRI3: 14 | BRJ3: 15 | BRK3: 16 | BRL3: 17 | BRM3: 18 | BRN3: 19 | BRO3: 5 | BRP3: 6 | BRQ3: 7 | BRR3: 8 | BRS3: 9 | BRT3: 10 | BRU3: 11 | BRV3: 12 | BRW3: 13 | BRX3: 14 | BRY3: 15 | BRZ3: 16 | BSA3: 17 | BSB3: 18 | BSC3: 19 | BSD3: 5 | BSE3: 6 | BSF3: 7 | BSG3: 8 | BSH3: 9 | BSI3: 10 | BSJ3: 11 | BSK3: 12 | BSL3: 13 | BSM3: 14 | BSN3: 15 | BSO3: 16 | BSP3: 17 | BSQ3: 18 | BSR3: 19 | BSS3: 5 | BST3: 6 | BSU3: 7 | BSV3: 8 | BSW3: 9 | BSX3: 10 | BSY3: 11 | BSZ3: 12 | BTA3: 13 | BTB3: 14 | BTC3: 15 | BTD3: 16 | BTE3: 17 | BTF3: 18 | BTG3: 19 | BTH3: 5 | BTI3: 6 | BTJ3: 7 | BTK3: 8 | BTL3: 9 | BTM3: 10 | BTN3: 11 | BTO3: 12 | BTP3: 13 | BTQ3: 14 | BTR3: 15 | BTS3: 16 | BTT3: 17 | BTU3: 18 | BTV3: 19 | BTW3: 5 | BTX3: 6 | BTY3: 7 | BTZ3: 8 | BUA3: 9 | BUB3: 10 | BUC3: 11 | BUD3: 12 | BUE3: 13 | BUF3: 14 | BUG3: 15 | BUH3: 16 | BUI3: 17 | BUJ3: 18 | BUK3: 19 | BUL3: 5 | BUM3: 6 | BUN3: 7 | BUO3: 8 | BUP3: 9 | BUQ3: 10 | BUR3: 11 | BUS3: 12 | BUT3: 13 | BUU3: 14 | BUV3: 15 | BUW3: 16 | BUX3: 17 | BUY3: 18 | BUZ3: 19 | BVA3: 5 | BVB3: 6 | BVC3: 7 | BVD3: 8 | BVE3: 9 | BVF3: 10 | BVG3: 11 | BVH3: 12 | BVI3: 13 | BVJ3: 14 | BVK3: 15 | BVL3: 16 | BVM3: 17 | BVN3: 18 | BVO3: 19 | BVP3: 5 | BVQ3: 6 | BVR3: 7 | BVS3: 8 | BVT3: 9 | BVU3: 10 | BVV3: 11 | BVW3: 12 | BVX3: 13 | BVY3: 14 | BVZ3: 15 | BWA3: 16 | BWB3: 17 | BWC3: 18 | BWD3: 19 | BWE3: 5 | BWF3: 6 | BWG3: 7 | BWH3: 8 | BWI3: 9 | BWJ3: 10 | BWK3: 11 | BWL3: 12 | BWM3: 13 | BWN3: 14 | BWO3: 15 | BWP3: 16 | BWQ3: 17 | BWR3: 18 | BWS3: 19 | BWT3: 5 | BWU3: 6 | BWV3: 7 | BWW3: 8 | BWX3: 9 | BWY3: 10 | BWZ3: 11 | BXA3: 12 | BXB3: 13 | BXC3: 14 | BXD3: 15 | BXE3: 16 | BXF3: 17 | BXG3: 18 | BXH3: 19 | BXI3: 5 | BXJ3: 6 | BXK3: 7 | BXL3: 8 | BXM3: 9 | BXN3: 10 | BXO3: 11 | BXP3: 12 | BXQ3: 13 | BXR3: 14 | BXS3: 15 | BXT3: 16 | BXU3: 17 | BXV3: 18 | BXW3: 19 | BXX3: 5 | BXY3: 6 | BXZ3: 7 | BYA3: 8 | BYB3: 9 | BYC3: 10 | BYD3: 11 | BYE3: 12 | BYF3: 13 | BYG3: 14 | BYH3: 15 | BYI3: 16 | BYJ3: 17 | BYK3: 18 | BYL3: 19 | BYM3: 5 | BYN3: 6 | BYO3: 7 | BYP3: 8 | BYQ3: 9 | BYR3: 10 | BYS3: 11 | BYT3: 12 | BYU3: 13 | BYV3: 14 | BYW3: 15 | BYX3: 16 | BYY3: 17 | BYZ3: 18 | BZA3: 19 | BZB3: 5 | BZC3: 6 | BZD3: 7 | BZE3: 8 | BZF3: 9 | BZG3: 10 | BZH3: 11 | BZI3: 12 | BZJ3: 13 | BZK3: 14 | BZL3: 15 | BZM3: 16 | BZN3: 17 | BZO3: 5 | BZP3: 6 | BZQ3: 7 | BZR3: 8 | BZS3: 9 | BZT3: 10 | BZU3: 11 | BZV3: 12 | BZW3: 13 | BZX3: 14 | BZY3: 15 | BZZ3: 16 | CAA3: 17 | CAB3: 5 | CAC3: 6 | CAD3: 7 | CAE3: 8 | CAF3: 9 | CAG3: 10 | CAH3: 11 | CAI3: 12 | CAJ3: 13 | CAK3: 14 | CAL3: 15 | CAM3: 16 | CAN3: 17 | CAO3: 5 | CAP3: 6 | CAQ3: 7 | CAR3: 8 | CAS3: 9 | CAT3: 10 | CAU3: 11 | CAV3: 12 | CAW3: 13 | CAX3: 14 | CAY3: 15 | CAZ3: 16 | CBA3: 17 | CBB3: 5 | CBC3: 6 | CBD3: 7 | CBE3: 8 | CBF3: 9 | CBG3: 10 | CBH3: 11 | CBI3: 12 | CBJ3: 13 | CBK3: 14 | CBL3: 15 | CBM3: 16 | CBN3: 17 | CBO3: 5 | CBP3: 6 | CBQ3: 7 | CBR3: 8 | CBS3: 9 | CBT3: 10 | CBU3: 11 | CBV3: 12 | CBW3: 13 | CBX3: 14 | CBY3: 15 | CBZ3: 16 | CCA3: 17 | CCB3: 5 | CCC3: 6 | CCD3: 7 | CCE3: 8 | CCF3: 9 | CCG3: 10 | CCH3: 11 | CCI3: 12 | CCJ3: 13 | CCK3: 14 | CCL3: 15 | CCM3: 16 | CCN3: 17 | CCO3: 5 | CCP3: 6 | CCQ3: 7 | CCR3: 8 | CCS3: 9 | CCT3: 10 | CCU3: 11 | CCV3: 12 | CCW3: 13 | CCX3: 14 | CCY3: 15 | CCZ3: 16 | CDA3: 17 | CDB3: 5 | CDC3: 6 | CDD3: 7 | CDE3: 8 | CDF3: 9 | CDG3: 10 | CDH3: 11 | CDI3: 12 | CDJ3: 13 | CDK3: 14 | CDL3: 15 | CDM3: 16 | CDN3: 17 | CDO3: 5 | CDP3: 6 | CDQ3: 7 | CDR3: 8 | CDS3: 9 | CDT3: 10 | CDU3: 11 | CDV3: 12 | CDW3: 13 | CDX3: 14 | CDY3: 15 | CDZ3: 16 | CEA3: 17 | CEB3: 5 | CEC3: 6 | CED3: 7 | CEE3: 8 | CEF3: 9 | CEG3: 10 | CEH3: 11 | CEI3: 12 | CEJ3: 13 | CEK3: 14 | CEL3: 15 | CEM3: 16 | CEN3: 17 | CEO3: 5 | CEP3: 6 | CEQ3: 7 | CER3: 8 | CES3: 9 | CET3: 10 | CEU3: 11 | CEV3: 12 | CEW3: 13 | CEX3: 14 | CEY3: 15 | CEZ3: 16 | CFA3: 17 | CFB3: 5 | CFC3: 6 | CFD3: 7 | CFE3: 8 | CFF3: 9 | CFG3: 10 | CFH3: 11 | CFI3: 12 | CFJ3: 13 | CFK3: 14 | CFL3: 15 | CFM3: 16 | CFN3: 17 | CFO3: 5 | CFP3: 6 | CFQ3: 7 | CFR3: 8 | CFS3: 9 | CFT3: 10 | CFU3: 5 | CFV3: 6 | CFW3: 7 | CFX3: 8 | CFY3: 9 | CFZ3: 10 | CGA3: 5 | CGB3: 6 | CGC3: 7 | CGD3: 8 | CGE3: 9 | CGF3: 10 | CGG3: 5 | CGH3: 6 | CGI3: 7 | CGJ3: 8 | CGK3: 9 | CGL3: 10 | CGM3: 5 | CGN3: 6 | CGO3: 7 | CGP3: 8 | CGQ3: 9 | CGR3: 10 | CGS3: 5 | CGT3: 6 | CGU3: 7 | CGV3: 8 | CGW3: 9 | CGX3: 10 | CGY3: 5 | CGZ3: 6 | CHA3: 7 | CHB3: 8 | CHC3: 9 | CHD3: 10 | CHE3: 5 | CHF3: 6 | CHG3: 7 | CHH3: 8 | CHI3: 9 | CHJ3: 10 | CHK3: 5 | CHL3: 6 | CHM3: 7 | CHN3: 8 | CHO3: 9 | CHP3: 10 | CHQ3: 5 | CHR3: 6 | CHS3: 7 | CHT3: 8 | CHU3: 9 | CHV3: 10 | CHW3: 5 | CHX3: 6 | CHY3: 7 | CHZ3: 8 | CIA3: 9 | CIB3: 10 | CIC3: 5 | CID3: 6 | CIE3: 7 | CIF3: 8 | CIG3: 9 | CIH3: 10 | CII3: 5 | CIJ3: 6 | CIK3: 7 | CIL3: 8 | CIM3: 9 | CIN3: 10 | CIO3: 5 | CIP3: 6 | CIQ3: 7 | CIR3: 8 | CIS3: 9 | CIT3: 10 | CIU3: 5 | CIV3: 6 | CIW3: 7 | CIX3: 8 | CIY3: 9 | CIZ3: 10 | CJA3: 5 | CJB3: 6 | CJC3: 7 | CJD3: 8 | CJE3: 9 | CJF3: 10 | CJG3: 5 | CJH3: 6 | CJI3: 7 | CJJ3: 8 | CJK3: 9 | CJL3: 10 | CJM3: 5 | CJN3: 6 | CJO3: 7 | CJP3: 8 | CJQ3: 9 | CJR3: 10 | CJS3: 5 | CJT3: 6 | CJU3: 7 | CJV3: 8 | CJW3: 9 | CJX3: 10 | CJY3: 5 | CJZ3: 6 | CKA3: 7 | CKB3: 8 | CKC3: 9 | CKD3: 10 | CKE3: 5 | CKF3: 6 | CKG3: 7 | CKH3: 8 | CKI3: 9 | CKJ3: 10 | CKK3: 5 | CKL3: 6 | CKM3: 7 | CKN3: 8 | CKO3: 9 | CKP3: 10 | CKQ3: 5 | CKR3: 6 | CKS3: 7 | CKT3: 8 | CKU3: 9 | CKV3: 10 | CKW3: 5 | CKX3: 6 | CKY3: 7 | CKZ3: 8 | CLA3: 9 | CLB3: 10 | CLC3: 5 | CLD3: 6 | CLE3: 7 | CLF3: 8 | CLG3: 9 | CLH3: 10 | CLI3: 5 | CLJ3: 6 | CLK3: 7 | CLL3: 8 | CLM3: 9 | CLN3: 10 | CLO3: 5 | CLP3: 6 | CLQ3: 7 | CLR3: 8 | CLS3: 9 | CLT3: 10 | CLU3: 5 | CLV3: 6 | CLW3: 7 | CLX3: 8 | CLY3: 9 | CLZ3: 10 | CMA3: 5 | CMB3: 6 | CMC3: 7 | CMD3: 8 | CME3: 9 | CMF3: 10 | CMG3: 5 | CMH3: 6 | CMI3: 7 | CMJ3: 8 | CMK3: 9 | CML3: 10 | CMM3: 5 | CMN3: 6 | CMO3: 7 | CMP3: 8 | CMQ3: 9 | CMR3: 10 | CMS3: 5 | CMT3: 6 | CMU3: 7 | CMV3: 8 | CMW3: 9 | CMX3: 10 | CMY3: 5 | CMZ3: 6 | CNA3: 7 | CNB3: 8 | CNC3: 9 | CND3: 10 | CNE3: 5 | CNF3: 6 | CNG3: 7 | CNH3: 8 | CNI3: 9 | CNJ3: 10 | CNK3: 5 | CNL3: 6 | CNM3: 7 | CNN3: 8 | CNO3: 9 | CNP3: 10 | CNQ3: 5 | CNR3: 6 | CNS3: 7 | CNT3: 8 | CNU3: 9 | CNV3: 10 | CNW3: 5 | CNX3: 6 | CNY3: 7 | CNZ3: 8 | COA3: 9 | COB3: 10 | COC3: 5 | COD3: 6 | COE3: 7 | COF3: 8 | COG3: 9 | COH3: 10 | COI3: 5 | COJ3: 6 | COK3: 7 | COL3: 8 | COM3: 9 | CON3: 10 | COO3: 5 | COP3: 6 | COQ3: 7 | COR3: 8 | COS3: 9 | COT3: 10 | COU3: 5 | COV3: 6 | COW3: 7 | COX3: 8 | COY3: 9 | COZ3: 10 | CPA3: 5 | CPB3: 6 | CPC3: 7 | CPD3: 8 | CPE3: 9 | CPF3: 10 | CPG3: 5 | CPH3: 6 | CPI3: 7 | CPJ3: 8 | CPK3: 9 | CPL3: 10 | CPM3: 5 | CPN3: 6 | CPO3: 7 | CPP3: 8 | CPQ3: 9 | CPR3: 10 | CPS3: 5 | CPT3: 6 | CPU3: 7 | CPV3: 8 | CPW3: 9 | CPX3: 10 | CPY3: 11 | CPZ3: 12 | CQA3: 13 | CQB3: 14 | CQC3: 15 | CQD3: 16 | CQE3: 17 | CQF3: 18 | CQG3: 19 | CQH3: 5 | CQI3: 6 | CQJ3: 7 | CQK3: 8 | CQL3: 9 | CQM3: 10 | CQN3: 11 | CQO3: 12 | CQP3: 13 | CQQ3: 14 | CQR3: 15 | CQS3: 16 | CQT3: 17 | CQU3: 18 | CQV3: 19 | CQW3: 5 | CQX3: 6 | CQY3: 7 | CQZ3: 8 | CRA3: 9 | CRB3: 10 | CRC3: 11 | CRD3: 12 | CRE3: 13 | CRF3: 14 | CRG3: 15 | CRH3: 16 | CRI3: 17 | CRJ3: 18 | CRK3: 19 | CRL3: 5 | CRM3: 6 | CRN3: 7 | CRO3: 8 | CRP3: 9 | CRQ3: 10 | CRR3: 11 | CRS3: 12 | CRT3: 13 | CRU3: 14 | CRV3: 15 | CRW3: 16 | CRX3: 17 | CRY3: 18 | CRZ3: 19 | CSA3: 5 | CSB3: 6 | CSC3: 7 | CSD3: 8 | CSE3: 9 | CSF3: 10 | CSG3: 11 | CSH3: 12 | CSI3: 13 | CSJ3: 14 | CSK3: 15 | CSL3: 16 | CSM3: 17 | CSN3: 18 | CSO3: 19 | CSP3: 5 | CSQ3: 6 | CSR3: 7 | CSS3: 8 | CST3: 9 | CSU3: 10 | CSV3: 11 | CSW3: 12 | CSX3: 13 | CSY3: 14 | CSZ3: 15 | CTA3: 16 | CTB3: 17 | CTC3: 18 | CTD3: 19 | CTE3: 5 | CTF3: 6 | CTG3: 7 | CTH3: 8 | CTI3: 9 | CTJ3: 10 | CTK3: 11 | CTL3: 12 | CTM3: 13 | CTN3: 14 | CTO3: 15 | CTP3: 16 | CTQ3: 17 | CTR3: 18 | CTS3: 19 | CTT3: 5 | CTU3: 6 | CTV3: 7 | CTW3: 8 | CTX3: 9 | CTY3: 10 | CTZ3: 11 | CUA3: 12 | CUB3: 13 | CUC3: 14 | CUD3: 15 | CUE3: 16 | CUF3: 17 | CUG3: 18 | CUH3: 19 | CUI3: 5 | CUJ3: 6 | CUK3: 7 | CUL3: 8 | CUM3: 9 | CUN3: 10 | CUO3: 11 | CUP3: 12 | CUQ3: 13 | CUR3: 14 | CUS3: 15 | CUT3: 16 | CUU3: 17 | CUV3: 18 | CUW3: 19 | CUX3: 5 | CUY3: 6 | CUZ3: 7 | CVA3: 8 | CVB3: 9 | CVC3: 10 | CVD3: 11 | CVE3: 12 | CVF3: 13 | CVG3: 14 | CVH3: 15 | CVI3: 16 | CVJ3: 17 | CVK3: 18 | CVL3: 19 | CVM3: 5 | CVN3: 6 | CVO3: 7 | CVP3: 8 | CVQ3: 9 | CVR3: 10 | CVS3: 11 | CVT3: 12 | CVU3: 13 | CVV3: 14 | CVW3: 15 | CVX3: 16 | CVY3: 17 | CVZ3: 18 | CWA3: 19 | CWB3: 5 | CWC3: 6 | CWD3: 7 | CWE3: 8 | CWF3: 9 | CWG3: 10 | CWH3: 11 | CWI3: 12 | CWJ3: 13 | CWK3: 14 | CWL3: 15 | CWM3: 16 | CWN3: 17 | CWO3: 18 | CWP3: 19 | CWQ3: 5 | CWR3: 6 | CWS3: 7 | CWT3: 8 | CWU3: 9 | CWV3: 10 | CWW3: 11 | CWX3: 12 | CWY3: 13 | CWZ3: 14 | CXA3: 15 | CXB3: 16 | CXC3: 17 | CXD3: 18 | CXE3: 19 | CXF3: 5 | CXG3: 6 | CXH3: 7 | CXI3: 8 | CXJ3: 9 | CXK3: 10 | CXL3: 11 | CXM3: 12 | CXN3: 13 | CXO3: 14 | CXP3: 15 | CXQ3: 16 | CXR3: 17 | CXS3: 18 | CXT3: 19 | CXU3: 5 | CXV3: 6 | CXW3: 7 | CXX3: 8 | CXY3: 9 | CXZ3: 10 | CYA3: 11 | CYB3: 12 | CYC3: 13 | CYD3: 14 | CYE3: 15 | CYF3: 16 | CYG3: 17 | CYH3: 18 | CYI3: 19 | CYJ3: 5 | CYK3: 6 | CYL3: 7 | CYM3: 8 | CYN3: 9 | CYO3: 10 | CYP3: 11 | CYQ3: 12 | CYR3: 13 | CYS3: 14 | CYT3: 15 | CYU3: 16 | CYV3: 17 | CYW3: 18 | CYX3: 19 | CYY3: 5 | CYZ3: 6 | CZA3: 7 | CZB3: 8 | CZC3: 9 | CZD3: 10 | CZE3: 11 | CZF3: 12 | CZG3: 13 | CZH3: 14 | CZI3: 15 | CZJ3: 16 | CZK3: 17 | CZL3: 18 | CZM3: 19 | CZN3: 5 | CZO3: 6 | CZP3: 7 | CZQ3: 8 | CZR3: 9 | CZS3: 10 | CZT3: 11 | CZU3: 12 | CZV3: 13 | CZW3: 14 | CZX3: 15 | CZY3: 16 | CZZ3: 17 | DAA3: 18 | DAB3: 19 | DAC3: 5 | DAD3: 6 | DAE3: 7 | DAF3: 8 | DAG3: 9 | DAH3: 10 | DAI3: 11 | DAJ3: 12 | DAK3: 13 | DAL3: 14 | DAM3: 15 | DAN3: 16 | DAO3: 17 | DAP3: 18 | DAQ3: 19 | DAR3: 5 | DAS3: 6 | DAT3: 7 | DAU3: 8 | DAV3: 9 | DAW3: 10 | DAX3: 11 | DAY3: 12 | DAZ3: 13 | DBA3: 14 | DBB3: 15 | DBC3: 16 | DBD3: 17 | DBE3: 18 | DBF3: 19 | DBG3: 5 | DBH3: 6 | DBI3: 7 | DBJ3: 8 | DBK3: 9 | DBL3: 10 | DBM3: 11 | DBN3: 12 | DBO3: 13 | DBP3: 14 | DBQ3: 15 | DBR3: 16 | DBS3: 17 | DBT3: 18 | DBU3: 19 | DBV3: 5 | DBW3: 6 | DBX3: 7 | DBY3: 8 | DBZ3: 9 | DCA3: 10 | DCB3: 11 | DCC3: 12 | DCD3: 13 | DCE3: 14 | DCF3: 15 | DCG3: 16 | DCH3: 17 | DCI3: 18 | DCJ3: 19 | DCK3: 5 | DCL3: 6 | DCM3: 7 | DCN3: 8 | DCO3: 9 | DCP3: 10 | DCQ3: 11 | DCR3: 12 | DCS3: 13 | DCT3: 14 | DCU3: 15 | DCV3: 16 | DCW3: 17 | DCX3: 18 | DCY3: 19 | DCZ3: 5 | DDA3: 6 | DDB3: 7 | DDC3: 8 | DDD3: 9 | DDE3: 10 | DDF3: 11 | DDG3: 12 | DDH3: 13 | DDI3: 14 | DDJ3: 15 | DDK3: 16 | DDL3: 17 | DDM3: 18 | DDN3: 19 | DDO3: 5 | DDP3: 6 | DDQ3: 7 | DDR3: 8 | DDS3: 9 | DDT3: 10 | DDU3: 11 | DDV3: 12 | DDW3: 13 | DDX3: 14 | DDY3: 15 | DDZ3: 16 | DEA3: 17 | DEB3: 18 | DEC3: 19 | DED3: 5 | DEE3: 6 | DEF3: 7 | DEG3: 8 | DEH3: 9 | DEI3: 10 | DEJ3: 11 | DEK3: 12 | DEL3: 13 | DEM3: 14 | DEN3: 15 | DEO3: 16 | DEP3: 17 | DEQ3: 18 | DER3: 19 | DES3: 5 | DET3: 6 | DEU3: 7 | DEV3: 8 | DEW3: 9 | DEX3: 10 | DEY3: 11 | DEZ3: 12 | DFA3: 13 | DFB3: 14 | DFC3: 15 | DFD3: 16 | DFE3: 17 | DFF3: 18 | DFG3: 19 | DFH3: 5 | DFI3: 6 | DFJ3: 7 | DFK3: 8 | DFL3: 9 | DFM3: 10 | DFN3: 11 | DFO3: 12 | DFP3: 13 | DFQ3: 14 | DFR3: 15 | DFS3: 16 | DFT3: 17 | DFU3: 18 | DFV3: 19 | DFW3: 5 | DFX3: 6 | DFY3: 7 | DFZ3: 8 | DGA3: 9 | DGB3: 10 | DGC3: 11 | DGD3: 12 | DGE3: 13 | DGF3: 14 | DGG3: 15 | DGH3: 16 | DGI3: 17 | DGJ3: 18 | DGK3: 19 | DGL3: 5 | DGM3: 6 | DGN3: 7 | DGO3: 8 | DGP3: 9 | DGQ3: 10 | DGR3: 11 | DGS3: 12 | DGT3: 13 | DGU3: 14 | DGV3: 15 | DGW3: 16 | DGX3: 17 | DGY3: 18 | DGZ3: 19 | DHA3: 5 | DHB3: 6 | DHC3: 7 | DHD3: 8 | DHE3: 9 | DHF3: 10 | DHG3: 11 | DHH3: 12 | DHI3: 13 | DHJ3: 14 | DHK3: 15 | DHL3: 16 | DHM3: 17 | DHN3: 18 | DHO3: 19 | DHP3: 5 | DHQ3: 6 | DHR3: 7 | DHS3: 8 | DHT3: 9 | DHU3: 10 | DHV3: 11 | DHW3: 12 | DHX3: 13 | DHY3: 14 | DHZ3: 15 | DIA3: 16 | DIB3: 17 | DIC3: 18 | DID3: 19 | DIE3: 5 | DIF3: 6 | DIG3: 7 | DIH3: 8 | DII3: 9 | DIJ3: 10 | DIK3: 11 | DIL3: 12 | DIM3: 13 | DIN3: 14 | DIO3: 15 | DIP3: 16 | DIQ3: 17 | DIR3: 18 | DIS3: 19 | DIT3: 5 | DIU3: 6 | DIV3: 7 | DIW3: 8 | DIX3: 9 | DIY3: 10 | DIZ3: 11 | DJA3: 12 | DJB3: 13 | DJC3: 14 | DJD3: 15 | DJE3: 16 | DJF3: 17 | DJG3: 18 | DJH3: 19 | DJI3: 5 | DJJ3: 6 | DJK3: 7 | DJL3: 8 | DJM3: 9 | DJN3: 10 | DJO3: 11 | DJP3: 12 | DJQ3: 13 | DJR3: 14 | DJS3: 15 | DJT3: 16 | DJU3: 17 | DJV3: 18 | DJW3: 19 | DJX3: 5 | DJY3: 6 | DJZ3: 7 | DKA3: 8 | DKB3: 9 | DKC3: 10 | DKD3: 11 | DKE3: 12 | DKF3: 13 | DKG3: 14 | DKH3: 15 | DKI3: 16 | DKJ3: 17 | DKK3: 18 | DKL3: 19 | DKM3: 5 | DKN3: 6 | DKO3: 7 | DKP3: 8 | DKQ3: 9 | DKR3: 10 | DKS3: 11 | DKT3: 12 | DKU3: 13 | DKV3: 14 | DKW3: 15 | DKX3: 16 | DKY3: 17 | DKZ3: 18 | DLA3: 19 | DLB3: 5 | DLC3: 6 | DLD3: 7 | DLE3: 8 | DLF3: 9 | DLG3: 10 | DLH3: 11 | DLI3: 12 | DLJ3: 13 | DLK3: 14 | DLL3: 15 | DLM3: 16 | DLN3: 17 | DLO3: 18 | DLP3: 19 | DLQ3: 5 | DLR3: 6 | DLS3: 7 | DLT3: 8 | DLU3: 9 | DLV3: 10 | DLW3: 11 | DLX3: 12 | DLY3: 13 | DLZ3: 14 | DMA3: 15 | DMB3: 16 | DMC3: 17 | DMD3: 18 | DME3: 19 | DMF3: 5 | DMG3: 6 | DMH3: 7 | DMI3: 8 | DMJ3: 9 | DMK3: 10 | DML3: 11 | DMM3: 12 | DMN3: 13 | DMO3: 14 | DMP3: 15 | DMQ3: 16 | DMR3: 17 | DMS3: 18 | DMT3: 19 | DMU3: 5 | DMV3: 6 | DMW3: 7 | DMX3: 8 | DMY3: 9 | DMZ3: 10 | DNA3: 11 | DNB3: 12 | DNC3: 13 | DND3: 14 | DNE3: 15 | DNF3: 16 | DNG3: 17 | DNH3: 18 | DNI3: 19 | DNJ3: 5 | DNK3: 6 | DNL3: 7 | DNM3: 8 | DNN3: 9 | DNO3: 10 | DNP3: 11 | DNQ3: 12 | DNR3: 13 | DNS3: 14 | DNT3: 15 | DNU3: 16 | DNV3: 17 | DNW3: 18 | DNX3: 19 | DNY3: 5 | DNZ3: 6 | DOA3: 7 | DOB3: 8 | DOC3: 9 | DOD3: 10 | DOE3: 11 | DOF3: 12 | DOG3: 13 | DOH3: 14 | DOI3: 15 | DOJ3: 16 | DOK3: 17 | DOL3: 18 | DOM3: 19 | DON3: 5 | DOO3: 6 | DOP3: 7 | DOQ3: 8 | DOR3: 9 | DOS3: 10 | DOT3: 11 | DOU3: 12 | DOV3: 13 | DOW3: 14 | DOX3: 15 | DOY3: 16 | DOZ3: 17 | DPA3: 18 | DPB3: 19 | DPC3: 5 | DPD3: 6 | DPE3: 7 | DPF3: 8 | DPG3: 9 | DPH3: 10 | DPI3: 11 | DPJ3: 12 | DPK3: 13 | DPL3: 5 | DPM3: 6 | DPN3: 7 | DPO3: 8 | DPP3: 9 | DPQ3: 10 | DPR3: 11 | DPS3: 12 | DPT3: 13 | DPU3: 5 | DPV3: 6 | DPW3: 7 | DPX3: 8 | DPY3: 9 | DPZ3: 10 | DQA3: 11 | DQB3: 12 | DQC3: 13 | DQD3: 5 | DQE3: 6 | DQF3: 7 | DQG3: 8 | DQH3: 9 | DQI3: 10 | DQJ3: 11 | DQK3: 12 | DQL3: 13 | DQM3: 5 | DQN3: 6 | DQO3: 7 | DQP3: 8 | DQQ3: 9 | DQR3: 10 | DQS3: 11 | DQT3: 12 | DQU3: 13 | DQV3: 5 | DQW3: 6 | DQX3: 7 | DQY3: 8 | DQZ3: 9 | DRA3: 10 | DRB3: 11 | DRC3: 12 | DRD3: 13 | DRE3: 5 | DRF3: 6 | DRG3: 7 | DRH3: 8 | DRI3: 9 | DRJ3: 10 | DRK3: 11 | DRL3: 12 | DRM3: 13 | DRN3: 5 | DRO3: 6 | DRP3: 7 | DRQ3: 8 | DRR3: 9 | DRS3: 10 | DRT3: 11 | DRU3: 12 | DRV3: 13 | DRW3: 5 | DRX3: 6 | DRY3: 7 | DRZ3: 8 | DSA3: 9 | DSB3: 10 | DSC3: 11 | DSD3: 12 | DSE3: 13 | DSF3: 5 | DSG3: 6 | DSH3: 7 | DSI3: 8 | DSJ3: 9 | DSK3: 10 | DSL3: 11 | DSM3: 12 | DSN3: 13 | DSO3: 5 | DSP3: 6 | DSQ3: 7 | DSR3: 8 | DSS3: 9 | DST3: 10 | DSU3: 11 | DSV3: 12 | DSW3: 13 | DSX3: 5 | DSY3: 6 | DSZ3: 7 | DTA3: 8 | DTB3: 9 | DTC3: 10 | DTD3: 11 | DTE3: 12 | DTF3: 13 | DTG3: 5 | DTH3: 6 | DTI3: 7 | DTJ3: 8 | DTK3: 9 | DTL3: 10 | DTM3: 11 | DTN3: 12 | DTO3: 13 | DTP3: 5 | DTQ3: 6 | DTR3: 7 | DTS3: 8 | DTT3: 9 | DTU3: 10 | DTV3: 11 | DTW3: 12 | DTX3: 13 | DTY3: 5 | DTZ3: 6 | DUA3: 7 | DUB3: 8 | DUC3: 9 | DUD3: 10 | DUE3: 11 | DUF3: 12 | DUG3: 13 | DUH3: 5 | DUI3: 6 | DUJ3: 7 | DUK3: 8 | DUL3: 9 | DUM3: 10 | DUN3: 11 | DUO3: 12 | DUP3: 13 | DUQ3: 5 | DUR3: 6 | DUS3: 7 | DUT3: 8 | DUU3: 9 | DUV3: 10 | DUW3: 11 | DUX3: 12 | DUY3: 13 | DUZ3: 5 | DVA3: 6 | DVB3: 7 | DVC3: 8 | DVD3: 9 | DVE3: 10 | DVF3: 11 | DVG3: 12 | DVH3: 13 | DVI3: 5 | DVJ3: 6 | DVK3: 7 | DVL3: 8 | DVM3: 9 | DVN3: 10 | DVO3: 11 | DVP3: 12 | DVQ3: 13 | DVR3: 5 | DVS3: 6 | DVT3: 7 | DVU3: 8 | DVV3: 9 | DVW3: 10 | DVX3: 11 | DVY3: 12 | DVZ3: 13 | DWA3: 5 | DWB3: 6 | DWC3: 7 | DWD3: 8 | DWE3: 9 | DWF3: 10 | DWG3: 11 | DWH3: 12 | DWI3: 13 | DWJ3: 5 | DWK3: 6 | DWL3: 7 | DWM3: 8 | DWN3: 9 | DWO3: 10 | DWP3: 11 | DWQ3: 12 | DWR3: 13 | DWS3: 5 | DWT3: 6 | DWU3: 7 | DWV3: 8 | DWW3: 9 | DWX3: 10 | DWY3: 11 | DWZ3: 12 | DXA3: 13 | DXB3: 5 | DXC3: 6 | DXD3: 7 | DXE3: 8 | DXF3: 9 | DXG3: 10 | DXH3: 11 | DXI3: 12 | DXJ3: 13 | DXK3: 5 | DXL3: 6 | DXM3: 7 | DXN3: 8 | DXO3: 9 | DXP3: 10 | DXQ3: 11 | DXR3: 12 | DXS3: 13 | DXT3: 5 | DXU3: 6 | DXV3: 7 | DXW3: 8 | DXX3: 9 | DXY3: 10 | DXZ3: 11 | DYA3: 12 | DYB3: 13 | DYC3: 5 | DYD3: 6 | DYE3: 7 | DYF3: 8 | DYG3: 9 | DYH3: 10 | DYI3: 11 | DYJ3: 12 | DYK3: 13 | DYL3: 5 | DYM3: 6 | DYN3: 7 | DYO3: 8 | DYP3: 9 | DYQ3: 10 | DYR3: 11 | DYS3: 12 | DYT3: 13 | DYU3: 5 | DYV3: 6 | DYW3: 7 | DYX3: 8 | DYY3: 9 | DYZ3: 10 | DZA3: 11 | DZB3: 12 | DZC3: 13 | DZD3: 5 | DZE3: 6 | DZF3: 7 | DZG3: 8 | DZH3: 9 | DZI3: 10 | DZJ3: 11 | DZK3: 12 | DZL3: 13 | DZM3: 5 | DZN3: 6 | DZO3: 7 | DZP3: 8 | DZQ3: 9 | DZR3: 10 | DZS3: 11 | DZT3: 12 | DZU3: 13 | DZV3: 5 | DZW3: 6 | DZX3: 7 | DZY3: 8 | DZZ3: 9 | EAA3: 10 | EAB3: 11 | EAC3: 12 | EAD3: 13 | EAE3: 5 | EAF3: 6 | EAG3: 7 | EAH3: 8 | EAI3: 9 | EAJ3: 10 | EAK3: 11 | EAL3: 12 | EAM3: 13 | EAN3: 5 | EAO3: 6 | EAP3: 7 | EAQ3: 8 | EAR3: 9 | EAS3: 10 | EAT3: 11 | EAU3: 12 | EAV3: 13 | EAW3: 5 | EAX3: 6 | EAY3: 7 | EAZ3: 8 | EBA3: 9 | EBB3: 10 | EBC3: 11 | EBD3: 12 | EBE3: 13 | EBF3: 5 | EBG3: 6 | EBH3: 7 | EBI3: 8 | EBJ3: 9 | EBK3: 10 | EBL3: 11 | EBM3: 12 | EBN3: 13 | EBO3: 5 | EBP3: 6 | EBQ3: 7 | EBR3: 8 | EBS3: 9 | EBT3: 10 | EBU3: 11 | EBV3: 12 | EBW3: 13 | EBX3: 5 | EBY3: 6 | EBZ3: 7 | ECA3: 8 | ECB3: 9 | ECC3: 10 | ECD3: 11 | ECE3: 12 | ECF3: 13 | ECG3: 5 | ECH3: 6 | ECI3: 7 | ECJ3: 8 | ECK3: 9 | ECL3: 10 | ECM3: 11 | ECN3: 12 | ECO3: 13 | ECP3: 5 | ECQ3: 6 | ECR3: 7 | ECS3: 8 | ECT3: 9 | ECU3: 10 | ECV3: 11 | ECW3: 12 | ECX3: 13 | ECY3: 5 | ECZ3: 6 | EDA3: 7 | EDB3: 8 | EDC3: 9 | EDD3: 10 | EDE3: 11 | EDF3: 12 | EDG3: 13 | EDH3: 5 | EDI3: 6 | EDJ3: 7 | EDK3: 8 | EDL3: 9 | EDM3: 10 | EDN3: 11 | EDO3: 12 | EDP3: 13 | EDQ3: 14 | EDR3: 15 | EDS3: 16 | EDT3: 17 | EDU3: 18 | EDV3: 19 | EDW3: 5 | EDX3: 7 | EDY3: 9 | EDZ3: 11 | EEA3: 13 | EEB3: 15 | EEC3: 17 | EED3: 19 | EEE3: 5 | EEF3: 6 | EEG3: 7 | EEH3: 8 | EEI3: 9 | EEJ3: 10 | EEK3: 11 | EEL3: 12 | EEM3: 13 | EEN3: 14 | EEO3: 15 | EEP3: 16 | EEQ3: 17 | EER3: 18 | EES3: 19 | EET3: 5 | EEU3: 6 | EEV3: 7 | EEW3: 8 | EEX3: 9 | EEY3: 10 | EEZ3: 11 | EFA3: 12 | EFB3: 13 | EFC3: 14 | EFD3: 15 | EFE3: 16 | EFF3: 17 | EFG3: 18 | EFH3: 19 | EFI3: 5 | EFJ3: 6 | EFK3: 7 | EFL3: 8 | EFM3: 9 | EFN3: 10 | EFO3: 11 | EFP3: 12 | EFQ3: 13 | EFR3: 14 | EFS3: 15 | EFT3: 16 | EFU3: 17 | EFV3: 18 | EFW3: 19 | EFX3: 5 | EFY3: 6 | EFZ3: 7 | EGA3: 8 | EGB3: 9 | EGC3: 10 | EGD3: 11 | EGE3: 12 | EGF3: 13 | EGG3: 14 | EGH3: 15 | EGI3: 16 | EGJ3: 17 | EGK3: 18 | EGL3: 19 | EGM3: 5 | EGN3: 6 | EGO3: 7 | EGP3: 8 | EGQ3: 9 | EGR3: 10 | EGS3: 11 | EGT3: 12 | EGU3: 13 | EGV3: 14 | EGW3: 15 | EGX3: 16 | EGY3: 17 | EGZ3: 18 | EHA3: 19 | EHB3: 5 | EHC3: 6 | EHD3: 7 | EHE3: 8 | EHF3: 9 | EHG3: 10 | EHH3: 11 | EHI3: 12 | EHJ3: 13 | EHK3: 14 | EHL3: 15 | EHM3: 16 | EHN3: 17 | EHO3: 18 | EHP3: 19 | EHQ3: 5 | EHR3: 6 | EHS3: 7 | EHT3: 8 | EHU3: 9 | EHV3: 10 | EHW3: 11 | EHX3: 12 | EHY3: 13 | EHZ3: 14 | EIA3: 15 | EIB3: 16 | EIC3: 17 | EID3: 18 | EIE3: 19 | EIF3: 5 | EIG3: 6 | EIH3: 7 | EII3: 8 | EIJ3: 9 | EIK3: 10 | EIL3: 11 | EIM3: 12 | EIN3: 13 | EIO3: 14 | EIP3: 15 | EIQ3: 16 | EIR3: 17 | EIS3: 18 | EIT3: 19 | EIU3: 5 | EIV3: 6 | EIW3: 7 | EIX3: 8 | EIY3: 9 | EIZ3: 10 | EJA3: 11 | EJB3: 12 | EJC3: 13 | EJD3: 14 | EJE3: 15 | EJF3: 16 | EJG3: 17 | EJH3: 18 | EJI3: 19 | EJJ3: 5 | EJK3: 6 | EJL3: 7 | EJM3: 8 | EJN3: 9 | EJO3: 10 | EJP3: 11 | EJQ3: 12 | EJR3: 13 | EJS3: 14 | EJT3: 15 | EJU3: 16 | EJV3: 17 | EJW3: 18 | EJX3: 19 | EJY3: 5 | EJZ3: 6 | EKA3: 7 | EKB3: 8 | EKC3: 9 | EKD3: 10 | EKE3: 11 | EKF3: 12 | EKG3: 13 | EKH3: 14 | EKI3: 15 | EKJ3: 16 | EKK3: 17 | EKL3: 18 | EKM3: 19 | EKN3: 5 | EKO3: 6 | EKP3: 7 | EKQ3: 8 | EKR3: 9 | EKS3: 10 | EKT3: 11 | EKU3: 12 | EKV3: 13 | EKW3: 14 | EKX3: 15 | EKY3: 16 | EKZ3: 17 | ELA3: 18 | ELB3: 19 | ELC3: 5 | ELD3: 6 | ELE3: 7 | ELF3: 8 | ELG3: 9 | ELH3: 10 | ELI3: 11 | ELJ3: 12 | ELK3: 13 | ELL3: 14 | ELM3: 15 | ELN3: 16 | ELO3: 17 | ELP3: 18 | ELQ3: 19 | ELR3: 5 | ELS3: 6 | ELT3: 7 | ELU3: 8 | ELV3: 9 | ELW3: 10 | ELX3: 11 | ELY3: 12 | ELZ3: 13 | EMA3: 14 | EMB3: 15 | EMC3: 16 | EMD3: 17 | EME3: 18 | EMF3: 19 | EMG3: 5 | EMH3: 6 | EMI3: 7 | EMJ3: 8 | EMK3: 9 | EML3: 10 | EMM3: 11 | EMN3: 12 | EMO3: 13 | EMP3: 14 | EMQ3: 15 | EMR3: 16 | EMS3: 17 | EMT3: 18 | EMU3: 19 | EMV3: 5 | EMW3: 6 | EMX3: 7 | EMY3: 8 | EMZ3: 9 | ENA3: 10 | ENB3: 11 | ENC3: 12 | END3: 13 | ENE3: 14 | ENF3: 15 | ENG3: 16 | ENH3: 17 | ENI3: 18 | ENJ3: 5 | ENK3: 6 | ENL3: 7 | ENM3: 8 | ENN3: 9 | ENO3: 10 | ENP3: 11 | ENQ3: 12 | ENR3: 13 | ENS3: 14 | ENT3: 15 | ENU3: 16 | ENV3: 17 | ENW3: 18 | ENX3: 5 | ENY3: 6 | ENZ3: 7 | EOA3: 8 | EOB3: 9 | EOC3: 10 | EOD3: 11 | EOE3: 12 | EOF3: 13 | EOG3: 14 | EOH3: 15 | EOI3: 16 | EOJ3: 17 | EOK3: 18 | EOL3: 5 | EOM3: 6 | EON3: 7 | EOO3: 8 | EOP3: 9 | EOQ3: 10 | EOR3: 11 | EOS3: 12 | EOT3: 13 | EOU3: 14 | EOV3: 15 | EOW3: 16 | EOX3: 17 | EOY3: 18 | EOZ3: 5 | EPA3: 6 | EPB3: 7 | EPC3: 8 | EPD3: 9 | EPE3: 10 | EPF3: 11 | EPG3: 12 | EPH3: 13 | EPI3: 14 | EPJ3: 15 | EPK3: 16 | EPL3: 17 | EPM3: 18 | EPN3: 5 | EPO3: 6 | EPP3: 7 | EPQ3: 8 | EPR3: 9 | EPS3: 10 | EPT3: 11 | EPU3: 12 | EPV3: 13 | EPW3: 14 | EPX3: 15 | EPY3: 16 | EPZ3: 17 | EQA3: 18 | EQB3: 5 | EQC3: 6 | EQD3: 7 | EQE3: 8 | EQF3: 9 | EQG3: 10 | EQH3: 11 | EQI3: 12 | EQJ3: 13 | EQK3: 14 | EQL3: 15 | EQM3: 16 | EQN3: 17 | EQO3: 18 | EQP3: 5 | EQQ3: 6 | EQR3: 7 | EQS3: 8 | EQT3: 9 | EQU3: 10 | EQV3: 11 | EQW3: 12 | EQX3: 13 | EQY3: 14 | EQZ3: 15 | ERA3: 16 | ERB3: 17 | ERC3: 18 | ERD3: 5 | ERE3: 6 | ERF3: 7 | ERG3: 8 | ERH3: 9 | ERI3: 10 | ERJ3: 11 | ERK3: 12 | ERL3: 13 | ERM3: 14 | ERN3: 15 | ERO3: 16 | ERP3: 17 | ERQ3: 18 | ERR3: 5 | ERS3: 6 | ERT3: 7 | ERU3: 8 | ERV3: 9 | ERW3: 10 | ERX3: 11 | ERY3: 12 | ERZ3: 13 | ESA3: 14 | ESB3: 15 | ESC3: 16 | ESD3: 17 | ESE3: 18 | ESF3: 5 | ESG3: 6 | ESH3: 9 | ESI3: 10 | ESJ3: 11 | ESK3: 5 | ESL3: 6 | ESM3: 9 | ESN3: 10 | ESO3: 11 | ESP3: 5 | ESQ3: 6 | ESR3: 9 | ESS3: 10 | EST3: 11 | ESU3: 5 | ESV3: 6 | ESW3: 9 | ESX3: 10 | ESY3: 11 | ESZ3: 5 | ETA3: 6 | ETB3: 9 | ETC3: 10 | ETD3: 11 | ETE3: 5 | ETF3: 6 | ETG3: 9 | ETH3: 10 | ETI3: 11 | ETJ3: 5 | ETK3: 6 | ETL3: 9 | ETM3: 10 | ETN3: 11 | ETO3: 5 | ETP3: 6 | ETQ3: 9 | ETR3: 10 | ETS3: 11 | ETT3: 5 | ETU3: 6 | ETV3: 9 | ETW3: 10 | ETX3: 11 | ETY3: 5 | ETZ3: 6 | EUA3: 9 | EUB3: 10 | EUC3: 11 | EUD3: 5 | EUE3: 6 | EUF3: 9 | EUG3: 10 | EUH3: 11 | EUI3: 5 | EUJ3: 6 | EUK3: 9 | EUL3: 10 | EUM3: 11 | EUN3: 5 | EUO3: 6 | EUP3: 9 | EUQ3: 10 | EUR3: 11 | EUS3: 5 | EUT3: 6 | EUU3: 9 | EUV3: 10 | EUW3: 11 | EUX3: 5 | EUY3: 6 | EUZ3: 9 | EVA3: 10 | EVB3: 11 | EVC3: 5 | EVD3: 6 | EVE3: 9 | EVF3: 10 | EVG3: 11 | EVH3: 5 | EVI3: 6 | EVJ3: 9 | EVK3: 10 | EVL3: 11 | EVM3: 5 | EVN3: 6 | EVO3: 9 | EVP3: 10 | EVQ3: 11 | EVR3: 5 | EVS3: 6 | EVT3: 9 | EVU3: 10 | EVV3: 11 | EVW3: 5 | EVX3: 6 | EVY3: 9 | EVZ3: 10 | EWA3: 11 | EWB3: 5 | EWC3: 6 | EWD3: 9 | EWE3: 10 | EWF3: 11 | EWG3: 5 | EWH3: 6 | EWI3: 9 | EWJ3: 10 | EWK3: 11 | EWL3: 5 | EWM3: 6 | EWN3: 9 | EWO3: 10 | EWP3: 11 | EWQ3: 5 | EWR3: 6 | EWS3: 9 | EWT3: 10 | EWU3: 11 | EWV3: 5 | EWW3: 6 | EWX3: 9 | EWY3: 10 | EWZ3: 11 | EXA3: 12 | EXB3: 12 | EXC3: 12 | EXD3: 12 | EXE3: 12 | EXF3: 2 | EXG3: 3 | EXH3: 4 | EXI3: 5 | EXJ3: 6 | EXK3: 7 | EXL3: 8 | EXM3: 9 | EXN3: 10 | EXO3: 11 | EXP3: 12 | EXQ3: 13
A4: =ΠΡΟΛΟΓΟΣ!C10 -> 0 | B4: =ΠΡΟΛΟΓΟΣ!C12 | C4: =INDIRECT("'ΣΤΟΙΧΕΙΑ'!"&ADDRESS(C1,C3),TRUE) -> 0 | D4: =INDIRECT("'ΣΤΟΙΧΕΙΑ'!"&ADDRESS(D1,D3),TRUE) -> 0 | E4: =INDIRECT("'ΣΤΟΙΧΕΙΑ'!"&ADDRESS(E1,E3),TRUE) -> 0 | F4: =INDIRECT("'ΣΤΟΙΧΕΙΑ'!"&ADDRESS(F1,F3),TRUE) -> 0 | G4: =INDIRECT("'ΣΤΟΙΧΕΙΑ'!"&ADDRESS(G1,G3),TRUE) -> 0 | H4: =INDIRECT("'ΣΤΟΙΧΕΙΑ'!"&ADDRESS(H1,H3),TRUE) -> 0 | I4: =INDIRECT("'ΣΤΟΙΧΕΙΑ'!"&ADDRESS(I1,I3),TRUE) -> 0 | J4: =INDIRECT("'ΣΤΟΙΧΕΙΑ'!"&ADDRESS(J1,J3),TRUE) -> 0 | ... EXE4: =INDIRECT("'ΣΤΟΙΧΕΙΑ'!"&ADDRESS(EXE1,EXE3),TRUE) -> 0 | EXF4: =INDIRECT("'Sheet1'!"&ADDRESS(EXF1,EXF3),TRUE) -> 0 | EXG4: =INDIRECT("'Sheet1'!"&ADDRESS(EXG1,EXG3),TRUE) -> 0 | EXH4: =INDIRECT("'Sheet1'!"&ADDRESS(EXH1,EXH3),TRUE) -> 0 | EXI4: =INDIRECT("'Sheet1'!"&ADDRESS(EXI1,EXI3),TRUE) -> 0 | EXJ4: =INDIRECT("'Sheet1'!"&ADDRESS(EXJ1,EXJ3),TRUE) -> 0 | EXK4: =INDIRECT("'Sheet1'!"&ADDRESS(EXK1,EXK3),TRUE) -> 0 | EXL4: =INDIRECT("'Sheet1'!"&ADDRESS(EXL1,EXL3),TRUE) -> 0 | EXM4: =INDIRECT("'Sheet1'!"&ADDRESS(EXM1,EXM3),TRUE) -> 0 | ... EXQ4: =INDIRECT("'Sheet1'!"&ADDRESS(EXQ1,EXQ3),TRUE) -> 0
A6: 1 | B6: 2 | C6: 3 | D6: 4 | E6: 5 | F6: 6 | G6: 7 | H6: 8 | I6: 9 | J6: 10 | K6: 11 | L6: 12 | M6: 13 | N6: 14 | O6: 15 | P6: 16 | Q6: 17 | R6: 18 | S6: 19 | T6: 20 | U6: 21 | V6: 22 | W6: 23 | X6: 24 | Y6: 25 | Z6: 26 | AA6: 27 | AB6: 28 | AC6: 29 | AD6: 30 | AE6: 31 | AF6: 32 | AG6: 33 | AH6: 34 | AI6: 35 | AJ6: 36 | AK6: 37 | AL6: 38 | AM6: 39 | AN6: 40 | AO6: 41 | AP6: 42 | AQ6: 43 | AR6: 44 | AS6: 45 | AT6: 46 | AU6: 47 | AV6: 48 | AW6: 49 | AX6: 50 | AY6: 51 | AZ6: 52 | BA6: 53 | BB6: 54 | BC6: 55 | BD6: 56 | BE6: 57 | BF6: 58 | BG6: 59 | BH6: 60 | BI6: 61 | BJ6: 62 | BK6: 63 | BL6: 64 | BM6: 65 | BN6: 66 | BO6: 67 | BP6: 68 | BQ6: 69 | BR6: 70 | BS6: 71 | BT6: 72 | BU6: 73 | BV6: 74 | BW6: 75 | BX6: 76 | BY6: 77 | BZ6: 78 | CA6: 79 | CB6: 80 | CC6: 81 | CD6: 82 | CE6: 83 | CF6: 84 | CG6: 85 | CH6: 86 | CI6: 87 | CJ6: 88 | CK6: 89 | CL6: 90 | CM6: 91 | CN6: 92 | CO6: 93 | CP6: 94 | CQ6: 95 | CR6: 96 | CS6: 97 | CT6: 98 | CU6: 99 | CV6: 100 | CW6: 101 | CX6: 102 | CY6: 103 | CZ6: 104 | DA6: 105 | DB6: 106 | DC6: 107 | DD6: 108 | DE6: 109 | DF6: 110 | DG6: 111 | DH6: 112 | DI6: 113 | DJ6: 114 | DK6: 115 | DL6: 116 | DM6: 117 | DN6: 118 | DO6: 119 | DP6: 120 | DQ6: 121 | DR6: 122 | DS6: 123 | DT6: 124 | DU6: 125 | DV6: 126 | DW6: 127 | DX6: 128 | DY6: 129 | DZ6: 130 | EA6: 131 | EB6: 132 | EC6: 133 | ED6: 134 | EE6: 135 | EF6: 136 | EG6: 137 | EH6: 138 | EI6: 139 | EJ6: 140 | EK6: 141 | EL6: 142 | EM6: 143 | EN6: 144 | EO6: 145 | EP6: 146 | EQ6: 147 | ER6: 148 | ES6: 149 | ET6: 150 | EU6: 151 | EV6: 152 | EW6: 153 | EX6: 154 | EY6: 155 | EZ6: 156 | FA6: 157 | FB6: 158 | FC6: 159 | FD6: 160 | FE6: 161 | FF6: 162 | FG6: 163 | FH6: 164 | FI6: 165 | FJ6: 166 | FK6: 167 | FL6: 168 | FM6: 169 | FN6: 170 | FO6: 171 | FP6: 172 | FQ6: 173 | FR6: 174 | FS6: 175 | FT6: 176 | FU6: 177 | FV6: 178 | FW6: 179 | FX6: 180 | FY6: 181 | FZ6: 182 | GA6: 183 | GB6: 184 | GC6: 185 | GD6: 186 | GE6: 187 | GF6: 188 | GG6: 189 | GH6: 190 | GI6: 191 | GJ6: 192 | GK6: 193 | GL6: 194 | GM6: 195 | GN6: 196 | GO6: 197 | GP6: 198 | GQ6: 199 | GR6: 200 | GS6: 201 | GT6: 202 | GU6: 203 | GV6: 204 | GW6: 205 | GX6: 206 | GY6: 207 | GZ6: 208 | HA6: 209 | HB6: 210 | HC6: 211 | HD6: 212 | HE6: 213 | HF6: 214 | HG6: 215 | HH6: 216 | HI6: 217 | HJ6: 218 | HK6: 219 | HL6: 220 | HM6: 221 | HN6: 222 | HO6: 223 | HP6: 224 | HQ6: 225 | HR6: 226 | HS6: 227 | HT6: 228 | HU6: 229 | HV6: 230 | HW6: 231 | HX6: 232 | HY6: 233 | HZ6: 234 | IA6: 235 | IB6: 236 | IC6: 237 | ID6: 238 | IE6: 239 | IF6: 240 | IG6: 241 | IH6: 242 | II6: 243 | IJ6: 244 | IK6: 245 | IL6: 246 | IM6: 247 | IN6: 248 | IO6: 249 | IP6: 250 | IQ6: 251 | IR6: 252 | IS6: 253 | IT6: 254 | IU6: 255 | IV6: 256 | IW6: 257 | IX6: 258 | IY6: 259 | IZ6: 260 | JA6: 261 | JB6: 262 | JC6: 263 | JD6: 264 | JE6: 265 | JF6: 266 | JG6: 267 | JH6: 268 | JI6: 269 | JJ6: 270 | JK6: 271 | JL6: 272 | JM6: 273 | JN6: 274 | JO6: 275 | JP6: 276 | JQ6: 277 | JR6: 278 | JS6: 279 | JT6: 280 | JU6: 281 | JV6: 282 | JW6: 283 | JX6: 284 | JY6: 285 | JZ6: 286 | KA6: 287 | KB6: 288 | KC6: 289 | KD6: 290 | KE6: 291 | KF6: 292 | KG6: 293 | KH6: 294 | KI6: 295 | KJ6: 296 | KK6: 297 | KL6: 298 | KM6: 299 | KN6: 300 | KO6: 301 | KP6: 302 | KQ6: 303 | KR6: 304 | KS6: 305 | KT6: 306 | KU6: 307 | KV6: 308 | KW6: 309 | KX6: 310 | KY6: 311 | KZ6: 312 | LA6: 313 | LB6: 314 | LC6: 315 | LD6: 316 | LE6: 317 | LF6: 318 | LG6: 319 | LH6: 320 | LI6: 321 | LJ6: 322 | LK6: 323 | LL6: 324 | LM6: 325 | LN6: 326 | LO6: 327 | LP6: 328 | LQ6: 329 | LR6: 330 | LS6: 331 | LT6: 332 | LU6: 333 | LV6: 334 | LW6: 335 | LX6: 336 | LY6: 337 | LZ6: 338 | MA6: 339 | MB6: 340 | MC6: 341 | MD6: 342 | ME6: 343 | MF6: 344 | MG6: 345 | MH6: 346 | MI6: 347 | MJ6: 348 | MK6: 349 | ML6: 350 | MM6: 351 | MN6: 352 | MO6: 353 | MP6: 354 | MQ6: 355 | MR6: 356 | MS6: 357 | MT6: 358 | MU6: 359 | MV6: 360 | MW6: 361 | MX6: 362 | MY6: 363 | MZ6: 364 | NA6: 365 | NB6: 366 | NC6: 367 | ND6: 368 | NE6: 369 | NF6: 370 | NG6: 371 | NH6: 372 | NI6: 373 | NJ6: 374 | NK6: 375 | NL6: 376 | NM6: 377 | NN6: 378 | NO6: 379 | NP6: 380 | NQ6: 381 | NR6: 382 | NS6: 383 | NT6: 384 | NU6: 385 | NV6: 386 | NW6: 387 | NX6: 388 | NY6: 389 | NZ6: 390 | OA6: 391 | OB6: 392 | OC6: 393 | OD6: 394 | OE6: 395 | OF6: 396 | OG6: 397 | OH6: 398 | OI6: 399 | OJ6: 400 | OK6: 401 | OL6: 402 | OM6: 403 | ON6: 404 | OO6: 405 | OP6: 406 | OQ6: 407 | OR6: 408 | OS6: 409 | OT6: 410 | OU6: 411 | OV6: 412 | OW6: 413 | OX6: 414 | OY6: 415 | OZ6: 416 | PA6: 417 | PB6: 418 | PC6: 419 | PD6: 420 | PE6: 421 | PF6: 422 | PG6: 423 | PH6: 424 | PI6: 425 | PJ6: 426 | PK6: 427 | PL6: 428 | PM6: 429 | PN6: 430 | PO6: 431 | PP6: 432 | PQ6: 433 | PR6: 434 | PS6: 435 | PT6: 436 | PU6: 437 | PV6: 438 | PW6: 439 | PX6: 440 | PY6: 441 | PZ6: 442 | QA6: 443 | QB6: 444 | QC6: 445 | QD6: 446 | QE6: 447 | QF6: 448 | QG6: 449 | QH6: 450 | QI6: 451 | QJ6: 452 | QK6: 453 | QL6: 454 | QM6: 455 | QN6: 456 | QO6: 457 | QP6: 458 | QQ6: 459 | QR6: 460 | QS6: 461 | QT6: 462 | QU6: 463 | QV6: 464 | QW6: 465 | QX6: 466 | QY6: 467 | QZ6: 468 | RA6: 469 | RB6: 470 | RC6: 471 | RD6: 472 | RE6: 473 | RF6: 474 | RG6: 475 | RH6: 476 | RI6: 477 | RJ6: 478 | RK6: 479 | RL6: 480 | RM6: 481 | RN6: 482 | RO6: 483 | RP6: 484 | RQ6: 485 | RR6: 486 | RS6: 487 | RT6: 488 | RU6: 489 | RV6: 490 | RW6: 491 | RX6: 492 | RY6: 493 | RZ6: 494 | SA6: 495 | SB6: 496 | SC6: 497 | SD6: 498 | SE6: 499 | SF6: 500 | SG6: 501 | SH6: 502 | SI6: 503 | SJ6: 504 | SK6: 505 | SL6: 506 | SM6: 507 | SN6: 508 | SO6: 509 | SP6: 510 | SQ6: 511 | SR6: 512 | SS6: 513 | ST6: 514 | SU6: 515 | SV6: 516 | SW6: 517 | SX6: 518 | SY6: 519 | SZ6: 520 | TA6: 521 | TB6: 522 | TC6: 523 | TD6: 524 | TE6: 525 | TF6: 526 | TG6: 527 | TH6: 528 | TI6: 529 | TJ6: 530 | TK6: 531 | TL6: 532 | TM6: 533 | TN6: 534 | TO6: 535 | TP6: 536 | TQ6: 537 | TR6: 538 | TS6: 539 | TT6: 540 | TU6: 541 | TV6: 542 | TW6: 543 | TX6: 544 | TY6: 545 | TZ6: 546 | UA6: 547 | UB6: 548 | UC6: 549 | UD6: 550 | UE6: 551 | UF6: 552 | UG6: 553 | UH6: 554 | UI6: 555 | UJ6: 556 | UK6: 557 | UL6: 558 | UM6: 559 | UN6: 560 | UO6: 561 | UP6: 562 | UQ6: 563 | UR6: 564 | US6: 565 | UT6: 566 | UU6: 567 | UV6: 568 | UW6: 569 | UX6: 570 | UY6: 571 | UZ6: 572 | VA6: 573 | VB6: 574 | VC6: 575 | VD6: 576 | VE6: 577 | VF6: 578 | VG6: 579 | VH6: 580 | VI6: 581 | VJ6: 582 | VK6: 583 | VL6: 584 | VM6: 585 | VN6: 586 | VO6: 587 | VP6: 588 | VQ6: 589 | VR6: 590 | VS6: 591 | VT6: 592 | VU6: 593 | VV6: 594 | VW6: 595 | VX6: 596 | VY6: 597 | VZ6: 598 | WA6: 599 | WB6: 600 | WC6: 601 | WD6: 602 | WE6: 603 | WF6: 604 | WG6: 605 | WH6: 606 | WI6: 607 | WJ6: 608 | WK6: 609 | WL6: 610 | WM6: 611 | WN6: 612 | WO6: 613 | WP6: 614 | WQ6: 615 | WR6: 616 | WS6: 617 | WT6: 618 | WU6: 619 | WV6: 620 | WW6: 621 | WX6: 622 | WY6: 623 | WZ6: 624 | XA6: 625 | XB6: 626 | XC6: 627 | XD6: 628 | XE6: 629 | XF6: 630 | XG6: 631 | XH6: 632 | XI6: 633 | XJ6: 634 | XK6: 635 | XL6: 636 | XM6: 637 | XN6: 638 | XO6: 639 | XP6: 640 | XQ6: 641 | XR6: 642 | XS6: 643 | XT6: 644 | XU6: 645 | XV6: 646 | XW6: 647 | XX6: 648 | XY6: 649 | XZ6: 650 | YA6: 651 | YB6: 652 | YC6: 653 | YD6: 654 | YE6: 655 | YF6: 656 | YG6: 657 | YH6: 658 | YI6: 659 | YJ6: 660 | YK6: 661 | YL6: 662 | YM6: 663 | YN6: 664 | YO6: 665 | YP6: 666 | YQ6: 667 | YR6: 668 | YS6: 669 | YT6: 670 | YU6: 671 | YV6: 672 | YW6: 673 | YX6: 674 | YY6: 675 | YZ6: 676 | ZA6: 677 | ZB6: 678 | ZC6: 679 | ZD6: 680 | ZE6: 681 | ZF6: 682 | ZG6: 683 | ZH6: 684 | ZI6: 685 | ZJ6: 686 | ZK6: 687 | ZL6: 688 | ZM6: 689 | ZN6: 690 | ZO6: 691 | ZP6: 692 | ZQ6: 693 | ZR6: 694 | ZS6: 695 | ZT6: 696 | ZU6: 697 | ZV6: 698 | ZW6: 699 | ZX6: 700 | ZY6: 701 | ZZ6: 702 | AAA6: 703 | AAB6: 704 | AAC6: 705 | AAD6: 706 | AAE6: 707 | AAF6: 708 | AAG6: 709 | AAH6: 710 | AAI6: 711 | AAJ6: 712 | AAK6: 713 | AAL6: 714 | AAM6: 715 | AAN6: 716 | AAO6: 717 | AAP6: 718 | AAQ6: 719 | AAR6: 720 | AAS6: 721 | AAT6: 722 | AAU6: 723 | AAV6: 724 | AAW6: 725 | AAX6: 726 | AAY6: 727 | AAZ6: 728 | ABA6: 729 | ABB6: 730 | ABC6: 731 | ABD6: 732 | ABE6: 733 | ABF6: 734 | ABG6: 735 | ABH6: 736 | ABI6: 737 | ABJ6: 738 | ABK6: 739 | ABL6: 740 | ABM6: 741 | ABN6: 742 | ABO6: 743 | ABP6: 744 | ABQ6: 745 | ABR6: 746 | ABS6: 747 | ABT6: 748 | ABU6: 749 | ABV6: 750 | ABW6: 751 | ABX6: 752 | ABY6: 753 | ABZ6: 754 | ACA6: 755 | ACB6: 756 | ACC6: 757 | ACD6: 758 | ACE6: 759 | ACF6: 760 | ACG6: 761 | ACH6: 762 | ACI6: 763 | ACJ6: 764 | ACK6: 765 | ACL6: 766 | ACM6: 767 | ACN6: 768 | ACO6: 769 | ACP6: 770 | ACQ6: 771 | ACR6: 772 | ACS6: 773 | ACT6: 774 | ACU6: 775 | ACV6: 776 | ACW6: 777 | ACX6: 778 | ACY6: 779 | ACZ6: 780 | ADA6: 781 | ADB6: 782 | ADC6: 783 | ADD6: 784 | ADE6: 785 | ADF6: 786 | ADG6: 787 | ADH6: 788 | ADI6: 789 | ADJ6: 790 | ADK6: 791 | ADL6: 792 | ADM6: 793 | ADN6: 794 | ADO6: 795 | ADP6: 796 | ADQ6: 797 | ADR6: 798 | ADS6: 799 | ADT6: 800 | ADU6: 801 | ADV6: 802 | ADW6: 803 | ADX6: 804 | ADY6: 805 | ADZ6: 806 | AEA6: 807 | AEB6: 808 | AEC6: 809 | AED6: 810 | AEE6: 811 | AEF6: 812 | AEG6: 813 | AEH6: 814 | AEI6: 815 | AEJ6: 816 | AEK6: 817 | AEL6: 818 | AEM6: 819 | AEN6: 820 | AEO6: 821 | AEP6: 822 | AEQ6: 823 | AER6: 824 | AES6: 825 | AET6: 826 | AEU6: 827 | AEV6: 828 | AEW6: 829 | AEX6: 830 | AEY6: 831 | AEZ6: 832 | AFA6: 833 | AFB6: 834 | AFC6: 835 | AFD6: 836 | AFE6: 837 | AFF6: 838 | AFG6: 839 | AFH6: 840 | AFI6: 841 | AFJ6: 842 | AFK6: 843 | AFL6: 844 | AFM6: 845 | AFN6: 846 | AFO6: 847 | AFP6: 848 | AFQ6: 849 | AFR6: 850 | AFS6: 851 | AFT6: 852 | AFU6: 853 | AFV6: 854 | AFW6: 855 | AFX6: 856 | AFY6: 857 | AFZ6: 858 | AGA6: 859 | AGB6: 860 | AGC6: 861 | AGD6: 862 | AGE6: 863 | AGF6: 864 | AGG6: 865 | AGH6: 866 | AGI6: 867 | AGJ6: 868 | AGK6: 869 | AGL6: 870 | AGM6: 871 | AGN6: 872 | AGO6: 873 | AGP6: 874 | AGQ6: 875 | AGR6: 876 | AGS6: 877 | AGT6: 878 | AGU6: 879 | AGV6: 880 | AGW6: 881 | AGX6: 882 | AGY6: 883 | AGZ6: 884 | AHA6: 885 | AHB6: 886 | AHC6: 887 | AHD6: 888 | AHE6: 889 | AHF6: 890 | AHG6: 891 | AHH6: 892 | AHI6: 893 | AHJ6: 894 | AHK6: 895 | AHL6: 896 | AHM6: 897 | AHN6: 898 | AHO6: 899 | AHP6: 900 | AHQ6: 901 | AHR6: 902 | AHS6: 903 | AHT6: 904 | AHU6: 905 | AHV6: 906 | AHW6: 907 | AHX6: 908 | AHY6: 909 | AHZ6: 910 | AIA6: 911 | AIB6: 912 | AIC6: 913 | AID6: 914 | AIE6: 915 | AIF6: 916 | AIG6: 917 | AIH6: 918 | AII6: 919 | AIJ6: 920 | AIK6: 921 | AIL6: 922 | AIM6: 923 | AIN6: 924 | AIO6: 925 | AIP6: 926 | AIQ6: 927 | AIR6: 928 | AIS6: 929 | AIT6: 930 | AIU6: 931 | AIV6: 932 | AIW6: 933 | AIX6: 934 | AIY6: 935 | AIZ6: 936 | AJA6: 937 | AJB6: 938 | AJC6: 939 | AJD6: 940 | AJE6: 941 | AJF6: 942 | AJG6: 943 | AJH6: 944 | AJI6: 945 | AJJ6: 946 | AJK6: 947 | AJL6: 948 | AJM6: 949 | AJN6: 950 | AJO6: 951 | AJP6: 952 | AJQ6: 953 | AJR6: 954 | AJS6: 955 | AJT6: 956 | AJU6: 957 | AJV6: 958 | AJW6: 959 | AJX6: 960 | AJY6: 961 | AJZ6: 962 | AKA6: 963 | AKB6: 964 | AKC6: 965 | AKD6: 966 | AKE6: 967 | AKF6: 968 | AKG6: 969 | AKH6: 970 | AKI6: 971 | AKJ6: 972 | AKK6: 973 | AKL6: 974 | AKM6: 975 | AKN6: 976 | AKO6: 977 | AKP6: 978 | AKQ6: 979 | AKR6: 980 | AKS6: 981 | AKT6: 982 | AKU6: 983 | AKV6: 984 | AKW6: 985 | AKX6: 986 | AKY6: 987 | AKZ6: 988 | ALA6: 989 | ALB6: 990 | ALC6: 991 | ALD6: 992 | ALE6: 993 | ALF6: 994 | ALG6: 995 | ALH6: 996 | ALI6: 997 | ALJ6: 998 | ALK6: 999 | ALL6: 1000 | ALM6: 1001 | ALN6: 1002 | ALO6: 1003 | ALP6: 1004 | ALQ6: 1005 | ALR6: 1006 | ALS6: 1007 | ALT6: 1008 | ALU6: 1009 | ALV6: 1010 | ALW6: 1011 | ALX6: 1012 | ALY6: 1013 | ALZ6: 1014 | AMA6: 1015 | AMB6: 1016 | AMC6: 1017 | AMD6: 1018 | AME6: 1019 | AMF6: 1020 | AMG6: 1021 | AMH6: 1022 | AMI6: 1023 | AMJ6: 1024 | AMK6: 1025 | AML6: 1026 | AMM6: 1027 | AMN6: 1028 | AMO6: 1029 | AMP6: 1030 | AMQ6: 1031 | AMR6: 1032 | AMS6: 1033 | AMT6: 1034 | AMU6: 1035 | AMV6: 1036 | AMW6: 1037 | AMX6: 1038 | AMY6: 1039 | AMZ6: 1040 | ANA6: 1041 | ANB6: 1042 | ANC6: 1043 | AND6: 1044 | ANE6: 1045 | ANF6: 1046 | ANG6: 1047 | ANH6: 1048 | ANI6: 1049 | ANJ6: 1050 | ANK6: 1051 | ANL6: 1052 | ANM6: 1053 | ANN6: 1054 | ANO6: 1055 | ANP6: 1056 | ANQ6: 1057 | ANR6: 1058 | ANS6: 1059 | ANT6: 1060 | ANU6: 1061 | ANV6: 1062 | ANW6: 1063 | ANX6: 1064 | ANY6: 1065 | ANZ6: 1066 | AOA6: 1067 | AOB6: 1068 | AOC6: 1069 | AOD6: 1070 | AOE6: 1071 | AOF6: 1072 | AOG6: 1073 | AOH6: 1074 | AOI6: 1075 | AOJ6: 1076 | AOK6: 1077 | AOL6: 1078 | AOM6: 1079 | AON6: 1080 | AOO6: 1081 | AOP6: 1082 | AOQ6: 1083 | AOR6: 1084 | AOS6: 1085 | AOT6: 1086 | AOU6: 1087 | AOV6: 1088 | AOW6: 1089 | AOX6: 1090 | AOY6: 1091 | AOZ6: 1092 | APA6: 1093 | APB6: 1094 | APC6: 1095 | APD6: 1096 | APE6: 1097 | APF6: 1098 | APG6: 1099 | APH6: 1100 | API6: 1101 | APJ6: 1102 | APK6: 1103 | APL6: 1104 | APM6: 1105 | APN6: 1106 | APO6: 1107 | APP6: 1108 | APQ6: 1109 | APR6: 1110 | APS6: 1111 | APT6: 1112 | APU6: 1113 | APV6: 1114 | APW6: 1115 | APX6: 1116 | APY6: 1117 | APZ6: 1118 | AQA6: 1119 | AQB6: 1120 | AQC6: 1121 | AQD6: 1122 | AQE6: 1123 | AQF6: 1124 | AQG6: 1125 | AQH6: 1126 | AQI6: 1127 | AQJ6: 1128 | AQK6: 1129 | AQL6: 1130 | AQM6: 1131 | AQN6: 1132 | AQO6: 1133 | AQP6: 1134 | AQQ6: 1135 | AQR6: 1136 | AQS6: 1137 | AQT6: 1138 | AQU6: 1139 | AQV6: 1140 | AQW6: 1141 | AQX6: 1142 | AQY6: 1143 | AQZ6: 1144 | ARA6: 1145 | ARB6: 1146 | ARC6: 1147 | ARD6: 1148 | ARE6: 1149 | ARF6: 1150 | ARG6: 1151 | ARH6: 1152 | ARI6: 1153 | ARJ6: 1154 | ARK6: 1155 | ARL6: 1156 | ARM6: 1157 | ARN6: 1158 | ARO6: 1159 | ARP6: 1160 | ARQ6: 1161 | ARR6: 1162 | ARS6: 1163 | ART6: 1164 | ARU6: 1165 | ARV6: 1166 | ARW6: 1167 | ARX6: 1168 | ARY6: 1169 | ARZ6: 1170 | ASA6: 1171 | ASB6: 1172 | ASC6: 1173 | ASD6: 1174 | ASE6: 1175 | ASF6: 1176 | ASG6: 1177 | ASH6: 1178 | ASI6: 1179 | ASJ6: 1180 | ASK6: 1181 | ASL6: 1182 | ASM6: 1183 | ASN6: 1184 | ASO6: 1185 | ASP6: 1186 | ASQ6: 1187 | ASR6: 1188 | ASS6: 1189 | AST6: 1190 | ASU6: 1191 | ASV6: 1192 | ASW6: 1193 | ASX6: 1194 | ASY6: 1195 | ASZ6: 1196 | ATA6: 1197 | ATB6: 1198 | ATC6: 1199 | ATD6: 1200 | ATE6: 1201 | ATF6: 1202 | ATG6: 1203 | ATH6: 1204 | ATI6: 1205 | ATJ6: 1206 | ATK6: 1207 | ATL6: 1208 | ATM6: 1209 | ATN6: 1210 | ATO6: 1211 | ATP6: 1212 | ATQ6: 1213 | ATR6: 1214 | ATS6: 1215 | ATT6: 1216 | ATU6: 1217 | ATV6: 1218 | ATW6: 1219 | ATX6: 1220 | ATY6: 1221 | ATZ6: 1222 | AUA6: 1223 | AUB6: 1224 | AUC6: 1225 | AUD6: 1226 | AUE6: 1227 | AUF6: 1228 | AUG6: 1229 | AUH6: 1230 | AUI6: 1231 | AUJ6: 1232 | AUK6: 1233 | AUL6: 1234 | AUM6: 1235 | AUN6: 1236 | AUO6: 1237 | AUP6: 1238 | AUQ6: 1239 | AUR6: 1240 | AUS6: 1241 | AUT6: 1242 | AUU6: 1243 | AUV6: 1244 | AUW6: 1245 | AUX6: 1246 | AUY6: 1247 | AUZ6: 1248 | AVA6: 1249 | AVB6: 1250 | AVC6: 1251 | AVD6: 1252 | AVE6: 1253 | AVF6: 1254 | AVG6: 1255 | AVH6: 1256 | AVI6: 1257 | AVJ6: 1258 | AVK6: 1259 | AVL6: 1260 | AVM6: 1261 | AVN6: 1262 | AVO6: 1263 | AVP6: 1264 | AVQ6: 1265 | AVR6: 1266 | AVS6: 1267 | AVT6: 1268 | AVU6: 1269 | AVV6: 1270 | AVW6: 1271 | AVX6: 1272 | AVY6: 1273 | AVZ6: 1274 | AWA6: 1275 | AWB6: 1276 | AWC6: 1277 | AWD6: 1278 | AWE6: 1279 | AWF6: 1280 | AWG6: 1281 | AWH6: 1282 | AWI6: 1283 | AWJ6: 1284 | AWK6: 1285 | AWL6: 1286 | AWM6: 1287 | AWN6: 1288 | AWO6: 1289 | AWP6: 1290 | AWQ6: 1291 | AWR6: 1292 | AWS6: 1293 | AWT6: 1294 | AWU6: 1295 | AWV6: 1296 | AWW6: 1297 | AWX6: 1298 | AWY6: 1299 | AWZ6: 1300 | AXA6: 1301 | AXB6: 1302 | AXC6: 1303 | AXD6: 1304 | AXE6: 1305 | AXF6: 1306 | AXG6: 1307 | AXH6: 1308 | AXI6: 1309 | AXJ6: 1310 | AXK6: 1311 | AXL6: 1312 | AXM6: 1313 | AXN6: 1314 | AXO6: 1315 | AXP6: 1316 | AXQ6: 1317 | AXR6: 1318 | AXS6: 1319 | AXT6: 1320 | AXU6: 1321 | AXV6: 1322 | AXW6: 1323 | AXX6: 1324 | AXY6: 1325 | AXZ6: 1326 | AYA6: 1327 | AYB6: 1328 | AYC6: 1329 | AYD6: 1330 | AYE6: 1331 | AYF6: 1332 | AYG6: 1333 | AYH6: 1334 | AYI6: 1335 | AYJ6: 1336 | AYK6: 1337 | AYL6: 1338 | AYM6: 1339 | AYN6: 1340 | AYO6: 1341 | AYP6: 1342 | AYQ6: 1343 | AYR6: 1344 | AYS6: 1345 | AYT6: 1346 | AYU6: 1347 | AYV6: 1348 | AYW6: 1349 | AYX6: 1350 | AYY6: 1351 | AYZ6: 1352 | AZA6: 1353 | AZB6: 1354 | AZC6: 1355 | AZD6: 1356 | AZE6: 1357 | AZF6: 1358 | AZG6: 1359 | AZH6: 1360 | AZI6: 1361 | AZJ6: 1362 | AZK6: 1363 | AZL6: 1364 | AZM6: 1365 | AZN6: 1366 | AZO6: 1367 | AZP6: 1368 | AZQ6: 1369 | AZR6: 1370 | AZS6: 1371 | AZT6: 1372 | AZU6: 1373 | AZV6: 1374 | AZW6: 1375 | AZX6: 1376 | AZY6: 1377 | AZZ6: 1378 | BAA6: 1379 | BAB6: 1380 | BAC6: 1381 | BAD6: 1382 | BAE6: 1383 | BAF6: 1384 | BAG6: 1385 | BAH6: 1386 | BAI6: 1387 | BAJ6: 1388 | BAK6: 1389 | BAL6: 1390 | BAM6: 1391 | BAN6: 1392 | BAO6: 1393 | BAP6: 1394 | BAQ6: 1395 | BAR6: 1396 | BAS6: 1397 | BAT6: 1398 | BAU6: 1399 | BAV6: 1400 | BAW6: 1401 | BAX6: 1402 | BAY6: 1403 | BAZ6: 1404 | BBA6: 1405 | BBB6: 1406 | BBC6: 1407 | BBD6: 1408 | BBE6: 1409 | BBF6: 1410 | BBG6: 1411 | BBH6: 1412 | BBI6: 1413 | BBJ6: 1414 | BBK6: 1415 | BBL6: 1416 | BBM6: 1417 | BBN6: 1418 | BBO6: 1419 | BBP6: 1420 | BBQ6: 1421 | BBR6: 1422 | BBS6: 1423 | BBT6: 1424 | BBU6: 1425 | BBV6: 1426 | BBW6: 1427 | BBX6: 1428 | BBY6: 1429 | BBZ6: 1430 | BCA6: 1431 | BCB6: 1432 | BCC6: 1433 | BCD6: 1434 | BCE6: 1435 | BCF6: 1436 | BCG6: 1437 | BCH6: 1438 | BCI6: 1439 | BCJ6: 1440 | BCK6: 1441 | BCL6: 1442 | BCM6: 1443 | BCN6: 1444 | BCO6: 1445 | BCP6: 1446 | BCQ6: 1447 | BCR6: 1448 | BCS6: 1449 | BCT6: 1450 | BCU6: 1451 | BCV6: 1452 | BCW6: 1453 | BCX6: 1454 | BCY6: 1455 | BCZ6: 1456 | BDA6: 1457 | BDB6: 1458 | BDC6: 1459 | BDD6: 1460 | BDE6: 1461 | BDF6: 1462 | BDG6: 1463 | BDH6: 1464 | BDI6: 1465 | BDJ6: 1466 | BDK6: 1467 | BDL6: 1468 | BDM6: 1469 | BDN6: 1470 | BDO6: 1471 | BDP6: 1472 | BDQ6: 1473 | BDR6: 1474 | BDS6: 1475 | BDT6: 1476 | BDU6: 1477 | BDV6: 1478 | BDW6: 1479 | BDX6: 1480 | BDY6: 1481 | BDZ6: 1482 | BEA6: 1483 | BEB6: 1484 | BEC6: 1485 | BED6: 1486 | BEE6: 1487 | BEF6: 1488 | BEG6: 1489 | BEH6: 1490 | BEI6: 1491 | BEJ6: 1492 | BEK6: 1493 | BEL6: 1494 | BEM6: 1495 | BEN6: 1496 | BEO6: 1497 | BEP6: 1498 | BEQ6: 1499 | BER6: 1500 | BES6: 1501 | BET6: 1502 | BEU6: 1503 | BEV6: 1504 | BEW6: 1505 | BEX6: 1506 | BEY6: 1507 | BEZ6: 1508 | BFA6: 1509 | BFB6: 1510 | BFC6: 1511 | BFD6: 1512 | BFE6: 1513 | BFF6: 1514 | BFG6: 1515 | BFH6: 1516 | BFI6: 1517 | BFJ6: 1518 | BFK6: 1519 | BFL6: 1520 | BFM6: 1521 | BFN6: 1522 | BFO6: 1523 | BFP6: 1524 | BFQ6: 1525 | BFR6: 1526 | BFS6: 1527 | BFT6: 1528 | BFU6: 1529 | BFV6: 1530 | BFW6: 1531 | BFX6: 1532 | BFY6: 1533 | BFZ6: 1534 | BGA6: 1535 | BGB6: 1536 | BGC6: 1537 | BGD6: 1538 | BGE6: 1539 | BGF6: 1540 | BGG6: 1541 | BGH6: 1542 | BGI6: 1543 | BGJ6: 1544 | BGK6: 1545 | BGL6: 1546 | BGM6: 1547 | BGN6: 1548 | BGO6: 1549 | BGP6: 1550 | BGQ6: 1551 | BGR6: 1552 | BGS6: 1553 | BGT6: 1554 | BGU6: 1555 | BGV6: 1556 | BGW6: 1557 | BGX6: 1558 | BGY6: 1559 | BGZ6: 1560 | BHA6: 1561 | BHB6: 1562 | BHC6: 1563 | BHD6: 1564 | BHE6: 1565 | BHF6: 1566 | BHG6: 1567 | BHH6: 1568 | BHI6: 1569 | BHJ6: 1570 | BHK6: 1571 | BHL6: 1572 | BHM6: 1573 | BHN6: 1574 | BHO6: 1575 | BHP6: 1576 | BHQ6: 1577 | BHR6: 1578 | BHS6: 1579 | BHT6: 1580 | BHU6: 1581 | BHV6: 1582 | BHW6: 1583 | BHX6: 1584 | BHY6: 1585 | BHZ6: 1586 | BIA6: 1587 | BIB6: 1588 | BIC6: 1589 | BID6: 1590 | BIE6: 1591 | BIF6: 1592 | BIG6: 1593 | BIH6: 1594 | BII6: 1595 | BIJ6: 1596 | BIK6: 1597 | BIL6: 1598 | BIM6: 1599 | BIN6: 1600 | BIO6: 1601 | BIP6: 1602 | BIQ6: 1603 | BIR6: 1604 | BIS6: 1605 | BIT6: 1606 | BIU6: 1607 | BIV6: 1608 | BIW6: 1609 | BIX6: 1610 | BIY6: 1611 | BIZ6: 1612 | BJA6: 1613 | BJB6: 1614 | BJC6: 1615 | BJD6: 1616 | BJE6: 1617 | BJF6: 1618 | BJG6: 1619 | BJH6: 1620 | BJI6: 1621 | BJJ6: 1622 | BJK6: 1623 | BJL6: 1624 | BJM6: 1625 | BJN6: 1626 | BJO6: 1627 | BJP6: 1628 | BJQ6: 1629 | BJR6: 1630 | BJS6: 1631 | BJT6: 1632 | BJU6: 1633 | BJV6: 1634 | BJW6: 1635 | BJX6: 1636 | BJY6: 1637 | BJZ6: 1638 | BKA6: 1639 | BKB6: 1640 | BKC6: 1641 | BKD6: 1642 | BKE6: 1643 | BKF6: 1644 | BKG6: 1645 | BKH6: 1646 | BKI6: 1647 | BKJ6: 1648 | BKK6: 1649 | BKL6: 1650 | BKM6: 1651 | BKN6: 1652 | BKO6: 1653 | BKP6: 1654 | BKQ6: 1655 | BKR6: 1656 | BKS6: 1657 | BKT6: 1658 | BKU6: 1659 | BKV6: 1660 | BKW6: 1661 | BKX6: 1662 | BKY6: 1663 | BKZ6: 1664 | BLA6: 1665 | BLB6: 1666 | BLC6: 1667 | BLD6: 1668 | BLE6: 1669 | BLF6: 1670 | BLG6: 1671 | BLH6: 1672 | BLI6: 1673 | BLJ6: 1674 | BLK6: 1675 | BLL6: 1676 | BLM6: 1677 | BLN6: 1678 | BLO6: 1679 | BLP6: 1680 | BLQ6: 1681 | BLR6: 1682 | BLS6: 1683 | BLT6: 1684 | BLU6: 1685 | BLV6: 1686 | BLW6: 1687 | BLX6: 1688 | BLY6: 1689 | BLZ6: 1690 | BMA6: 1691 | BMB6: 1692 | BMC6: 1693 | BMD6: 1694 | BME6: 1695 | BMF6: 1696 | BMG6: 1697 | BMH6: 1698 | BMI6: 1699 | BMJ6: 1700 | BMK6: 1701 | BML6: 1702 | BMM6: 1703 | BMN6: 1704 | BMO6: 1705 | BMP6: 1706 | BMQ6: 1707 | BMR6: 1708 | BMS6: 1709 | BMT6: 1710 | BMU6: 1711 | BMV6: 1712 | BMW6: 1713 | BMX6: 1714 | BMY6: 1715 | BMZ6: 1716 | BNA6: 1717 | BNB6: 1718 | BNC6: 1719 | BND6: 1720 | BNE6: 1721 | BNF6: 1722 | BNG6: 1723 | BNH6: 1724 | BNI6: 1725 | BNJ6: 1726 | BNK6: 1727 | BNL6: 1728 | BNM6: 1729 | BNN6: 1730 | BNO6: 1731 | BNP6: 1732 | BNQ6: 1733 | BNR6: 1734 | BNS6: 1735 | BNT6: 1736 | BNU6: 1737 | BNV6: 1738 | BNW6: 1739 | BNX6: 1740 | BNY6: 1741 | BNZ6: 1742 | BOA6: 1743 | BOB6: 1744 | BOC6: 1745 | BOD6: 1746 | BOE6: 1747 | BOF6: 1748 | BOG6: 1749 | BOH6: 1750 | BOI6: 1751 | BOJ6: 1752 | BOK6: 1753 | BOL6: 1754 | BOM6: 1755 | BON6: 1756 | BOO6: 1757 | BOP6: 1758 | BOQ6: 1759 | BOR6: 1760 | BOS6: 1761 | BOT6: 1762 | BOU6: 1763 | BOV6: 1764 | BOW6: 1765 | BOX6: 1766 | BOY6: 1767 | BOZ6: 1768 | BPA6: 1769 | BPB6: 1770 | BPC6: 1771 | BPD6: 1772 | BPE6: 1773 | BPF6: 1774 | BPG6: 1775 | BPH6: 1776 | BPI6: 1777 | BPJ6: 1778 | BPK6: 1779 | BPL6: 1780 | BPM6: 1781 | BPN6: 1782 | BPO6: 1783 | BPP6: 1784 | BPQ6: 1785 | BPR6: 1786 | BPS6: 1787 | BPT6: 1788 | BPU6: 1789 | BPV6: 1790 | BPW6: 1791 | BPX6: 1792 | BPY6: 1793 | BPZ6: 1794 | BQA6: 1795 | BQB6: 1796 | BQC6: 1797 | BQD6: 1798 | BQE6: 1799 | BQF6: 1800 | BQG6: 1801 | BQH6: 1802 | BQI6: 1803 | BQJ6: 1804 | BQK6: 1805 | BQL6: 1806 | BQM6: 1807 | BQN6: 1808 | BQO6: 1809 | BQP6: 1810 | BQQ6: 1811 | BQR6: 1812 | BQS6: 1813 | BQT6: 1814 | BQU6: 1815 | BQV6: 1816 | BQW6: 1817 | BQX6: 1818 | BQY6: 1819 | BQZ6: 1820 | BRA6: 1821 | BRB6: 1822 | BRC6: 1823 | BRD6: 1824 | BRE6: 1825 | BRF6: 1826 | BRG6: 1827 | BRH6: 1828 | BRI6: 1829 | BRJ6: 1830 | BRK6: 1831 | BRL6: 1832 | BRM6: 1833 | BRN6: 1834 | BRO6: 1835 | BRP6: 1836 | BRQ6: 1837 | BRR6: 1838 | BRS6: 1839 | BRT6: 1840 | BRU6: 1841 | BRV6: 1842 | BRW6: 1843 | BRX6: 1844 | BRY6: 1845 | BRZ6: 1846 | BSA6: 1847 | BSB6: 1848 | BSC6: 1849 | BSD6: 1850 | BSE6: 1851 | BSF6: 1852 | BSG6: 1853 | BSH6: 1854 | BSI6: 1855 | BSJ6: 1856 | BSK6: 1857 | BSL6: 1858 | BSM6: 1859 | BSN6: 1860 | BSO6: 1861 | BSP6: 1862 | BSQ6: 1863 | BSR6: 1864 | BSS6: 1865 | BST6: 1866 | BSU6: 1867 | BSV6: 1868 | BSW6: 1869 | BSX6: 1870 | BSY6: 1871 | BSZ6: 1872 | BTA6: 1873 | BTB6: 1874 | BTC6: 1875 | BTD6: 1876 | BTE6: 1877 | BTF6: 1878 | BTG6: 1879 | BTH6: 1880 | BTI6: 1881 | BTJ6: 1882 | BTK6: 1883 | BTL6: 1884 | BTM6: 1885 | BTN6: 1886 | BTO6: 1887 | BTP6: 1888 | BTQ6: 1889 | BTR6: 1890 | BTS6: 1891 | BTT6: 1892 | BTU6: 1893 | BTV6: 1894 | BTW6: 1895 | BTX6: 1896 | BTY6: 1897 | BTZ6: 1898 | BUA6: 1899 | BUB6: 1900 | BUC6: 1901 | BUD6: 1902 | BUE6: 1903 | BUF6: 1904 | BUG6: 1905 | BUH6: 1906 | BUI6: 1907 | BUJ6: 1908 | BUK6: 1909 | BUL6: 1910 | BUM6: 1911 | BUN6: 1912 | BUO6: 1913 | BUP6: 1914 | BUQ6: 1915 | BUR6: 1916 | BUS6: 1917 | BUT6: 1918 | BUU6: 1919 | BUV6: 1920 | BUW6: 1921 | BUX6: 1922 | BUY6: 1923 | BUZ6: 1924 | BVA6: 1925 | BVB6: 1926 | BVC6: 1927 | BVD6: 1928 | BVE6: 1929 | BVF6: 1930 | BVG6: 1931 | BVH6: 1932 | BVI6: 1933 | BVJ6: 1934 | BVK6: 1935 | BVL6: 1936 | BVM6: 1937 | BVN6: 1938 | BVO6: 1939 | BVP6: 1940 | BVQ6: 1941 | BVR6: 1942 | BVS6: 1943 | BVT6: 1944 | BVU6: 1945 | BVV6: 1946 | BVW6: 1947 | BVX6: 1948 | BVY6: 1949 | BVZ6: 1950 | BWA6: 1951 | BWB6: 1952 | BWC6: 1953 | BWD6: 1954 | BWE6: 1955 | BWF6: 1956 | BWG6: 1957 | BWH6: 1958 | BWI6: 1959 | BWJ6: 1960 | BWK6: 1961 | BWL6: 1962 | BWM6: 1963 | BWN6: 1964 | BWO6: 1965 | BWP6: 1966 | BWQ6: 1967 | BWR6: 1968 | BWS6: 1969 | BWT6: 1970 | BWU6: 1971 | BWV6: 1972 | BWW6: 1973 | BWX6: 1974 | BWY6: 1975 | BWZ6: 1976 | BXA6: 1977 | BXB6: 1978 | BXC6: 1979 | BXD6: 1980 | BXE6: 1981 | BXF6: 1982 | BXG6: 1983 | BXH6: 1984 | BXI6: 1985 | BXJ6: 1986 | BXK6: 1987 | BXL6: 1988 | BXM6: 1989 | BXN6: 1990 | BXO6: 1991 | BXP6: 1992 | BXQ6: 1993 | BXR6: 1994 | BXS6: 1995 | BXT6: 1996 | BXU6: 1997 | BXV6: 1998 | BXW6: 1999 | BXX6: 2000 | BXY6: 2001 | BXZ6: 2002 | BYA6: 2003 | BYB6: 2004 | BYC6: 2005 | BYD6: 2006 | BYE6: 2007 | BYF6: 2008 | BYG6: 2009 | BYH6: 2010 | BYI6: 2011 | BYJ6: 2012 | BYK6: 2013 | BYL6: 2014 | BYM6: 2015 | BYN6: 2016 | BYO6: 2017 | BYP6: 2018 | BYQ6: 2019 | BYR6: 2020 | BYS6: 2021 | BYT6: 2022 | BYU6: 2023 | BYV6: 2024 | BYW6: 2025 | BYX6: 2026 | BYY6: 2027 | BYZ6: 2028 | BZA6: 2029 | BZB6: 2030 | BZC6: 2031 | BZD6: 2032 | BZE6: 2033 | BZF6: 2034 | BZG6: 2035 | BZH6: 2036 | BZI6: 2037 | BZJ6: 2038 | BZK6: 2039 | BZL6: 2040 | BZM6: 2041 | BZN6: 2042 | BZO6: 2043 | BZP6: 2044 | BZQ6: 2045 | BZR6: 2046 | BZS6: 2047 | BZT6: 2048 | BZU6: 2049 | BZV6: 2050 | BZW6: 2051 | BZX6: 2052 | BZY6: 2053 | BZZ6: 2054 | CAA6: 2055 | CAB6: 2056 | CAC6: 2057 | CAD6: 2058 | CAE6: 2059 | CAF6: 2060 | CAG6: 2061 | CAH6: 2062 | CAI6: 2063 | CAJ6: 2064 | CAK6: 2065 | CAL6: 2066 | CAM6: 2067 | CAN6: 2068 | CAO6: 2069 | CAP6: 2070 | CAQ6: 2071 | CAR6: 2072 | CAS6: 2073 | CAT6: 2074 | CAU6: 2075 | CAV6: 2076 | CAW6: 2077 | CAX6: 2078 | CAY6: 2079 | CAZ6: 2080 | CBA6: 2081 | CBB6: 2082 | CBC6: 2083 | CBD6: 2084 | CBE6: 2085 | CBF6: 2086 | CBG6: 2087 | CBH6: 2088 | CBI6: 2089 | CBJ6: 2090 | CBK6: 2091 | CBL6: 2092 | CBM6: 2093 | CBN6: 2094 | CBO6: 2095 | CBP6: 2096 | CBQ6: 2097 | CBR6: 2098 | CBS6: 2099 | CBT6: 2100 | CBU6: 2101 | CBV6: 2102 | CBW6: 2103 | CBX6: 2104 | CBY6: 2105 | CBZ6: 2106 | CCA6: 2107 | CCB6: 2108 | CCC6: 2109 | CCD6: 2110 | CCE6: 2111 | CCF6: 2112 | CCG6: 2113 | CCH6: 2114 | CCI6: 2115 | CCJ6: 2116 | CCK6: 2117 | CCL6: 2118 | CCM6: 2119 | CCN6: 2120 | CCO6: 2121 | CCP6: 2122 | CCQ6: 2123 | CCR6: 2124 | CCS6: 2125 | CCT6: 2126 | CCU6: 2127 | CCV6: 2128 | CCW6: 2129 | CCX6: 2130 | CCY6: 2131 | CCZ6: 2132 | CDA6: 2133 | CDB6: 2134 | CDC6: 2135 | CDD6: 2136 | CDE6: 2137 | CDF6: 2138 | CDG6: 2139 | CDH6: 2140 | CDI6: 2141 | CDJ6: 2142 | CDK6: 2143 | CDL6: 2144 | CDM6: 2145 | CDN6: 2146 | CDO6: 2147 | CDP6: 2148 | CDQ6: 2149 | CDR6: 2150 | CDS6: 2151 | CDT6: 2152 | CDU6: 2153 | CDV6: 2154 | CDW6: 2155 | CDX6: 2156 | CDY6: 2157 | CDZ6: 2158 | CEA6: 2159 | CEB6: 2160 | CEC6: 2161 | CED6: 2162 | CEE6: 2163 | CEF6: 2164 | CEG6: 2165 | CEH6: 2166 | CEI6: 2167 | CEJ6: 2168 | CEK6: 2169 | CEL6: 2170 | CEM6: 2171 | CEN6: 2172 | CEO6: 2173 | CEP6: 2174 | CEQ6: 2175 | CER6: 2176 | CES6: 2177 | CET6: 2178 | CEU6: 2179 | CEV6: 2180 | CEW6: 2181 | CEX6: 2182 | CEY6: 2183 | CEZ6: 2184 | CFA6: 2185 | CFB6: 2186 | CFC6: 2187 | CFD6: 2188 | CFE6: 2189 | CFF6: 2190 | CFG6: 2191 | CFH6: 2192 | CFI6: 2193 | CFJ6: 2194 | CFK6: 2195 | CFL6: 2196 | CFM6: 2197 | CFN6: 2198 | CFO6: 2199 | CFP6: 2200 | CFQ6: 2201 | CFR6: 2202 | CFS6: 2203 | CFT6: 2204 | CFU6: 2205 | CFV6: 2206 | CFW6: 2207 | CFX6: 2208 | CFY6: 2209 | CFZ6: 2210 | CGA6: 2211 | CGB6: 2212 | CGC6: 2213 | CGD6: 2214 | CGE6: 2215 | CGF6: 2216 | CGG6: 2217 | CGH6: 2218 | CGI6: 2219 | CGJ6: 2220 | CGK6: 2221 | CGL6: 2222 | CGM6: 2223 | CGN6: 2224 | CGO6: 2225 | CGP6: 2226 | CGQ6: 2227 | CGR6: 2228 | CGS6: 2229 | CGT6: 2230 | CGU6: 2231 | CGV6: 2232 | CGW6: 2233 | CGX6: 2234 | CGY6: 2235 | CGZ6: 2236 | CHA6: 2237 | CHB6: 2238 | CHC6: 2239 | CHD6: 2240 | CHE6: 2241 | CHF6: 2242 | CHG6: 2243 | CHH6: 2244 | CHI6: 2245 | CHJ6: 2246 | CHK6: 2247 | CHL6: 2248 | CHM6: 2249 | CHN6: 2250 | CHO6: 2251 | CHP6: 2252 | CHQ6: 2253 | CHR6: 2254 | CHS6: 2255 | CHT6: 2256 | CHU6: 2257 | CHV6: 2258 | CHW6: 2259 | CHX6: 2260 | CHY6: 2261 | CHZ6: 2262 | CIA6: 2263 | CIB6: 2264 | CIC6: 2265 | CID6: 2266 | CIE6: 2267 | CIF6: 2268 | CIG6: 2269 | CIH6: 2270 | CII6: 2271 | CIJ6: 2272 | CIK6: 2273 | CIL6: 2274 | CIM6: 2275 | CIN6: 2276 | CIO6: 2277 | CIP6: 2278 | CIQ6: 2279 | CIR6: 2280 | CIS6: 2281 | CIT6: 2282 | CIU6: 2283 | CIV6: 2284 | CIW6: 2285 | CIX6: 2286 | CIY6: 2287 | CIZ6: 2288 | CJA6: 2289 | CJB6: 2290 | CJC6: 2291 | CJD6: 2292 | CJE6: 2293 | CJF6: 2294 | CJG6: 2295 | CJH6: 2296 | CJI6: 2297 | CJJ6: 2298 | CJK6: 2299 | CJL6: 2300 | CJM6: 2301 | CJN6: 2302 | CJO6: 2303 | CJP6: 2304 | CJQ6: 2305 | CJR6: 2306 | CJS6: 2307 | CJT6: 2308 | CJU6: 2309 | CJV6: 2310 | CJW6: 2311 | CJX6: 2312 | CJY6: 2313 | CJZ6: 2314 | CKA6: 2315 | CKB6: 2316 | CKC6: 2317 | CKD6: 2318 | CKE6: 2319 | CKF6: 2320 | CKG6: 2321 | CKH6: 2322 | CKI6: 2323 | CKJ6: 2324 | CKK6: 2325 | CKL6: 2326 | CKM6: 2327 | CKN6: 2328 | CKO6: 2329 | CKP6: 2330 | CKQ6: 2331 | CKR6: 2332 | CKS6: 2333 | CKT6: 2334 | CKU6: 2335 | CKV6: 2336 | CKW6: 2337 | CKX6: 2338 | CKY6: 2339 | CKZ6: 2340 | CLA6: 2341 | CLB6: 2342 | CLC6: 2343 | CLD6: 2344 | CLE6: 2345 | CLF6: 2346 | CLG6: 2347 | CLH6: 2348 | CLI6: 2349 | CLJ6: 2350 | CLK6: 2351 | CLL6: 2352 | CLM6: 2353 | CLN6: 2354 | CLO6: 2355 | CLP6: 2356 | CLQ6: 2357 | CLR6: 2358 | CLS6: 2359 | CLT6: 2360 | CLU6: 2361 | CLV6: 2362 | CLW6: 2363 | CLX6: 2364 | CLY6: 2365 | CLZ6: 2366 | CMA6: 2367 | CMB6: 2368 | CMC6: 2369 | CMD6: 2370 | CME6: 2371 | CMF6: 2372 | CMG6: 2373 | CMH6: 2374 | CMI6: 2375 | CMJ6: 2376 | CMK6: 2377 | CML6: 2378 | CMM6: 2379 | CMN6: 2380 | CMO6: 2381 | CMP6: 2382 | CMQ6: 2383 | CMR6: 2384 | CMS6: 2385 | CMT6: 2386 | CMU6: 2387 | CMV6: 2388 | CMW6: 2389 | CMX6: 2390 | CMY6: 2391 | CMZ6: 2392 | CNA6: 2393 | CNB6: 2394 | CNC6: 2395 | CND6: 2396 | CNE6: 2397 | CNF6: 2398 | CNG6: 2399 | CNH6: 2400 | CNI6: 2401 | CNJ6: 2402 | CNK6: 2403 | CNL6: 2404 | CNM6: 2405 | CNN6: 2406 | CNO6: 2407 | CNP6: 2408 | CNQ6: 2409 | CNR6: 2410 | CNS6: 2411 | CNT6: 2412 | CNU6: 2413 | CNV6: 2414 | CNW6: 2415 | CNX6: 2416 | CNY6: 2417 | CNZ6: 2418 | COA6: 2419 | COB6: 2420 | COC6: 2421 | COD6: 2422 | COE6: 2423 | COF6: 2424 | COG6: 2425 | COH6: 2426 | COI6: 2427 | COJ6: 2428 | COK6: 2429 | COL6: 2430 | COM6: 2431 | CON6: 2432 | COO6: 2433 | COP6: 2434 | COQ6: 2435 | COR6: 2436 | COS6: 2437 | COT6: 2438 | COU6: 2439 | COV6: 2440 | COW6: 2441 | COX6: 2442 | COY6: 2443 | COZ6: 2444 | CPA6: 2445 | CPB6: 2446 | CPC6: 2447 | CPD6: 2448 | CPE6: 2449 | CPF6: 2450 | CPG6: 2451 | CPH6: 2452 | CPI6: 2453 | CPJ6: 2454 | CPK6: 2455 | CPL6: 2456 | CPM6: 2457 | CPN6: 2458 | CPO6: 2459 | CPP6: 2460 | CPQ6: 2461 | CPR6: 2462 | CPS6: 2463 | CPT6: 2464 | CPU6: 2465 | CPV6: 2466 | CPW6: 2467 | CPX6: 2468 | CPY6: 2469 | CPZ6: 2470 | CQA6: 2471 | CQB6: 2472 | CQC6: 2473 | CQD6: 2474 | CQE6: 2475 | CQF6: 2476 | CQG6: 2477 | CQH6: 2478 | CQI6: 2479 | CQJ6: 2480 | CQK6: 2481 | CQL6: 2482 | CQM6: 2483 | CQN6: 2484 | CQO6: 2485 | CQP6: 2486 | CQQ6: 2487 | CQR6: 2488 | CQS6: 2489 | CQT6: 2490 | CQU6: 2491 | CQV6: 2492 | CQW6: 2493 | CQX6: 2494 | CQY6: 2495 | CQZ6: 2496 | CRA6: 2497 | CRB6: 2498 | CRC6: 2499 | CRD6: 2500 | CRE6: 2501 | CRF6: 2502 | CRG6: 2503 | CRH6: 2504 | CRI6: 2505 | CRJ6: 2506 | CRK6: 2507 | CRL6: 2508 | CRM6: 2509 | CRN6: 2510 | CRO6: 2511 | CRP6: 2512 | CRQ6: 2513 | CRR6: 2514 | CRS6: 2515 | CRT6: 2516 | CRU6: 2517 | CRV6: 2518 | CRW6: 2519 | CRX6: 2520 | CRY6: 2521 | CRZ6: 2522 | CSA6: 2523 | CSB6: 2524 | CSC6: 2525 | CSD6: 2526 | CSE6: 2527 | CSF6: 2528 | CSG6: 2529 | CSH6: 2530 | CSI6: 2531 | CSJ6: 2532 | CSK6: 2533 | CSL6: 2534 | CSM6: 2535 | CSN6: 2536 | CSO6: 2537 | CSP6: 2538 | CSQ6: 2539 | CSR6: 2540 | CSS6: 2541 | CST6: 2542 | CSU6: 2543 | CSV6: 2544 | CSW6: 2545 | CSX6: 2546 | CSY6: 2547 | CSZ6: 2548 | CTA6: 2549 | CTB6: 2550 | CTC6: 2551 | CTD6: 2552 | CTE6: 2553 | CTF6: 2554 | CTG6: 2555 | CTH6: 2556 | CTI6: 2557 | CTJ6: 2558 | CTK6: 2559 | CTL6: 2560 | CTM6: 2561 | CTN6: 2562 | CTO6: 2563 | CTP6: 2564 | CTQ6: 2565 | CTR6: 2566 | CTS6: 2567 | CTT6: 2568 | CTU6: 2569 | CTV6: 2570 | CTW6: 2571 | CTX6: 2572 | CTY6: 2573 | CTZ6: 2574 | CUA6: 2575 | CUB6: 2576 | CUC6: 2577 | CUD6: 2578 | CUE6: 2579 | CUF6: 2580 | CUG6: 2581 | CUH6: 2582 | CUI6: 2583 | CUJ6: 2584 | CUK6: 2585 | CUL6: 2586 | CUM6: 2587 | CUN6: 2588 | CUO6: 2589 | CUP6: 2590 | CUQ6: 2591 | CUR6: 2592 | CUS6: 2593 | CUT6: 2594 | CUU6: 2595 | CUV6: 2596 | CUW6: 2597 | CUX6: 2598 | CUY6: 2599 | CUZ6: 2600 | CVA6: 2601 | CVB6: 2602 | CVC6: 2603 | CVD6: 2604 | CVE6: 2605 | CVF6: 2606 | CVG6: 2607 | CVH6: 2608 | CVI6: 2609 | CVJ6: 2610 | CVK6: 2611 | CVL6: 2612 | CVM6: 2613 | CVN6: 2614 | CVO6: 2615 | CVP6: 2616 | CVQ6: 2617 | CVR6: 2618 | CVS6: 2619 | CVT6: 2620 | CVU6: 2621 | CVV6: 2622 | CVW6: 2623 | CVX6: 2624 | CVY6: 2625 | CVZ6: 2626 | CWA6: 2627 | CWB6: 2628 | CWC6: 2629 | CWD6: 2630 | CWE6: 2631 | CWF6: 2632 | CWG6: 2633 | CWH6: 2634 | CWI6: 2635 | CWJ6: 2636 | CWK6: 2637 | CWL6: 2638 | CWM6: 2639 | CWN6: 2640 | CWO6: 2641 | CWP6: 2642 | CWQ6: 2643 | CWR6: 2644 | CWS6: 2645 | CWT6: 2646 | CWU6: 2647 | CWV6: 2648 | CWW6: 2649 | CWX6: 2650 | CWY6: 2651 | CWZ6: 2652 | CXA6: 2653 | CXB6: 2654 | CXC6: 2655 | CXD6: 2656 | CXE6: 2657 | CXF6: 2658 | CXG6: 2659 | CXH6: 2660 | CXI6: 2661 | CXJ6: 2662 | CXK6: 2663 | CXL6: 2664 | CXM6: 2665 | CXN6: 2666 | CXO6: 2667 | CXP6: 2668 | CXQ6: 2669 | CXR6: 2670 | CXS6: 2671 | CXT6: 2672 | CXU6: 2673 | CXV6: 2674 | CXW6: 2675 | CXX6: 2676 | CXY6: 2677 | CXZ6: 2678 | CYA6: 2679 | CYB6: 2680 | CYC6: 2681 | CYD6: 2682 | CYE6: 2683 | CYF6: 2684 | CYG6: 2685 | CYH6: 2686 | CYI6: 2687 | CYJ6: 2688 | CYK6: 2689 | CYL6: 2690 | CYM6: 2691 | CYN6: 2692 | CYO6: 2693 | CYP6: 2694 | CYQ6: 2695 | CYR6: 2696 | CYS6: 2697 | CYT6: 2698 | CYU6: 2699 | CYV6: 2700 | CYW6: 2701 | CYX6: 2702 | CYY6: 2703 | CYZ6: 2704 | CZA6: 2705 | CZB6: 2706 | CZC6: 2707 | CZD6: 2708 | CZE6: 2709 | CZF6: 2710 | CZG6: 2711 | CZH6: 2712 | CZI6: 2713 | CZJ6: 2714 | CZK6: 2715 | CZL6: 2716 | CZM6: 2717 | CZN6: 2718 | CZO6: 2719 | CZP6: 2720 | CZQ6: 2721 | CZR6: 2722 | CZS6: 2723 | CZT6: 2724 | CZU6: 2725 | CZV6: 2726 | CZW6: 2727 | CZX6: 2728 | CZY6: 2729 | CZZ6: 2730 | DAA6: 2731 | DAB6: 2732 | DAC6: 2733 | DAD6: 2734 | DAE6: 2735 | DAF6: 2736 | DAG6: 2737 | DAH6: 2738 | DAI6: 2739 | DAJ6: 2740 | DAK6: 2741 | DAL6: 2742 | DAM6: 2743 | DAN6: 2744 | DAO6: 2745 | DAP6: 2746 | DAQ6: 2747 | DAR6: 2748 | DAS6: 2749 | DAT6: 2750 | DAU6: 2751 | DAV6: 2752 | DAW6: 2753 | DAX6: 2754 | DAY6: 2755 | DAZ6: 2756 | DBA6: 2757 | DBB6: 2758 | DBC6: 2759 | DBD6: 2760 | DBE6: 2761 | DBF6: 2762 | DBG6: 2763 | DBH6: 2764 | DBI6: 2765 | DBJ6: 2766 | DBK6: 2767 | DBL6: 2768 | DBM6: 2769 | DBN6: 2770 | DBO6: 2771 | DBP6: 2772 | DBQ6: 2773 | DBR6: 2774 | DBS6: 2775 | DBT6: 2776 | DBU6: 2777 | DBV6: 2778 | DBW6: 2779 | DBX6: 2780 | DBY6: 2781 | DBZ6: 2782 | DCA6: 2783 | DCB6: 2784 | DCC6: 2785 | DCD6: 2786 | DCE6: 2787 | DCF6: 2788 | DCG6: 2789 | DCH6: 2790 | DCI6: 2791 | DCJ6: 2792 | DCK6: 2793 | DCL6: 2794 | DCM6: 2795 | DCN6: 2796 | DCO6: 2797 | DCP6: 2798 | DCQ6: 2799 | DCR6: 2800 | DCS6: 2801 | DCT6: 2802 | DCU6: 2803 | DCV6: 2804 | DCW6: 2805 | DCX6: 2806 | DCY6: 2807 | DCZ6: 2808 | DDA6: 2809 | DDB6: 2810 | DDC6: 2811 | DDD6: 2812 | DDE6: 2813 | DDF6: 2814 | DDG6: 2815 | DDH6: 2816 | DDI6: 2817 | DDJ6: 2818 | DDK6: 2819 | DDL6: 2820 | DDM6: 2821 | DDN6: 2822 | DDO6: 2823 | DDP6: 2824 | DDQ6: 2825 | DDR6: 2826 | DDS6: 2827 | DDT6: 2828 | DDU6: 2829 | DDV6: 2830 | DDW6: 2831 | DDX6: 2832 | DDY6: 2833 | DDZ6: 2834 | DEA6: 2835 | DEB6: 2836 | DEC6: 2837 | DED6: 2838 | DEE6: 2839 | DEF6: 2840 | DEG6: 2841 | DEH6: 2842 | DEI6: 2843 | DEJ6: 2844 | DEK6: 2845 | DEL6: 2846 | DEM6: 2847 | DEN6: 2848 | DEO6: 2849 | DEP6: 2850 | DEQ6: 2851 | DER6: 2852 | DES6: 2853 | DET6: 2854 | DEU6: 2855 | DEV6: 2856 | DEW6: 2857 | DEX6: 2858 | DEY6: 2859 | DEZ6: 2860 | DFA6: 2861 | DFB6: 2862 | DFC6: 2863 | DFD6: 2864 | DFE6: 2865 | DFF6: 2866 | DFG6: 2867 | DFH6: 2868 | DFI6: 2869 | DFJ6: 2870 | DFK6: 2871 | DFL6: 2872 | DFM6: 2873 | DFN6: 2874 | DFO6: 2875 | DFP6: 2876 | DFQ6: 2877 | DFR6: 2878 | DFS6: 2879 | DFT6: 2880 | DFU6: 2881 | DFV6: 2882 | DFW6: 2883 | DFX6: 2884 | DFY6: 2885 | DFZ6: 2886 | DGA6: 2887 | DGB6: 2888 | DGC6: 2889 | DGD6: 2890 | DGE6: 2891 | DGF6: 2892 | DGG6: 2893 | DGH6: 2894 | DGI6: 2895 | DGJ6: 2896 | DGK6: 2897 | DGL6: 2898 | DGM6: 2899 | DGN6: 2900 | DGO6: 2901 | DGP6: 2902 | DGQ6: 2903 | DGR6: 2904 | DGS6: 2905 | DGT6: 2906 | DGU6: 2907 | DGV6: 2908 | DGW6: 2909 | DGX6: 2910 | DGY6: 2911 | DGZ6: 2912 | DHA6: 2913 | DHB6: 2914 | DHC6: 2915 | DHD6: 2916 | DHE6: 2917 | DHF6: 2918 | DHG6: 2919 | DHH6: 2920 | DHI6: 2921 | DHJ6: 2922 | DHK6: 2923 | DHL6: 2924 | DHM6: 2925 | DHN6: 2926 | DHO6: 2927 | DHP6: 2928 | DHQ6: 2929 | DHR6: 2930 | DHS6: 2931 | DHT6: 2932 | DHU6: 2933 | DHV6: 2934 | DHW6: 2935 | DHX6: 2936 | DHY6: 2937 | DHZ6: 2938 | DIA6: 2939 | DIB6: 2940 | DIC6: 2941 | DID6: 2942 | DIE6: 2943 | DIF6: 2944 | DIG6: 2945 | DIH6: 2946 | DII6: 2947 | DIJ6: 2948 | DIK6: 2949 | DIL6: 2950 | DIM6: 2951 | DIN6: 2952 | DIO6: 2953 | DIP6: 2954 | DIQ6: 2955 | DIR6: 2956 | DIS6: 2957 | DIT6: 2958 | DIU6: 2959 | DIV6: 2960 | DIW6: 2961 | DIX6: 2962 | DIY6: 2963 | DIZ6: 2964 | DJA6: 2965 | DJB6: 2966 | DJC6: 2967 | DJD6: 2968 | DJE6: 2969 | DJF6: 2970 | DJG6: 2971 | DJH6: 2972 | DJI6: 2973 | DJJ6: 2974 | DJK6: 2975 | DJL6: 2976 | DJM6: 2977 | DJN6: 2978 | DJO6: 2979 | DJP6: 2980 | DJQ6: 2981 | DJR6: 2982 | DJS6: 2983 | DJT6: 2984 | DJU6: 2985 | DJV6: 2986 | DJW6: 2987 | DJX6: 2988 | DJY6: 2989 | DJZ6: 2990 | DKA6: 2991 | DKB6: 2992 | DKC6: 2993 | DKD6: 2994 | DKE6: 2995 | DKF6: 2996 | DKG6: 2997 | DKH6: 2998 | DKI6: 2999 | DKJ6: 3000 | DKK6: 3001 | DKL6: 3002 | DKM6: 3003 | DKN6: 3004 | DKO6: 3005 | DKP6: 3006 | DKQ6: 3007 | DKR6: 3008 | DKS6: 3009 | DKT6: 3010 | DKU6: 3011 | DKV6: 3012 | DKW6: 3013 | DKX6: 3014 | DKY6: 3015 | DKZ6: 3016 | DLA6: 3017 | DLB6: 3018 | DLC6: 3019 | DLD6: 3020 | DLE6: 3021 | DLF6: 3022 | DLG6: 3023 | DLH6: 3024 | DLI6: 3025 | DLJ6: 3026 | DLK6: 3027 | DLL6: 3028 | DLM6: 3029 | DLN6: 3030 | DLO6: 3031 | DLP6: 3032 | DLQ6: 3033 | DLR6: 3034 | DLS6: 3035 | DLT6: 3036 | DLU6: 3037 | DLV6: 3038 | DLW6: 3039 | DLX6: 3040 | DLY6: 3041 | DLZ6: 3042 | DMA6: 3043 | DMB6: 3044 | DMC6: 3045 | DMD6: 3046 | DME6: 3047 | DMF6: 3048 | DMG6: 3049 | DMH6: 3050 | DMI6: 3051 | DMJ6: 3052 | DMK6: 3053 | DML6: 3054 | DMM6: 3055 | DMN6: 3056 | DMO6: 3057 | DMP6: 3058 | DMQ6: 3059 | DMR6: 3060 | DMS6: 3061 | DMT6: 3062 | DMU6: 3063 | DMV6: 3064 | DMW6: 3065 | DMX6: 3066 | DMY6: 3067 | DMZ6: 3068 | DNA6: 3069 | DNB6: 3070 | DNC6: 3071 | DND6: 3072 | DNE6: 3073 | DNF6: 3074 | DNG6: 3075 | DNH6: 3076 | DNI6: 3077 | DNJ6: 3078 | DNK6: 3079 | DNL6: 3080 | DNM6: 3081 | DNN6: 3082 | DNO6: 3083 | DNP6: 3084 | DNQ6: 3085 | DNR6: 3086 | DNS6: 3087 | DNT6: 3088 | DNU6: 3089 | DNV6: 3090 | DNW6: 3091 | DNX6: 3092 | DNY6: 3093 | DNZ6: 3094 | DOA6: 3095 | DOB6: 3096 | DOC6: 3097 | DOD6: 3098 | DOE6: 3099 | DOF6: 3100 | DOG6: 3101 | DOH6: 3102 | DOI6: 3103 | DOJ6: 3104 | DOK6: 3105 | DOL6: 3106 | DOM6: 3107 | DON6: 3108 | DOO6: 3109 | DOP6: 3110 | DOQ6: 3111 | DOR6: 3112 | DOS6: 3113 | DOT6: 3114 | DOU6: 3115 | DOV6: 3116 | DOW6: 3117 | DOX6: 3118 | DOY6: 3119 | DOZ6: 3120 | DPA6: 3121 | DPB6: 3122 | DPC6: 3123 | DPD6: 3124 | DPE6: 3125 | DPF6: 3126 | DPG6: 3127 | DPH6: 3128 | DPI6: 3129 | DPJ6: 3130 | DPK6: 3131 | DPL6: 3132 | DPM6: 3133 | DPN6: 3134 | DPO6: 3135 | DPP6: 3136 | DPQ6: 3137 | DPR6: 3138 | DPS6: 3139 | DPT6: 3140 | DPU6: 3141 | DPV6: 3142 | DPW6: 3143 | DPX6: 3144 | DPY6: 3145 | DPZ6: 3146 | DQA6: 3147 | DQB6: 3148 | DQC6: 3149 | DQD6: 3150 | DQE6: 3151 | DQF6: 3152 | DQG6: 3153 | DQH6: 3154 | DQI6: 3155 | DQJ6: 3156 | DQK6: 3157 | DQL6: 3158 | DQM6: 3159 | DQN6: 3160 | DQO6: 3161 | DQP6: 3162 | DQQ6: 3163 | DQR6: 3164 | DQS6: 3165 | DQT6: 3166 | DQU6: 3167 | DQV6: 3168 | DQW6: 3169 | DQX6: 3170 | DQY6: 3171 | DQZ6: 3172 | DRA6: 3173 | DRB6: 3174 | DRC6: 3175 | DRD6: 3176 | DRE6: 3177 | DRF6: 3178 | DRG6: 3179 | DRH6: 3180 | DRI6: 3181 | DRJ6: 3182 | DRK6: 3183 | DRL6: 3184 | DRM6: 3185 | DRN6: 3186 | DRO6: 3187 | DRP6: 3188 | DRQ6: 3189 | DRR6: 3190 | DRS6: 3191 | DRT6: 3192 | DRU6: 3193 | DRV6: 3194 | DRW6: 3195 | DRX6: 3196 | DRY6: 3197 | DRZ6: 3198 | DSA6: 3199 | DSB6: 3200 | DSC6: 3201 | DSD6: 3202 | DSE6: 3203 | DSF6: 3204 | DSG6: 3205 | DSH6: 3206 | DSI6: 3207 | DSJ6: 3208 | DSK6: 3209 | DSL6: 3210 | DSM6: 3211 | DSN6: 3212 | DSO6: 3213 | DSP6: 3214 | DSQ6: 3215 | DSR6: 3216 | DSS6: 3217 | DST6: 3218 | DSU6: 3219 | DSV6: 3220 | DSW6: 3221 | DSX6: 3222 | DSY6: 3223 | DSZ6: 3224 | DTA6: 3225 | DTB6: 3226 | DTC6: 3227 | DTD6: 3228 | DTE6: 3229 | DTF6: 3230 | DTG6: 3231 | DTH6: 3232 | DTI6: 3233 | DTJ6: 3234 | DTK6: 3235 | DTL6: 3236 | DTM6: 3237 | DTN6: 3238 | DTO6: 3239 | DTP6: 3240 | DTQ6: 3241 | DTR6: 3242 | DTS6: 3243 | DTT6: 3244 | DTU6: 3245 | DTV6: 3246 | DTW6: 3247 | DTX6: 3248 | DTY6: 3249 | DTZ6: 3250 | DUA6: 3251 | DUB6: 3252 | DUC6: 3253 | DUD6: 3254 | DUE6: 3255 | DUF6: 3256 | DUG6: 3257 | DUH6: 3258 | DUI6: 3259 | DUJ6: 3260 | DUK6: 3261 | DUL6: 3262 | DUM6: 3263 | DUN6: 3264 | DUO6: 3265 | DUP6: 3266 | DUQ6: 3267 | DUR6: 3268 | DUS6: 3269 | DUT6: 3270 | DUU6: 3271 | DUV6: 3272 | DUW6: 3273 | DUX6: 3274 | DUY6: 3275 | DUZ6: 3276 | DVA6: 3277 | DVB6: 3278 | DVC6: 3279 | DVD6: 3280 | DVE6: 3281 | DVF6: 3282 | DVG6: 3283 | DVH6: 3284 | DVI6: 3285 | DVJ6: 3286 | DVK6: 3287 | DVL6: 3288 | DVM6: 3289 | DVN6: 3290 | DVO6: 3291 | DVP6: 3292 | DVQ6: 3293 | DVR6: 3294 | DVS6: 3295 | DVT6: 3296 | DVU6: 3297 | DVV6: 3298 | DVW6: 3299 | DVX6: 3300 | DVY6: 3301 | DVZ6: 3302 | DWA6: 3303 | DWB6: 3304 | DWC6: 3305 | DWD6: 3306 | DWE6: 3307 | DWF6: 3308 | DWG6: 3309 | DWH6: 3310 | DWI6: 3311 | DWJ6: 3312 | DWK6: 3313 | DWL6: 3314 | DWM6: 3315 | DWN6: 3316 | DWO6: 3317 | DWP6: 3318 | DWQ6: 3319 | DWR6: 3320 | DWS6: 3321 | DWT6: 3322 | DWU6: 3323 | DWV6: 3324 | DWW6: 3325 | DWX6: 3326 | DWY6: 3327 | DWZ6: 3328 | DXA6: 3329 | DXB6: 3330 | DXC6: 3331 | DXD6: 3332 | DXE6: 3333 | DXF6: 3334 | DXG6: 3335 | DXH6: 3336 | DXI6: 3337 | DXJ6: 3338 | DXK6: 3339 | DXL6: 3340 | DXM6: 3341 | DXN6: 3342 | DXO6: 3343 | DXP6: 3344 | DXQ6: 3345 | DXR6: 3346 | DXS6: 3347 | DXT6: 3348 | DXU6: 3349 | DXV6: 3350 | DXW6: 3351 | DXX6: 3352 | DXY6: 3353 | DXZ6: 3354 | DYA6: 3355 | DYB6: 3356 | DYC6: 3357 | DYD6: 3358 | DYE6: 3359 | DYF6: 3360 | DYG6: 3361 | DYH6: 3362 | DYI6: 3363 | DYJ6: 3364 | DYK6: 3365 | DYL6: 3366 | DYM6: 3367 | DYN6: 3368 | DYO6: 3369 | DYP6: 3370 | DYQ6: 3371 | DYR6: 3372 | DYS6: 3373 | DYT6: 3374 | DYU6: 3375 | DYV6: 3376 | DYW6: 3377 | DYX6: 3378 | DYY6: 3379 | DYZ6: 3380 | DZA6: 3381 | DZB6: 3382 | DZC6: 3383 | DZD6: 3384 | DZE6: 3385 | DZF6: 3386 | DZG6: 3387 | DZH6: 3388 | DZI6: 3389 | DZJ6: 3390 | DZK6: 3391 | DZL6: 3392 | DZM6: 3393 | DZN6: 3394 | DZO6: 3395 | DZP6: 3396 | DZQ6: 3397 | DZR6: 3398 | DZS6: 3399 | DZT6: 3400 | DZU6: 3401 | DZV6: 3402 | DZW6: 3403 | DZX6: 3404 | DZY6: 3405 | DZZ6: 3406 | EAA6: 3407 | EAB6: 3408 | EAC6: 3409 | EAD6: 3410 | EAE6: 3411 | EAF6: 3412 | EAG6: 3413 | EAH6: 3414 | EAI6: 3415 | EAJ6: 3416 | EAK6: 3417 | EAL6: 3418 | EAM6: 3419 | EAN6: 3420 | EAO6: 3421 | EAP6: 3422 | EAQ6: 3423 | EAR6: 3424 | EAS6: 3425 | EAT6: 3426 | EAU6: 3427 | EAV6: 3428 | EAW6: 3429 | EAX6: 3430 | EAY6: 3431 | EAZ6: 3432 | EBA6: 3433 | EBB6: 3434 | EBC6: 3435 | EBD6: 3436 | EBE6: 3437 | EBF6: 3438 | EBG6: 3439 | EBH6: 3440 | EBI6: 3441 | EBJ6: 3442 | EBK6: 3443 | EBL6: 3444 | EBM6: 3445 | EBN6: 3446 | EBO6: 3447 | EBP6: 3448 | EBQ6: 3449 | EBR6: 3450 | EBS6: 3451 | EBT6: 3452 | EBU6: 3453 | EBV6: 3454 | EBW6: 3455 | EBX6: 3456 | EBY6: 3457 | EBZ6: 3458 | ECA6: 3459 | ECB6: 3460 | ECC6: 3461 | ECD6: 3462 | ECE6: 3463 | ECF6: 3464 | ECG6: 3465 | ECH6: 3466 | ECI6: 3467 | ECJ6: 3468 | ECK6: 3469 | ECL6: 3470 | ECM6: 3471 | ECN6: 3472 | ECO6: 3473 | ECP6: 3474 | ECQ6: 3475 | ECR6: 3476 | ECS6: 3477 | ECT6: 3478 | ECU6: 3479 | ECV6: 3480 | ECW6: 3481 | ECX6: 3482 | ECY6: 3483 | ECZ6: 3484 | EDA6: 3485 | EDB6: 3486 | EDC6: 3487 | EDD6: 3488 | EDE6: 3489 | EDF6: 3490 | EDG6: 3491 | EDH6: 3492 | EDI6: 3493 | EDJ6: 3494 | EDK6: 3495 | EDL6: 3496 | EDM6: 3497 | EDN6: 3498 | EDO6: 3499 | EDP6: 3500 | EDQ6: 3501 | EDR6: 3502 | EDS6: 3503 | EDT6: 3504 | EDU6: 3505 | EDV6: 3506 | EDW6: 3507 | EDX6: 3508 | EDY6: 3509 | EDZ6: 3510 | EEA6: 3511 | EEB6: 3512 | EEC6: 3513 | EED6: 3514 | EEE6: 3515 | EEF6: 3516 | EEG6: 3517 | EEH6: 3518 | EEI6: 3519 | EEJ6: 3520 | EEK6: 3521 | EEL6: 3522 | EEM6: 3523 | EEN6: 3524 | EEO6: 3525 | EEP6: 3526 | EEQ6: 3527 | EER6: 3528 | EES6: 3529 | EET6: 3530 | EEU6: 3531 | EEV6: 3532 | EEW6: 3533 | EEX6: 3534 | EEY6: 3535 | EEZ6: 3536 | EFA6: 3537 | EFB6: 3538 | EFC6: 3539 | EFD6: 3540 | EFE6: 3541 | EFF6: 3542 | EFG6: 3543 | EFH6: 3544 | EFI6: 3545 | EFJ6: 3546 | EFK6: 3547 | EFL6: 3548 | EFM6: 3549 | EFN6: 3550 | EFO6: 3551 | EFP6: 3552 | EFQ6: 3553 | EFR6: 3554 | EFS6: 3555 | EFT6: 3556 | EFU6: 3557 | EFV6: 3558 | EFW6: 3559 | EFX6: 3560 | EFY6: 3561 | EFZ6: 3562 | EGA6: 3563 | EGB6: 3564 | EGC6: 3565 | EGD6: 3566 | EGE6: 3567 | EGF6: 3568 | EGG6: 3569 | EGH6: 3570 | EGI6: 3571 | EGJ6: 3572 | EGK6: 3573 | EGL6: 3574 | EGM6: 3575 | EGN6: 3576 | EGO6: 3577 | EGP6: 3578 | EGQ6: 3579 | EGR6: 3580 | EGS6: 3581 | EGT6: 3582 | EGU6: 3583 | EGV6: 3584 | EGW6: 3585 | EGX6: 3586 | EGY6: 3587 | EGZ6: 3588 | EHA6: 3589 | EHB6: 3590 | EHC6: 3591 | EHD6: 3592 | EHE6: 3593 | EHF6: 3594 | EHG6: 3595 | EHH6: 3596 | EHI6: 3597 | EHJ6: 3598 | EHK6: 3599 | EHL6: 3600 | EHM6: 3601 | EHN6: 3602 | EHO6: 3603 | EHP6: 3604 | EHQ6: 3605 | EHR6: 3606 | EHS6: 3607 | EHT6: 3608 | EHU6: 3609 | EHV6: 3610 | EHW6: 3611 | EHX6: 3612 | EHY6: 3613 | EHZ6: 3614 | EIA6: 3615 | EIB6: 3616 | EIC6: 3617 | EID6: 3618 | EIE6: 3619 | EIF6: 3620 | EIG6: 3621 | EIH6: 3622 | EII6: 3623 | EIJ6: 3624 | EIK6: 3625 | EIL6: 3626 | EIM6: 3627 | EIN6: 3628 | EIO6: 3629 | EIP6: 3630 | EIQ6: 3631 | EIR6: 3632 | EIS6: 3633 | EIT6: 3634 | EIU6: 3635 | EIV6: 3636 | EIW6: 3637 | EIX6: 3638 | EIY6: 3639 | EIZ6: 3640 | EJA6: 3641 | EJB6: 3642 | EJC6: 3643 | EJD6: 3644 | EJE6: 3645 | EJF6: 3646 | EJG6: 3647 | EJH6: 3648 | EJI6: 3649 | EJJ6: 3650 | EJK6: 3651 | EJL6: 3652 | EJM6: 3653 | EJN6: 3654 | EJO6: 3655 | EJP6: 3656 | EJQ6: 3657 | EJR6: 3658 | EJS6: 3659 | EJT6: 3660 | EJU6: 3661 | EJV6: 3662 | EJW6: 3663 | EJX6: 3664 | EJY6: 3665 | EJZ6: 3666 | EKA6: 3667 | EKB6: 3668 | EKC6: 3669 | EKD6: 3670 | EKE6: 3671 | EKF6: 3672 | EKG6: 3673 | EKH6: 3674 | EKI6: 3675 | EKJ6: 3676 | EKK6: 3677 | EKL6: 3678 | EKM6: 3679 | EKN6: 3680 | EKO6: 3681 | EKP6: 3682 | EKQ6: 3683 | EKR6: 3684 | EKS6: 3685 | EKT6: 3686 | EKU6: 3687 | EKV6: 3688 | EKW6: 3689 | EKX6: 3690 | EKY6: 3691 | EKZ6: 3692 | ELA6: 3693 | ELB6: 3694 | ELC6: 3695 | ELD6: 3696 | ELE6: 3697 | ELF6: 3698 | ELG6: 3699 | ELH6: 3700 | ELI6: 3701 | ELJ6: 3702 | ELK6: 3703 | ELL6: 3704 | ELM6: 3705 | ELN6: 3706 | ELO6: 3707 | ELP6: 3708 | ELQ6: 3709 | ELR6: 3710 | ELS6: 3711 | ELT6: 3712 | ELU6: 3713 | ELV6: 3714 | ELW6: 3715 | ELX6: 3716 | ELY6: 3717 | ELZ6: 3718 | EMA6: 3719 | EMB6: 3720 | EMC6: 3721 | EMD6: 3722 | EME6: 3723 | EMF6: 3724 | EMG6: 3725 | EMH6: 3726 | EMI6: 3727 | EMJ6: 3728 | EMK6: 3729 | EML6: 3730 | EMM6: 3731 | EMN6: 3732 | EMO6: 3733 | EMP6: 3734 | EMQ6: 3735 | EMR6: 3736 | EMS6: 3737 | EMT6: 3738 | EMU6: 3739 | EMV6: 3740 | EMW6: 3741 | EMX6: 3742 | EMY6: 3743 | EMZ6: 3744 | ENA6: 3745 | ENB6: 3746 | ENC6: 3747 | END6: 3748 | ENE6: 3749 | ENF6: 3750 | ENG6: 3751 | ENH6: 3752 | ENI6: 3753 | ENJ6: 3754 | ENK6: 3755 | ENL6: 3756 | ENM6: 3757 | ENN6: 3758 | ENO6: 3759 | ENP6: 3760 | ENQ6: 3761 | ENR6: 3762 | ENS6: 3763 | ENT6: 3764 | ENU6: 3765 | ENV6: 3766 | ENW6: 3767 | ENX6: 3768 | ENY6: 3769 | ENZ6: 3770 | EOA6: 3771 | EOB6: 3772 | EOC6: 3773 | EOD6: 3774 | EOE6: 3775 | EOF6: 3776 | EOG6: 3777 | EOH6: 3778 | EOI6: 3779 | EOJ6: 3780 | EOK6: 3781 | EOL6: 3782 | EOM6: 3783 | EON6: 3784 | EOO6: 3785 | EOP6: 3786 | EOQ6: 3787 | EOR6: 3788 | EOS6: 3789 | EOT6: 3790 | EOU6: 3791 | EOV6: 3792 | EOW6: 3793 | EOX6: 3794 | EOY6: 3795 | EOZ6: 3796 | EPA6: 3797 | EPB6: 3798 | EPC6: 3799 | EPD6: 3800 | EPE6: 3801 | EPF6: 3802 | EPG6: 3803 | EPH6: 3804 | EPI6: 3805 | EPJ6: 3806 | EPK6: 3807 | EPL6: 3808 | EPM6: 3809 | EPN6: 3810 | EPO6: 3811 | EPP6: 3812 | EPQ6: 3813 | EPR6: 3814 | EPS6: 3815 | EPT6: 3816 | EPU6: 3817 | EPV6: 3818 | EPW6: 3819 | EPX6: 3820 | EPY6: 3821 | EPZ6: 3822 | EQA6: 3823 | EQB6: 3824 | EQC6: 3825 | EQD6: 3826 | EQE6: 3827 | EQF6: 3828 | EQG6: 3829 | EQH6: 3830 | EQI6: 3831 | EQJ6: 3832 | EQK6: 3833 | EQL6: 3834 | EQM6: 3835 | EQN6: 3836 | EQO6: 3837 | EQP6: 3838 | EQQ6: 3839 | EQR6: 3840 | EQS6: 3841 | EQT6: 3842 | EQU6: 3843 | EQV6: 3844 | EQW6: 3845 | EQX6: 3846 | EQY6: 3847 | EQZ6: 3848 | ERA6: 3849 | ERB6: 3850 | ERC6: 3851 | ERD6: 3852 | ERE6: 3853 | ERF6: 3854 | ERG6: 3855 | ERH6: 3856 | ERI6: 3857 | ERJ6: 3858 | ERK6: 3859 | ERL6: 3860 | ERM6: 3861 | ERN6: 3862 | ERO6: 3863 | ERP6: 3864 | ERQ6: 3865 | ERR6: 3866 | ERS6: 3867 | ERT6: 3868 | ERU6: 3869 | ERV6: 3870 | ERW6: 3871 | ERX6: 3872 | ERY6: 3873 | ERZ6: 3874 | ESA6: 3875 | ESB6: 3876 | ESC6: 3877 | ESD6: 3878 | ESE6: 3879 | ESF6: 3880 | ESG6: 3881 | ESH6: 3882 | ESI6: 3883 | ESJ6: 3884 | ESK6: 3885 | ESL6: 3886 | ESM6: 3887 | ESN6: 3888 | ESO6: 3889 | ESP6: 3890 | ESQ6: 3891 | ESR6: 3892 | ESS6: 3893 | EST6: 3894 | ESU6: 3895 | ESV6: 3896 | ESW6: 3897 | ESX6: 3898 | ESY6: 3899 | ESZ6: 3900 | ETA6: 3901 | ETB6: 3902 | ETC6: 3903 | ETD6: 3904 | ETE6: 3905 | ETF6: 3906 | ETG6: 3907 | ETH6: 3908 | ETI6: 3909 | ETJ6: 3910 | ETK6: 3911 | ETL6: 3912 | ETM6: 3913 | ETN6: 3914 | ETO6: 3915 | ETP6: 3916 | ETQ6: 3917 | ETR6: 3918 | ETS6: 3919 | ETT6: 3920 | ETU6: 3921 | ETV6: 3922 | ETW6: 3923 | ETX6: 3924 | ETY6: 3925 | ETZ6: 3926 | EUA6: 3927 | EUB6: 3928 | EUC6: 3929 | EUD6: 3930 | EUE6: 3931 | EUF6: 3932 | EUG6: 3933 | EUH6: 3934 | EUI6: 3935 | EUJ6: 3936 | EUK6: 3937 | EUL6: 3938 | EUM6: 3939 | EUN6: 3940 | EUO6: 3941 | EUP6: 3942 | EUQ6: 3943 | EUR6: 3944 | EUS6: 3945 | EUT6: 3946 | EUU6: 3947 | EUV6: 3948 | EUW6: 3949 | EUX6: 3950 | EUY6: 3951 | EUZ6: 3952 | EVA6: 3953 | EVB6: 3954 | EVC6: 3955 | EVD6: 3956 | EVE6: 3957 | EVF6: 3958 | EVG6: 3959 | EVH6: 3960 | EVI6: 3961 | EVJ6: 3962 | EVK6: 3963 | EVL6: 3964 | EVM6: 3965 | EVN6: 3966 | EVO6: 3967 | EVP6: 3968 | EVQ6: 3969 | EVR6: 3970 | EVS6: 3971 | EVT6: 3972 | EVU6: 3973 | EVV6: 3974 | EVW6: 3975 | EVX6: 3976 | EVY6: 3977 | EVZ6: 3978 | EWA6: 3979 | EWB6: 3980 | EWC6: 3981 | EWD6: 3982 | EWE6: 3983 | EWF6: 3984 | EWG6: 3985 | EWH6: 3986 | EWI6: 3987 | EWJ6: 3988 | EWK6: 3989 | EWL6: 3990 | EWM6: 3991 | EWN6: 3992 | EWO6: 3993 | EWP6: 3994 | EWQ6: 3995 | EWR6: 3996 | EWS6: 3997 | EWT6: 3998 | EWU6: 3999 | EWV6: 4000 | EWW6: 4001 | EWX6: 4002 | EWY6: 4003 | EWZ6: 4004 | EXA6: 4005 | EXB6: 4006 | EXC6: 4007 | EXD6: 4008 | EXE6: 4009 | EXF6: 4010 | EXG6: 4011 | EXH6: 4012 | EXI6: 4013 | EXJ6: 4014 | EXK6: 4015 | EXL6: 4016 | EXM6: 4017 | EXN6: 4018 | EXO6: 4019 | EXP6: 4020 | EXQ6: 4021

Sheet Sheet1
B3: ΜΗ ΔΙΔΑΚΤΙΚΟ ΠΡΟΣΩΠΙΚΟ
A4: 99 | B4: ΑΠΑΣΧΟΛΗΣΗ | D4: ΦΥΛΟ | F4: ΘΕΣΗ
B5: Πλήρης | C5: Μερική | D5: Αρρεν | E5: Θύλη | F5: Γραμματέας | G5: Κλητήρας | H5: Βιβλιοθ | I5: Ταμίας | J5: Καθαριστ | K5: Τεχνικός | L5: Συνοδός | M5: Άλλο
B6: =COUNTIF(ΣΤΟΙΧΕΙΑ!$J$563:$J$587,1) -> 0 | C6: =COUNTIF(ΣΤΟΙΧΕΙΑ!$J$563:$J$587,2) -> 0 | D6: =COUNTIF(ΣΤΟΙΧΕΙΑ!$E$563:$E$587,1) -> 0 | E6: =COUNTIF(ΣΤΟΙΧΕΙΑ!$E$563:$E$587,2) -> 0 | F6: =COUNTIF(ΣΤΟΙΧΕΙΑ!$I$563:$I$587,1) -> 0 | G6: =COUNTIF(ΣΤΟΙΧΕΙΑ!$I$563:$I$587,2) -> 0 | H6: =COUNTIF(ΣΤΟΙΧΕΙΑ!$I$563:$I$587,3) -> 0 | I6: =COUNTIF(ΣΤΟΙΧΕΙΑ!$I$563:$I$587,4) -> 0 | J6: =COUNTIF(ΣΤΟΙΧΕΙΑ!$I$563:$I$587,5) -> 0 | K6: =COUNTIF(ΣΤΟΙΧΕΙΑ!$I$563:$I$587,6) -> 0 | L6: =COUNTIF(ΣΤΟΙΧΕΙΑ!$I$563:$I$587,7) -> 0 | M6: =COUNTIF(ΣΤΟΙΧΕΙΑ!$I$563:$I$587,8) -> 0

Sheet Sheet2
N2: SETTINGS_vk
B3: ΝΑΙ | D3: ΕΣΠΕΡΙΝΟ ΓΥΜΝΑΣΙΟ ΛΕΥΚΩΣΙΑΣ | E3: 2301
B4: ΌΧΙ | D4: ΕΣΠΕΡΙΝΟ ΓΥΜΝΑΣΙΟ ΛΕΜΕΣΟΥ | E4: 5301 | H4: Θέση Εργασίας | I4: Κωδικός | N4: ΤΡΕΧΟΥΣΑ ΣΧΟΛΙΚΗ ΧΡΟΝΙΑ | O4: 2026 | P4: 2027 | Q4: =O4&"-"&P4 -> 2026-2027
D5: ΕΣΠΕΡΙΝΟ ΓΥΜΝΑΣΙΟ ΛΑΡΝΑΚΑΣ | E5: 4301 | H5: Γραμματέας | I5: 1 | N5: ΠΕΡΑΣΜΕΝΗ ΣΧΟΛΙΚΗ ΧΡΟΝΙΑ | O5: =O4-1 -> 2025 | P5: =P4-1 -> 2026 | Q5: =O5&"-"&P5 -> 2025-2026
D6: ΕΣΠΕΡΙΝΟ ΓΥΜΝΑΣΙΟ ΑΜΜΟΧΩΣΤΟΥ | E6: 3301 | H6: Κλητήρας | I6: 2 | N6: DEADLINE ΠΡΟΗΓΟΥΜΕΝΩΝ ΣΤΑΤΙΣΤΙΚΩΝ | O6: 13 Οκτωβρίου
D7: ΕΣΠΕΡΙΝΟ ΓΥΜΝΑΣΙΟ ΠΑΦΟΥ | E7: 6301 | H7: Βιβλιοθηκάριος | I7: 3
H8: Ταμίας | I8: 4
H9: Καθαρίστρια | I9: 5
H10: Τεχνικός | I10: 6
H11: Συνοδός | I11: 7
H12: Άλλο | I12: 8
